{"text_format":"3","workbook":"xlsx","n_sheets":8,"sheets":["Current Graphs","Voltage Graphs","Temperature Graph","Data Input","Graphs","TLM","Explanation","Sample Data"],"not_rendered":{"charts":4},"read":"whole","date_system":"1900"}

{"sheet":"Current Graphs","index":0,"n_rows":0,"n_cols":0,"rows_kept":0}

{"sheet":"Voltage Graphs","index":1,"n_rows":0,"n_cols":0,"rows_kept":0}

{"sheet":"Temperature Graph","index":2,"n_rows":0,"n_cols":0,"rows_kept":0}

{"sheet":"Data Input","index":3,"n_rows":72,"n_cols":1,"rows_kept":72}
["AMSAT"]
["hi hi 100 199 199 199 299 299 299 272 382 350 300 300 441 400 400 400 500 500 500 500 600 600 600 649"]
["AMSAT"]
["hi hi 100 199 199 199 299 299 299 273 379 350 300 300 441 400 400 400 500 500 500 500 600 600 600 649"]
["AMSAT"]
["hi hi 100 199 199 199 299 299 299 273 379 350 300 300 441 400 400 400 500 500 500 500 600 600 600 649"]
["AMSAT"]
["hi hi 100 199 199 199 299 299 299 274 379 350 300 300 441 400 400 400 500 500 500 500 600 600 600 649"]
["AMSAT"]
["hi hi 100 199 199 199 299 299 299 273 379 350 300 300 441 400 400 400 500 500 500 500 600 600 600 649"]
["AMSAT"]
["hi hi 100 199 199 199 299 299 299 273 379 350 300 300 442 400 400 400 500 500 500 500 600 600 600 651"]
["AMSAT"]
["hi hi 100 199 199 199 299 299 299 273 379 350 300 300 441 400 400 400 500 500 500 500 600 600 600 651"]
["AMSAT"]
["hi hi 100 199 199 199 299 299 299 273 379 350 300 300 441 400 400 400 500 500 500 500 600 600 600 649"]
["AMSAT"]
["hi hi 100 199 199 199 299 299 299 274 378 350 300 300 441 400 400 400 500 500 500 500 600 600 600 651"]
["AMSAT"]
["hi hi 100 199 199 199 299 299 299 274 377 350 300 300 442 400 400 400 500 500 500 500 600 600 600 650"]
["AMSAT"]
["hi hi 100 199 199 199 299 299 299 275 376 350 300 300 442 400 400 400 500 500 500 500 600 600 600 649"]
["AMSAT"]
["hi hi 100 199 199 199 299 299 299 276 376 350 300 300 441 400 400 400 500 500 500 500 600 600 600 650"]
["AMSAT"]
["hi hi 100 199 199 199 299 299 299 277 375 350 300 300 442 400 400 400 500 500 500 500 600 600 600 649"]
["AMSAT"]
["hi hi 100 199 199 199 299 299 299 276 374 350 300 300 442 400 400 400 500 500 500 500 600 600 600 649"]
["AMSAT"]
["hi hi 100 199 199 199 299 299 299 277 374 350 300 300 441 400 400 400 500 500 500 500 600 600 600 649"]
["AMSAT"]
["hi hi 100 199 199 199 299 299 299 277 374 350 300 300 444 400 400 400 500 500 500 500 600 600 600 651"]
["AMSAT"]
["hi hi 100 199 198 199 285 299 299 255 374 350 300 300 444 400 400 400 500 500 500 500 600 600 600 651"]
["AMSAT"]
["hi hi 100 199 188 199 288 298 299 255 374 350 300 300 443 400 400 400 500 500 500 500 600 600 600 651"]
["AMSAT"]
["hi hi 100 199 182 199 293 298 299 255 374 350 300 300 443 400 400 400 500 500 500 500 600 600 600 651"]
["AMSAT"]
["hi hi 100 199 181 197 299 299 299 253 374 350 300 300 443 400 400 400 500 500 500 500 600 600 600 649"]
["AMSAT"]
["hi hi 100 199 185 190 299 299 299 255 374 350 300 300 442 400 400 400 500 500 500 500 600 600 600 651"]
["AMSAT"]
["hi hi 100 199 193 186 299 299 299 254 374 350 300 300 442 400 400 400 500 500 500 500 600 600 600 650"]
["AMSAT"]
["hi hi 100 196 199 185 299 299 298 254 374 350 300 300 442 400 400 400 500 500 500 500 600 600 600 650"]
["AMSAT"]
["hi hi 100 187 199 188 299 299 299 254 374 350 300 300 442 400 400 400 500 500 500 500 600 600 600 650"]
["AMSAT"]
["hi hi 100 182 199 195 299 299 298 254 374 350 300 300 441 400 400 400 500 500 500 500 600 600 600 650"]
["AMSAT"]
["hi hi 100 181 199 199 296 299 299 254 374 350 300 300 441 400 400 400 500 500 500 500 600 600 600 650"]
["AMSAT"]
["hi hi 100 186 199 199 289 299 299 255 374 350 300 300 441 400 400 400 500 500 500 500 600 600 600 649"]
["AMSAT"]
["hi hi 100 194 199 199 285 299 299 255 374 350 300 300 441 400 400 400 500 500 500 500 600 600 600 649"]
["AMSAT"]
["hi hi 100 199 194 199 286 298 299 255 374 350 300 300 440 400 400 400 500 500 500 500 600 600 600 650"]
["AMSAT"]
["hi hi 100 199 186 199 289 298 299 255 374 350 300 300 440 400 400 400 500 500 500 500 600 600 600 649"]
["AMSAT"]
["hi hi 100 199 181 199 296 298 299 254 374 350 300 300 441 400 400 400 500 500 500 500 600 600 600 650"]
["AMSAT"]
["hi hi 100 199 182 195 299 299 299 255 374 350 300 300 441 400 400 400 500 500 500 500 600 600 600 651"]
["AMSAT"]
["hi hi 100 199 187 188 299 299 299 255 374 350 300 300 440 400 400 400 500 500 500 500 600 600 600 649"]
["AMSAT"]
["hi hi 100 199 196 185 299 299 298 255 374 350 300 300 439 400 400 400 500 500 500 500 600 600 600 649"]
["AMSAT"]
["hi hi 100 193 199 186 299 299 299 254 374 350 300 300 439 400 400 400 500 500 500 500 600 600 600 649"]
["AMSAT"]
["hi hi 100 185 199 190 299 299 298 254 374 350 300 300 438 400 400 400 500 500 500 500 600 600 600 650"]

{"sheet":"Graphs","index":4,"n_rows":260,"n_cols":10,"rows_kept":260}
["Frame","+X Current","-X Current","+Y Current","-Y Current","+Z Current","-Z Current","Battery Current","Temp","Battery Voltage"]
[1,{"$f":"IFERROR(TLM!$H:$H,\"\")","v":0},{"$f":"IFERROR(TLM!$L:$L,\"\")","v":0},{"$f":"IFERROR(TLM!$P:$P,\"\")","v":0},{"$f":"IFERROR(TLM!$T:$T,\"\")","v":0},{"$f":"IFERROR(TLM!$X:$X,\"\")","v":0},{"$f":"IFERROR(TLM!$AB:$AB,\"\")","v":0},{"$f":"IFERROR(TLM!AF:AF,\"\")","v":220},{"$f":"IFERROR(TLM!AZ:AZ,\"\")","v":35.12},{"$f":"IFERROR(TLM!AJ:AJ,\"\")","v":3.8000000000000007}]
[{"$f":"IF(B3<>\"\",A2+1,\"\")","v":2},{"$f":"IFERROR(TLM!$H:$H,\"\")","v":0},{"$f":"IFERROR(TLM!$L:$L,\"\")","v":0},{"$f":"IFERROR(TLM!$P:$P,\"\")","v":0},{"$f":"IFERROR(TLM!$T:$T,\"\")","v":0},{"$f":"IFERROR(TLM!$X:$X,\"\")","v":0},{"$f":"IFERROR(TLM!$AB:$AB,\"\")","v":0},{"$f":"IFERROR(TLM!AF:AF,\"\")","v":230},{"$f":"IFERROR(TLM!AZ:AZ,\"\")","v":35.12},{"$f":"IFERROR(TLM!AJ:AJ,\"\")","v":3.5}]
[3,{"$f":"IFERROR(TLM!$H:$H,\"\")","v":0},{"$f":"IFERROR(TLM!$L:$L,\"\")","v":0},{"$f":"IFERROR(TLM!$P:$P,\"\")","v":0},{"$f":"IFERROR(TLM!$T:$T,\"\")","v":0},{"$f":"IFERROR(TLM!$X:$X,\"\")","v":0},{"$f":"IFERROR(TLM!$AB:$AB,\"\")","v":0},{"$f":"IFERROR(TLM!AF:AF,\"\")","v":230},{"$f":"IFERROR(TLM!AZ:AZ,\"\")","v":35.12},{"$f":"IFERROR(TLM!AJ:AJ,\"\")","v":3.5}]
[4,{"$f":"IFERROR(TLM!$H:$H,\"\")","v":0},{"$f":"IFERROR(TLM!$L:$L,\"\")","v":0},{"$f":"IFERROR(TLM!$P:$P,\"\")","v":0},{"$f":"IFERROR(TLM!$T:$T,\"\")","v":0},{"$f":"IFERROR(TLM!$X:$X,\"\")","v":0},{"$f":"IFERROR(TLM!$AB:$AB,\"\")","v":0},{"$f":"IFERROR(TLM!AF:AF,\"\")","v":240},{"$f":"IFERROR(TLM!AZ:AZ,\"\")","v":35.12},{"$f":"IFERROR(TLM!AJ:AJ,\"\")","v":3.5}]
[5,{"$f":"IFERROR(TLM!$H:$H,\"\")","v":0},{"$f":"IFERROR(TLM!$L:$L,\"\")","v":0},{"$f":"IFERROR(TLM!$P:$P,\"\")","v":0},{"$f":"IFERROR(TLM!$T:$T,\"\")","v":0},{"$f":"IFERROR(TLM!$X:$X,\"\")","v":0},{"$f":"IFERROR(TLM!$AB:$AB,\"\")","v":0},{"$f":"IFERROR(TLM!AF:AF,\"\")","v":230},{"$f":"IFERROR(TLM!AZ:AZ,\"\")","v":35.12},{"$f":"IFERROR(TLM!AJ:AJ,\"\")","v":3.5}]
[6,{"$f":"IFERROR(TLM!$H:$H,\"\")","v":0},{"$f":"IFERROR(TLM!$L:$L,\"\")","v":0},{"$f":"IFERROR(TLM!$P:$P,\"\")","v":0},{"$f":"IFERROR(TLM!$T:$T,\"\")","v":0},{"$f":"IFERROR(TLM!$X:$X,\"\")","v":0},{"$f":"IFERROR(TLM!$AB:$AB,\"\")","v":0},{"$f":"IFERROR(TLM!AF:AF,\"\")","v":230},{"$f":"IFERROR(TLM!AZ:AZ,\"\")","v":33.64},{"$f":"IFERROR(TLM!AJ:AJ,\"\")","v":3.5}]
[7,{"$f":"IFERROR(TLM!$H:$H,\"\")","v":0},{"$f":"IFERROR(TLM!$L:$L,\"\")","v":0},{"$f":"IFERROR(TLM!$P:$P,\"\")","v":0},{"$f":"IFERROR(TLM!$T:$T,\"\")","v":0},{"$f":"IFERROR(TLM!$X:$X,\"\")","v":0},{"$f":"IFERROR(TLM!$AB:$AB,\"\")","v":0},{"$f":"IFERROR(TLM!AF:AF,\"\")","v":230},{"$f":"IFERROR(TLM!AZ:AZ,\"\")","v":35.12},{"$f":"IFERROR(TLM!AJ:AJ,\"\")","v":3.5}]
[8,{"$f":"IFERROR(TLM!$H:$H,\"\")","v":0},{"$f":"IFERROR(TLM!$L:$L,\"\")","v":0},{"$f":"IFERROR(TLM!$P:$P,\"\")","v":0},{"$f":"IFERROR(TLM!$T:$T,\"\")","v":0},{"$f":"IFERROR(TLM!$X:$X,\"\")","v":0},{"$f":"IFERROR(TLM!$AB:$AB,\"\")","v":0},{"$f":"IFERROR(TLM!AF:AF,\"\")","v":230},{"$f":"IFERROR(TLM!AZ:AZ,\"\")","v":35.12},{"$f":"IFERROR(TLM!AJ:AJ,\"\")","v":3.5}]
[9,{"$f":"IFERROR(TLM!$H:$H,\"\")","v":0},{"$f":"IFERROR(TLM!$L:$L,\"\")","v":0},{"$f":"IFERROR(TLM!$P:$P,\"\")","v":0},{"$f":"IFERROR(TLM!$T:$T,\"\")","v":0},{"$f":"IFERROR(TLM!$X:$X,\"\")","v":0},{"$f":"IFERROR(TLM!$AB:$AB,\"\")","v":0},{"$f":"IFERROR(TLM!AF:AF,\"\")","v":240},{"$f":"IFERROR(TLM!AZ:AZ,\"\")","v":35.12},{"$f":"IFERROR(TLM!AJ:AJ,\"\")","v":3.4000000000000004}]
[10,{"$f":"IFERROR(TLM!$H:$H,\"\")","v":0},{"$f":"IFERROR(TLM!$L:$L,\"\")","v":0},{"$f":"IFERROR(TLM!$P:$P,\"\")","v":0},{"$f":"IFERROR(TLM!$T:$T,\"\")","v":0},{"$f":"IFERROR(TLM!$X:$X,\"\")","v":0},{"$f":"IFERROR(TLM!$AB:$AB,\"\")","v":0},{"$f":"IFERROR(TLM!AF:AF,\"\")","v":240},{"$f":"IFERROR(TLM!AZ:AZ,\"\")","v":33.64},{"$f":"IFERROR(TLM!AJ:AJ,\"\")","v":3.3}]
[11,{"$f":"IFERROR(TLM!$H:$H,\"\")","v":0},{"$f":"IFERROR(TLM!$L:$L,\"\")","v":0},{"$f":"IFERROR(TLM!$P:$P,\"\")","v":0},{"$f":"IFERROR(TLM!$T:$T,\"\")","v":0},{"$f":"IFERROR(TLM!$X:$X,\"\")","v":0},{"$f":"IFERROR(TLM!$AB:$AB,\"\")","v":0},{"$f":"IFERROR(TLM!AF:AF,\"\")","v":250},{"$f":"IFERROR(TLM!AZ:AZ,\"\")","v":33.64},{"$f":"IFERROR(TLM!AJ:AJ,\"\")","v":3.2}]
[12,{"$f":"IFERROR(TLM!$H:$H,\"\")","v":0},{"$f":"IFERROR(TLM!$L:$L,\"\")","v":0},{"$f":"IFERROR(TLM!$P:$P,\"\")","v":0},{"$f":"IFERROR(TLM!$T:$T,\"\")","v":0},{"$f":"IFERROR(TLM!$X:$X,\"\")","v":0},{"$f":"IFERROR(TLM!$AB:$AB,\"\")","v":0},{"$f":"IFERROR(TLM!AF:AF,\"\")","v":260},{"$f":"IFERROR(TLM!AZ:AZ,\"\")","v":35.12},{"$f":"IFERROR(TLM!AJ:AJ,\"\")","v":3.2}]
[13,{"$f":"IFERROR(TLM!$H:$H,\"\")","v":0},{"$f":"IFERROR(TLM!$L:$L,\"\")","v":0},{"$f":"IFERROR(TLM!$P:$P,\"\")","v":0},{"$f":"IFERROR(TLM!$T:$T,\"\")","v":0},{"$f":"IFERROR(TLM!$X:$X,\"\")","v":0},{"$f":"IFERROR(TLM!$AB:$AB,\"\")","v":0},{"$f":"IFERROR(TLM!AF:AF,\"\")","v":270},{"$f":"IFERROR(TLM!AZ:AZ,\"\")","v":33.64},{"$f":"IFERROR(TLM!AJ:AJ,\"\")","v":3.0999999999999996}]
[14,{"$f":"IFERROR(TLM!$H:$H,\"\")","v":0},{"$f":"IFERROR(TLM!$L:$L,\"\")","v":0},{"$f":"IFERROR(TLM!$P:$P,\"\")","v":0},{"$f":"IFERROR(TLM!$T:$T,\"\")","v":0},{"$f":"IFERROR(TLM!$X:$X,\"\")","v":0},{"$f":"IFERROR(TLM!$AB:$AB,\"\")","v":0},{"$f":"IFERROR(TLM!AF:AF,\"\")","v":260},{"$f":"IFERROR(TLM!AZ:AZ,\"\")","v":33.64},{"$f":"IFERROR(TLM!AJ:AJ,\"\")","v":3}]
[15,{"$f":"IFERROR(TLM!$H:$H,\"\")","v":0},{"$f":"IFERROR(TLM!$L:$L,\"\")","v":0},{"$f":"IFERROR(TLM!$P:$P,\"\")","v":0},{"$f":"IFERROR(TLM!$T:$T,\"\")","v":0},{"$f":"IFERROR(TLM!$X:$X,\"\")","v":0},{"$f":"IFERROR(TLM!$AB:$AB,\"\")","v":0},{"$f":"IFERROR(TLM!AF:AF,\"\")","v":270},{"$f":"IFERROR(TLM!AZ:AZ,\"\")","v":35.12},{"$f":"IFERROR(TLM!AJ:AJ,\"\")","v":3}]
[16,{"$f":"IFERROR(TLM!$H:$H,\"\")","v":0},{"$f":"IFERROR(TLM!$L:$L,\"\")","v":0},{"$f":"IFERROR(TLM!$P:$P,\"\")","v":0},{"$f":"IFERROR(TLM!$T:$T,\"\")","v":0},{"$f":"IFERROR(TLM!$X:$X,\"\")","v":0},{"$f":"IFERROR(TLM!$AB:$AB,\"\")","v":0},{"$f":"IFERROR(TLM!AF:AF,\"\")","v":270},{"$f":"IFERROR(TLM!AZ:AZ,\"\")","v":30.679999999999993},{"$f":"IFERROR(TLM!AJ:AJ,\"\")","v":3}]
[17,{"$f":"IFERROR(TLM!$H:$H,\"\")","v":0},{"$f":"IFERROR(TLM!$L:$L,\"\")","v":10},{"$f":"IFERROR(TLM!$P:$P,\"\")","v":0},{"$f":"IFERROR(TLM!$T:$T,\"\")","v":140},{"$f":"IFERROR(TLM!$X:$X,\"\")","v":0},{"$f":"IFERROR(TLM!$AB:$AB,\"\")","v":0},{"$f":"IFERROR(TLM!AF:AF,\"\")","v":50},{"$f":"IFERROR(TLM!AZ:AZ,\"\")","v":30.679999999999993},{"$f":"IFERROR(TLM!AJ:AJ,\"\")","v":3}]
[18,{"$f":"IFERROR(TLM!$H:$H,\"\")","v":0},{"$f":"IFERROR(TLM!$L:$L,\"\")","v":110},{"$f":"IFERROR(TLM!$P:$P,\"\")","v":0},{"$f":"IFERROR(TLM!$T:$T,\"\")","v":110},{"$f":"IFERROR(TLM!$X:$X,\"\")","v":10},{"$f":"IFERROR(TLM!$AB:$AB,\"\")","v":0},{"$f":"IFERROR(TLM!AF:AF,\"\")","v":50},{"$f":"IFERROR(TLM!AZ:AZ,\"\")","v":32.16},{"$f":"IFERROR(TLM!AJ:AJ,\"\")","v":3}]
[19,{"$f":"IFERROR(TLM!$H:$H,\"\")","v":0},{"$f":"IFERROR(TLM!$L:$L,\"\")","v":170},{"$f":"IFERROR(TLM!$P:$P,\"\")","v":0},{"$f":"IFERROR(TLM!$T:$T,\"\")","v":60},{"$f":"IFERROR(TLM!$X:$X,\"\")","v":10},{"$f":"IFERROR(TLM!$AB:$AB,\"\")","v":0},{"$f":"IFERROR(TLM!AF:AF,\"\")","v":50},{"$f":"IFERROR(TLM!AZ:AZ,\"\")","v":32.16},{"$f":"IFERROR(TLM!AJ:AJ,\"\")","v":3}]
[20,{"$f":"IFERROR(TLM!$H:$H,\"\")","v":0},{"$f":"IFERROR(TLM!$L:$L,\"\")","v":180},{"$f":"IFERROR(TLM!$P:$P,\"\")","v":20},{"$f":"IFERROR(TLM!$T:$T,\"\")","v":0},{"$f":"IFERROR(TLM!$X:$X,\"\")","v":0},{"$f":"IFERROR(TLM!$AB:$AB,\"\")","v":0},{"$f":"IFERROR(TLM!AF:AF,\"\")","v":30},{"$f":"IFERROR(TLM!AZ:AZ,\"\")","v":32.16},{"$f":"IFERROR(TLM!AJ:AJ,\"\")","v":3}]
[21,{"$f":"IFERROR(TLM!$H:$H,\"\")","v":0},{"$f":"IFERROR(TLM!$L:$L,\"\")","v":140},{"$f":"IFERROR(TLM!$P:$P,\"\")","v":90},{"$f":"IFERROR(TLM!$T:$T,\"\")","v":0},{"$f":"IFERROR(TLM!$X:$X,\"\")","v":0},{"$f":"IFERROR(TLM!$AB:$AB,\"\")","v":0},{"$f":"IFERROR(TLM!AF:AF,\"\")","v":50},{"$f":"IFERROR(TLM!AZ:AZ,\"\")","v":33.64},{"$f":"IFERROR(TLM!AJ:AJ,\"\")","v":3}]
[22,{"$f":"IFERROR(TLM!$H:$H,\"\")","v":0},{"$f":"IFERROR(TLM!$L:$L,\"\")","v":60},{"$f":"IFERROR(TLM!$P:$P,\"\")","v":130},{"$f":"IFERROR(TLM!$T:$T,\"\")","v":0},{"$f":"IFERROR(TLM!$X:$X,\"\")","v":0},{"$f":"IFERROR(TLM!$AB:$AB,\"\")","v":0},{"$f":"IFERROR(TLM!AF:AF,\"\")","v":40},{"$f":"IFERROR(TLM!AZ:AZ,\"\")","v":33.64},{"$f":"IFERROR(TLM!AJ:AJ,\"\")","v":3}]
[23,{"$f":"IFERROR(TLM!$H:$H,\"\")","v":30},{"$f":"IFERROR(TLM!$L:$L,\"\")","v":0},{"$f":"IFERROR(TLM!$P:$P,\"\")","v":140},{"$f":"IFERROR(TLM!$T:$T,\"\")","v":0},{"$f":"IFERROR(TLM!$X:$X,\"\")","v":0},{"$f":"IFERROR(TLM!$AB:$AB,\"\")","v":10},{"$f":"IFERROR(TLM!AF:AF,\"\")","v":40},{"$f":"IFERROR(TLM!AZ:AZ,\"\")","v":33.64},{"$f":"IFERROR(TLM!AJ:AJ,\"\")","v":3}]
[24,{"$f":"IFERROR(TLM!$H:$H,\"\")","v":120},{"$f":"IFERROR(TLM!$L:$L,\"\")","v":0},{"$f":"IFERROR(TLM!$P:$P,\"\")","v":110},{"$f":"IFERROR(TLM!$T:$T,\"\")","v":0},{"$f":"IFERROR(TLM!$X:$X,\"\")","v":0},{"$f":"IFERROR(TLM!$AB:$AB,\"\")","v":0},{"$f":"IFERROR(TLM!AF:AF,\"\")","v":40},{"$f":"IFERROR(TLM!AZ:AZ,\"\")","v":33.64},{"$f":"IFERROR(TLM!AJ:AJ,\"\")","v":3}]
[25,{"$f":"IFERROR(TLM!$H:$H,\"\")","v":170},{"$f":"IFERROR(TLM!$L:$L,\"\")","v":0},{"$f":"IFERROR(TLM!$P:$P,\"\")","v":40},{"$f":"IFERROR(TLM!$T:$T,\"\")","v":0},{"$f":"IFERROR(TLM!$X:$X,\"\")","v":0},{"$f":"IFERROR(TLM!$AB:$AB,\"\")","v":10},{"$f":"IFERROR(TLM!AF:AF,\"\")","v":40},{"$f":"IFERROR(TLM!AZ:AZ,\"\")","v":35.12},{"$f":"IFERROR(TLM!AJ:AJ,\"\")","v":3}]
[26,{"$f":"IFERROR(TLM!$H:$H,\"\")","v":180},{"$f":"IFERROR(TLM!$L:$L,\"\")","v":0},{"$f":"IFERROR(TLM!$P:$P,\"\")","v":0},{"$f":"IFERROR(TLM!$T:$T,\"\")","v":30},{"$f":"IFERROR(TLM!$X:$X,\"\")","v":0},{"$f":"IFERROR(TLM!$AB:$AB,\"\")","v":0},{"$f":"IFERROR(TLM!AF:AF,\"\")","v":40},{"$f":"IFERROR(TLM!AZ:AZ,\"\")","v":35.12},{"$f":"IFERROR(TLM!AJ:AJ,\"\")","v":3}]
[27,{"$f":"IFERROR(TLM!$H:$H,\"\")","v":130},{"$f":"IFERROR(TLM!$L:$L,\"\")","v":0},{"$f":"IFERROR(TLM!$P:$P,\"\")","v":0},{"$f":"IFERROR(TLM!$T:$T,\"\")","v":100},{"$f":"IFERROR(TLM!$X:$X,\"\")","v":0},{"$f":"IFERROR(TLM!$AB:$AB,\"\")","v":0},{"$f":"IFERROR(TLM!AF:AF,\"\")","v":50},{"$f":"IFERROR(TLM!AZ:AZ,\"\")","v":35.12},{"$f":"IFERROR(TLM!AJ:AJ,\"\")","v":3}]
[28,{"$f":"IFERROR(TLM!$H:$H,\"\")","v":50},{"$f":"IFERROR(TLM!$L:$L,\"\")","v":0},{"$f":"IFERROR(TLM!$P:$P,\"\")","v":0},{"$f":"IFERROR(TLM!$T:$T,\"\")","v":140},{"$f":"IFERROR(TLM!$X:$X,\"\")","v":0},{"$f":"IFERROR(TLM!$AB:$AB,\"\")","v":0},{"$f":"IFERROR(TLM!AF:AF,\"\")","v":50},{"$f":"IFERROR(TLM!AZ:AZ,\"\")","v":35.12},{"$f":"IFERROR(TLM!AJ:AJ,\"\")","v":3}]
[29,{"$f":"IFERROR(TLM!$H:$H,\"\")","v":0},{"$f":"IFERROR(TLM!$L:$L,\"\")","v":50},{"$f":"IFERROR(TLM!$P:$P,\"\")","v":0},{"$f":"IFERROR(TLM!$T:$T,\"\")","v":130},{"$f":"IFERROR(TLM!$X:$X,\"\")","v":10},{"$f":"IFERROR(TLM!$AB:$AB,\"\")","v":0},{"$f":"IFERROR(TLM!AF:AF,\"\")","v":50},{"$f":"IFERROR(TLM!AZ:AZ,\"\")","v":36.599999999999994},{"$f":"IFERROR(TLM!AJ:AJ,\"\")","v":3}]
[30,{"$f":"IFERROR(TLM!$H:$H,\"\")","v":0},{"$f":"IFERROR(TLM!$L:$L,\"\")","v":130},{"$f":"IFERROR(TLM!$P:$P,\"\")","v":0},{"$f":"IFERROR(TLM!$T:$T,\"\")","v":100},{"$f":"IFERROR(TLM!$X:$X,\"\")","v":10},{"$f":"IFERROR(TLM!$AB:$AB,\"\")","v":0},{"$f":"IFERROR(TLM!AF:AF,\"\")","v":50},{"$f":"IFERROR(TLM!AZ:AZ,\"\")","v":36.599999999999994},{"$f":"IFERROR(TLM!AJ:AJ,\"\")","v":3}]
[31,{"$f":"IFERROR(TLM!$H:$H,\"\")","v":0},{"$f":"IFERROR(TLM!$L:$L,\"\")","v":180},{"$f":"IFERROR(TLM!$P:$P,\"\")","v":0},{"$f":"IFERROR(TLM!$T:$T,\"\")","v":30},{"$f":"IFERROR(TLM!$X:$X,\"\")","v":10},{"$f":"IFERROR(TLM!$AB:$AB,\"\")","v":0},{"$f":"IFERROR(TLM!AF:AF,\"\")","v":40},{"$f":"IFERROR(TLM!AZ:AZ,\"\")","v":35.12},{"$f":"IFERROR(TLM!AJ:AJ,\"\")","v":3}]
[32,{"$f":"IFERROR(TLM!$H:$H,\"\")","v":0},{"$f":"IFERROR(TLM!$L:$L,\"\")","v":170},{"$f":"IFERROR(TLM!$P:$P,\"\")","v":40},{"$f":"IFERROR(TLM!$T:$T,\"\")","v":0},{"$f":"IFERROR(TLM!$X:$X,\"\")","v":0},{"$f":"IFERROR(TLM!$AB:$AB,\"\")","v":0},{"$f":"IFERROR(TLM!AF:AF,\"\")","v":50},{"$f":"IFERROR(TLM!AZ:AZ,\"\")","v":35.12},{"$f":"IFERROR(TLM!AJ:AJ,\"\")","v":3}]
[33,{"$f":"IFERROR(TLM!$H:$H,\"\")","v":0},{"$f":"IFERROR(TLM!$L:$L,\"\")","v":120},{"$f":"IFERROR(TLM!$P:$P,\"\")","v":110},{"$f":"IFERROR(TLM!$T:$T,\"\")","v":0},{"$f":"IFERROR(TLM!$X:$X,\"\")","v":0},{"$f":"IFERROR(TLM!$AB:$AB,\"\")","v":0},{"$f":"IFERROR(TLM!AF:AF,\"\")","v":50},{"$f":"IFERROR(TLM!AZ:AZ,\"\")","v":36.599999999999994},{"$f":"IFERROR(TLM!AJ:AJ,\"\")","v":3}]
[34,{"$f":"IFERROR(TLM!$H:$H,\"\")","v":0},{"$f":"IFERROR(TLM!$L:$L,\"\")","v":30},{"$f":"IFERROR(TLM!$P:$P,\"\")","v":140},{"$f":"IFERROR(TLM!$T:$T,\"\")","v":0},{"$f":"IFERROR(TLM!$X:$X,\"\")","v":0},{"$f":"IFERROR(TLM!$AB:$AB,\"\")","v":10},{"$f":"IFERROR(TLM!AF:AF,\"\")","v":50},{"$f":"IFERROR(TLM!AZ:AZ,\"\")","v":38.08},{"$f":"IFERROR(TLM!AJ:AJ,\"\")","v":3}]
[35,{"$f":"IFERROR(TLM!$H:$H,\"\")","v":60},{"$f":"IFERROR(TLM!$L:$L,\"\")","v":0},{"$f":"IFERROR(TLM!$P:$P,\"\")","v":130},{"$f":"IFERROR(TLM!$T:$T,\"\")","v":0},{"$f":"IFERROR(TLM!$X:$X,\"\")","v":0},{"$f":"IFERROR(TLM!$AB:$AB,\"\")","v":0},{"$f":"IFERROR(TLM!AF:AF,\"\")","v":40},{"$f":"IFERROR(TLM!AZ:AZ,\"\")","v":38.08},{"$f":"IFERROR(TLM!AJ:AJ,\"\")","v":3}]
[36,{"$f":"IFERROR(TLM!$H:$H,\"\")","v":140},{"$f":"IFERROR(TLM!$L:$L,\"\")","v":0},{"$f":"IFERROR(TLM!$P:$P,\"\")","v":90},{"$f":"IFERROR(TLM!$T:$T,\"\")","v":0},{"$f":"IFERROR(TLM!$X:$X,\"\")","v":0},{"$f":"IFERROR(TLM!$AB:$AB,\"\")","v":10},{"$f":"IFERROR(TLM!AF:AF,\"\")","v":40},{"$f":"IFERROR(TLM!AZ:AZ,\"\")","v":39.559999999999995},{"$f":"IFERROR(TLM!AJ:AJ,\"\")","v":3}]
["",{"$f":"IFERROR(TLM!$H:$H,\"\")","v":""},{"$f":"IFERROR(TLM!$L:$L,\"\")","v":""},{"$f":"IFERROR(TLM!$P:$P,\"\")","v":""},{"$f":"IFERROR(TLM!$T:$T,\"\")","v":""},{"$f":"IFERROR(TLM!$X:$X,\"\")","v":""},{"$f":"IFERROR(TLM!$AB:$AB,\"\")","v":""},{"$f":"IFERROR(TLM!AF:AF,\"\")","v":""},{"$f":"IFERROR(TLM!AZ:AZ,\"\")","v":""},{"$f":"IFERROR(TLM!AJ:AJ,\"\")","v":""}]
["",{"$f":"IFERROR(TLM!$H:$H,\"\")","v":""},{"$f":"IFERROR(TLM!$L:$L,\"\")","v":""},{"$f":"IFERROR(TLM!$P:$P,\"\")","v":""},{"$f":"IFERROR(TLM!$T:$T,\"\")","v":""},{"$f":"IFERROR(TLM!$X:$X,\"\")","v":""},{"$f":"IFERROR(TLM!$AB:$AB,\"\")","v":""},{"$f":"IFERROR(TLM!AF:AF,\"\")","v":""},{"$f":"IFERROR(TLM!AZ:AZ,\"\")","v":""},{"$f":"IFERROR(TLM!AJ:AJ,\"\")","v":""}]
["",{"$f":"IFERROR(TLM!$H:$H,\"\")","v":""},{"$f":"IFERROR(TLM!$L:$L,\"\")","v":""},{"$f":"IFERROR(TLM!$P:$P,\"\")","v":""},{"$f":"IFERROR(TLM!$T:$T,\"\")","v":""},{"$f":"IFERROR(TLM!$X:$X,\"\")","v":""},{"$f":"IFERROR(TLM!$AB:$AB,\"\")","v":""},{"$f":"IFERROR(TLM!AF:AF,\"\")","v":""},{"$f":"IFERROR(TLM!AZ:AZ,\"\")","v":""},{"$f":"IFERROR(TLM!AJ:AJ,\"\")","v":""}]
["",{"$f":"IFERROR(TLM!$H:$H,\"\")","v":""},{"$f":"IFERROR(TLM!$L:$L,\"\")","v":""},{"$f":"IFERROR(TLM!$P:$P,\"\")","v":""},{"$f":"IFERROR(TLM!$T:$T,\"\")","v":""},{"$f":"IFERROR(TLM!$X:$X,\"\")","v":""},{"$f":"IFERROR(TLM!$AB:$AB,\"\")","v":""},{"$f":"IFERROR(TLM!AF:AF,\"\")","v":""},{"$f":"IFERROR(TLM!AZ:AZ,\"\")","v":""},{"$f":"IFERROR(TLM!AJ:AJ,\"\")","v":""}]
["",{"$f":"IFERROR(TLM!$H:$H,\"\")","v":""},{"$f":"IFERROR(TLM!$L:$L,\"\")","v":""},{"$f":"IFERROR(TLM!$P:$P,\"\")","v":""},{"$f":"IFERROR(TLM!$T:$T,\"\")","v":""},{"$f":"IFERROR(TLM!$X:$X,\"\")","v":""},{"$f":"IFERROR(TLM!$AB:$AB,\"\")","v":""},{"$f":"IFERROR(TLM!AF:AF,\"\")","v":""},{"$f":"IFERROR(TLM!AZ:AZ,\"\")","v":""},{"$f":"IFERROR(TLM!AJ:AJ,\"\")","v":""}]
["",{"$f":"IFERROR(TLM!$H:$H,\"\")","v":""},{"$f":"IFERROR(TLM!$L:$L,\"\")","v":""},{"$f":"IFERROR(TLM!$P:$P,\"\")","v":""},{"$f":"IFERROR(TLM!$T:$T,\"\")","v":""},{"$f":"IFERROR(TLM!$X:$X,\"\")","v":""},{"$f":"IFERROR(TLM!$AB:$AB,\"\")","v":""},{"$f":"IFERROR(TLM!AF:AF,\"\")","v":""},{"$f":"IFERROR(TLM!AZ:AZ,\"\")","v":""},{"$f":"IFERROR(TLM!AJ:AJ,\"\")","v":""}]
["",{"$f":"IFERROR(TLM!$H:$H,\"\")","v":""},{"$f":"IFERROR(TLM!$L:$L,\"\")","v":""},{"$f":"IFERROR(TLM!$P:$P,\"\")","v":""},{"$f":"IFERROR(TLM!$T:$T,\"\")","v":""},{"$f":"IFERROR(TLM!$X:$X,\"\")","v":""},{"$f":"IFERROR(TLM!$AB:$AB,\"\")","v":""},{"$f":"IFERROR(TLM!AF:AF,\"\")","v":""},{"$f":"IFERROR(TLM!AZ:AZ,\"\")","v":""},{"$f":"IFERROR(TLM!AJ:AJ,\"\")","v":""}]
["",{"$f":"IFERROR(TLM!$H:$H,\"\")","v":""},{"$f":"IFERROR(TLM!$L:$L,\"\")","v":""},{"$f":"IFERROR(TLM!$P:$P,\"\")","v":""},{"$f":"IFERROR(TLM!$T:$T,\"\")","v":""},{"$f":"IFERROR(TLM!$X:$X,\"\")","v":""},{"$f":"IFERROR(TLM!$AB:$AB,\"\")","v":""},{"$f":"IFERROR(TLM!AF:AF,\"\")","v":""},{"$f":"IFERROR(TLM!AZ:AZ,\"\")","v":""},{"$f":"IFERROR(TLM!AJ:AJ,\"\")","v":""}]
["",{"$f":"IFERROR(TLM!$H:$H,\"\")","v":""},{"$f":"IFERROR(TLM!$L:$L,\"\")","v":""},{"$f":"IFERROR(TLM!$P:$P,\"\")","v":""},{"$f":"IFERROR(TLM!$T:$T,\"\")","v":""},{"$f":"IFERROR(TLM!$X:$X,\"\")","v":""},{"$f":"IFERROR(TLM!$AB:$AB,\"\")","v":""},{"$f":"IFERROR(TLM!AF:AF,\"\")","v":""},{"$f":"IFERROR(TLM!AZ:AZ,\"\")","v":""},{"$f":"IFERROR(TLM!AJ:AJ,\"\")","v":""}]
["",{"$f":"IFERROR(TLM!$H:$H,\"\")","v":""},{"$f":"IFERROR(TLM!$L:$L,\"\")","v":""},{"$f":"IFERROR(TLM!$P:$P,\"\")","v":""},{"$f":"IFERROR(TLM!$T:$T,\"\")","v":""},{"$f":"IFERROR(TLM!$X:$X,\"\")","v":""},{"$f":"IFERROR(TLM!$AB:$AB,\"\")","v":""},{"$f":"IFERROR(TLM!AF:AF,\"\")","v":""},{"$f":"IFERROR(TLM!AZ:AZ,\"\")","v":""},{"$f":"IFERROR(TLM!AJ:AJ,\"\")","v":""}]
["",{"$f":"IFERROR(TLM!$H:$H,\"\")","v":""},{"$f":"IFERROR(TLM!$L:$L,\"\")","v":""},{"$f":"IFERROR(TLM!$P:$P,\"\")","v":""},{"$f":"IFERROR(TLM!$T:$T,\"\")","v":""},{"$f":"IFERROR(TLM!$X:$X,\"\")","v":""},{"$f":"IFERROR(TLM!$AB:$AB,\"\")","v":""},{"$f":"IFERROR(TLM!AF:AF,\"\")","v":""},{"$f":"IFERROR(TLM!AZ:AZ,\"\")","v":""},{"$f":"IFERROR(TLM!AJ:AJ,\"\")","v":""}]
["",{"$f":"IFERROR(TLM!$H:$H,\"\")","v":""},{"$f":"IFERROR(TLM!$L:$L,\"\")","v":""},{"$f":"IFERROR(TLM!$P:$P,\"\")","v":""},{"$f":"IFERROR(TLM!$T:$T,\"\")","v":""},{"$f":"IFERROR(TLM!$X:$X,\"\")","v":""},{"$f":"IFERROR(TLM!$AB:$AB,\"\")","v":""},{"$f":"IFERROR(TLM!AF:AF,\"\")","v":""},{"$f":"IFERROR(TLM!AZ:AZ,\"\")","v":""},{"$f":"IFERROR(TLM!AJ:AJ,\"\")","v":""}]
["",{"$f":"IFERROR(TLM!$H:$H,\"\")","v":""},{"$f":"IFERROR(TLM!$L:$L,\"\")","v":""},{"$f":"IFERROR(TLM!$P:$P,\"\")","v":""},{"$f":"IFERROR(TLM!$T:$T,\"\")","v":""},{"$f":"IFERROR(TLM!$X:$X,\"\")","v":""},{"$f":"IFERROR(TLM!$AB:$AB,\"\")","v":""},{"$f":"IFERROR(TLM!AF:AF,\"\")","v":""},{"$f":"IFERROR(TLM!AZ:AZ,\"\")","v":""},{"$f":"IFERROR(TLM!AJ:AJ,\"\")","v":""}]
["",{"$f":"IFERROR(TLM!$H:$H,\"\")","v":""},{"$f":"IFERROR(TLM!$L:$L,\"\")","v":""},{"$f":"IFERROR(TLM!$P:$P,\"\")","v":""},{"$f":"IFERROR(TLM!$T:$T,\"\")","v":""},{"$f":"IFERROR(TLM!$X:$X,\"\")","v":""},{"$f":"IFERROR(TLM!$AB:$AB,\"\")","v":""},{"$f":"IFERROR(TLM!AF:AF,\"\")","v":""},{"$f":"IFERROR(TLM!AZ:AZ,\"\")","v":""},{"$f":"IFERROR(TLM!AJ:AJ,\"\")","v":""}]
["",{"$f":"IFERROR(TLM!$H:$H,\"\")","v":""},{"$f":"IFERROR(TLM!$L:$L,\"\")","v":""},{"$f":"IFERROR(TLM!$P:$P,\"\")","v":""},{"$f":"IFERROR(TLM!$T:$T,\"\")","v":""},{"$f":"IFERROR(TLM!$X:$X,\"\")","v":""},{"$f":"IFERROR(TLM!$AB:$AB,\"\")","v":""},{"$f":"IFERROR(TLM!AF:AF,\"\")","v":""},{"$f":"IFERROR(TLM!AZ:AZ,\"\")","v":""},{"$f":"IFERROR(TLM!AJ:AJ,\"\")","v":""}]
["",{"$f":"IFERROR(TLM!$H:$H,\"\")","v":""},{"$f":"IFERROR(TLM!$L:$L,\"\")","v":""},{"$f":"IFERROR(TLM!$P:$P,\"\")","v":""},{"$f":"IFERROR(TLM!$T:$T,\"\")","v":""},{"$f":"IFERROR(TLM!$X:$X,\"\")","v":""},{"$f":"IFERROR(TLM!$AB:$AB,\"\")","v":""},{"$f":"IFERROR(TLM!AF:AF,\"\")","v":""},{"$f":"IFERROR(TLM!AZ:AZ,\"\")","v":""},{"$f":"IFERROR(TLM!AJ:AJ,\"\")","v":""}]
["",{"$f":"IFERROR(TLM!$H:$H,\"\")","v":""},{"$f":"IFERROR(TLM!$L:$L,\"\")","v":""},{"$f":"IFERROR(TLM!$P:$P,\"\")","v":""},{"$f":"IFERROR(TLM!$T:$T,\"\")","v":""},{"$f":"IFERROR(TLM!$X:$X,\"\")","v":""},{"$f":"IFERROR(TLM!$AB:$AB,\"\")","v":""},{"$f":"IFERROR(TLM!AF:AF,\"\")","v":""},{"$f":"IFERROR(TLM!AZ:AZ,\"\")","v":""},{"$f":"IFERROR(TLM!AJ:AJ,\"\")","v":""}]
["",{"$f":"IFERROR(TLM!$H:$H,\"\")","v":""},{"$f":"IFERROR(TLM!$L:$L,\"\")","v":""},{"$f":"IFERROR(TLM!$P:$P,\"\")","v":""},{"$f":"IFERROR(TLM!$T:$T,\"\")","v":""},{"$f":"IFERROR(TLM!$X:$X,\"\")","v":""},{"$f":"IFERROR(TLM!$AB:$AB,\"\")","v":""},{"$f":"IFERROR(TLM!AF:AF,\"\")","v":""},{"$f":"IFERROR(TLM!AZ:AZ,\"\")","v":""},{"$f":"IFERROR(TLM!AJ:AJ,\"\")","v":""}]
["",{"$f":"IFERROR(TLM!$H:$H,\"\")","v":""},{"$f":"IFERROR(TLM!$L:$L,\"\")","v":""},{"$f":"IFERROR(TLM!$P:$P,\"\")","v":""},{"$f":"IFERROR(TLM!$T:$T,\"\")","v":""},{"$f":"IFERROR(TLM!$X:$X,\"\")","v":""},{"$f":"IFERROR(TLM!$AB:$AB,\"\")","v":""},{"$f":"IFERROR(TLM!AF:AF,\"\")","v":""},{"$f":"IFERROR(TLM!AZ:AZ,\"\")","v":""},{"$f":"IFERROR(TLM!AJ:AJ,\"\")","v":""}]
["",{"$f":"IFERROR(TLM!$H:$H,\"\")","v":""},{"$f":"IFERROR(TLM!$L:$L,\"\")","v":""},{"$f":"IFERROR(TLM!$P:$P,\"\")","v":""},{"$f":"IFERROR(TLM!$T:$T,\"\")","v":""},{"$f":"IFERROR(TLM!$X:$X,\"\")","v":""},{"$f":"IFERROR(TLM!$AB:$AB,\"\")","v":""},{"$f":"IFERROR(TLM!AF:AF,\"\")","v":""},{"$f":"IFERROR(TLM!AZ:AZ,\"\")","v":""},{"$f":"IFERROR(TLM!AJ:AJ,\"\")","v":""}]
["",{"$f":"IFERROR(TLM!$H:$H,\"\")","v":""},{"$f":"IFERROR(TLM!$L:$L,\"\")","v":""},{"$f":"IFERROR(TLM!$P:$P,\"\")","v":""},{"$f":"IFERROR(TLM!$T:$T,\"\")","v":""},{"$f":"IFERROR(TLM!$X:$X,\"\")","v":""},{"$f":"IFERROR(TLM!$AB:$AB,\"\")","v":""},{"$f":"IFERROR(TLM!AF:AF,\"\")","v":""},{"$f":"IFERROR(TLM!AZ:AZ,\"\")","v":""},{"$f":"IFERROR(TLM!AJ:AJ,\"\")","v":""}]
["",{"$f":"IFERROR(TLM!$H:$H,\"\")","v":""},{"$f":"IFERROR(TLM!$L:$L,\"\")","v":""},{"$f":"IFERROR(TLM!$P:$P,\"\")","v":""},{"$f":"IFERROR(TLM!$T:$T,\"\")","v":""},{"$f":"IFERROR(TLM!$X:$X,\"\")","v":""},{"$f":"IFERROR(TLM!$AB:$AB,\"\")","v":""},{"$f":"IFERROR(TLM!AF:AF,\"\")","v":""},{"$f":"IFERROR(TLM!AZ:AZ,\"\")","v":""},{"$f":"IFERROR(TLM!AJ:AJ,\"\")","v":""}]
["",{"$f":"IFERROR(TLM!$H:$H,\"\")","v":""},{"$f":"IFERROR(TLM!$L:$L,\"\")","v":""},{"$f":"IFERROR(TLM!$P:$P,\"\")","v":""},{"$f":"IFERROR(TLM!$T:$T,\"\")","v":""},{"$f":"IFERROR(TLM!$X:$X,\"\")","v":""},{"$f":"IFERROR(TLM!$AB:$AB,\"\")","v":""},{"$f":"IFERROR(TLM!AF:AF,\"\")","v":""},{"$f":"IFERROR(TLM!AZ:AZ,\"\")","v":""},{"$f":"IFERROR(TLM!AJ:AJ,\"\")","v":""}]
["",{"$f":"IFERROR(TLM!$H:$H,\"\")","v":""},{"$f":"IFERROR(TLM!$L:$L,\"\")","v":""},{"$f":"IFERROR(TLM!$P:$P,\"\")","v":""},{"$f":"IFERROR(TLM!$T:$T,\"\")","v":""},{"$f":"IFERROR(TLM!$X:$X,\"\")","v":""},{"$f":"IFERROR(TLM!$AB:$AB,\"\")","v":""},{"$f":"IFERROR(TLM!AF:AF,\"\")","v":""},{"$f":"IFERROR(TLM!AZ:AZ,\"\")","v":""},{"$f":"IFERROR(TLM!AJ:AJ,\"\")","v":""}]
["",{"$f":"IFERROR(TLM!$H:$H,\"\")","v":""},{"$f":"IFERROR(TLM!$L:$L,\"\")","v":""},{"$f":"IFERROR(TLM!$P:$P,\"\")","v":""},{"$f":"IFERROR(TLM!$T:$T,\"\")","v":""},{"$f":"IFERROR(TLM!$X:$X,\"\")","v":""},{"$f":"IFERROR(TLM!$AB:$AB,\"\")","v":""},{"$f":"IFERROR(TLM!AF:AF,\"\")","v":""},{"$f":"IFERROR(TLM!AZ:AZ,\"\")","v":""},{"$f":"IFERROR(TLM!AJ:AJ,\"\")","v":""}]
["",{"$f":"IFERROR(TLM!$H:$H,\"\")","v":""},{"$f":"IFERROR(TLM!$L:$L,\"\")","v":""},{"$f":"IFERROR(TLM!$P:$P,\"\")","v":""},{"$f":"IFERROR(TLM!$T:$T,\"\")","v":""},{"$f":"IFERROR(TLM!$X:$X,\"\")","v":""},{"$f":"IFERROR(TLM!$AB:$AB,\"\")","v":""},{"$f":"IFERROR(TLM!AF:AF,\"\")","v":""},{"$f":"IFERROR(TLM!AZ:AZ,\"\")","v":""},{"$f":"IFERROR(TLM!AJ:AJ,\"\")","v":""}]
["",{"$f":"IFERROR(TLM!$H:$H,\"\")","v":""},{"$f":"IFERROR(TLM!$L:$L,\"\")","v":""},{"$f":"IFERROR(TLM!$P:$P,\"\")","v":""},{"$f":"IFERROR(TLM!$T:$T,\"\")","v":""},{"$f":"IFERROR(TLM!$X:$X,\"\")","v":""},{"$f":"IFERROR(TLM!$AB:$AB,\"\")","v":""},{"$f":"IFERROR(TLM!AF:AF,\"\")","v":""},{"$f":"IFERROR(TLM!AZ:AZ,\"\")","v":""},{"$f":"IFERROR(TLM!AJ:AJ,\"\")","v":""}]
["",{"$f":"IFERROR(TLM!$H:$H,\"\")","v":""},{"$f":"IFERROR(TLM!$L:$L,\"\")","v":""},{"$f":"IFERROR(TLM!$P:$P,\"\")","v":""},{"$f":"IFERROR(TLM!$T:$T,\"\")","v":""},{"$f":"IFERROR(TLM!$X:$X,\"\")","v":""},{"$f":"IFERROR(TLM!$AB:$AB,\"\")","v":""},{"$f":"IFERROR(TLM!AF:AF,\"\")","v":""},{"$f":"IFERROR(TLM!AZ:AZ,\"\")","v":""},{"$f":"IFERROR(TLM!AJ:AJ,\"\")","v":""}]
["",{"$f":"IFERROR(TLM!$H:$H,\"\")","v":""},{"$f":"IFERROR(TLM!$L:$L,\"\")","v":""},{"$f":"IFERROR(TLM!$P:$P,\"\")","v":""},{"$f":"IFERROR(TLM!$T:$T,\"\")","v":""},{"$f":"IFERROR(TLM!$X:$X,\"\")","v":""},{"$f":"IFERROR(TLM!$AB:$AB,\"\")","v":""},{"$f":"IFERROR(TLM!AF:AF,\"\")","v":""},{"$f":"IFERROR(TLM!AZ:AZ,\"\")","v":""},{"$f":"IFERROR(TLM!AJ:AJ,\"\")","v":""}]
[{"$f":"IF(B67<>\"\",A66+1,\"\")","v":""},{"$f":"IFERROR(TLM!$H:$H,\"\")","v":""},{"$f":"IFERROR(TLM!$L:$L,\"\")","v":""},{"$f":"IFERROR(TLM!$P:$P,\"\")","v":""},{"$f":"IFERROR(TLM!$T:$T,\"\")","v":""},{"$f":"IFERROR(TLM!$X:$X,\"\")","v":""},{"$f":"IFERROR(TLM!$AB:$AB,\"\")","v":""},{"$f":"IFERROR(TLM!AF:AF,\"\")","v":""},{"$f":"IFERROR(TLM!AZ:AZ,\"\")","v":""},{"$f":"IFERROR(TLM!AJ:AJ,\"\")","v":""}]
["",{"$f":"IFERROR(TLM!$H:$H,\"\")","v":""},{"$f":"IFERROR(TLM!$L:$L,\"\")","v":""},{"$f":"IFERROR(TLM!$P:$P,\"\")","v":""},{"$f":"IFERROR(TLM!$T:$T,\"\")","v":""},{"$f":"IFERROR(TLM!$X:$X,\"\")","v":""},{"$f":"IFERROR(TLM!$AB:$AB,\"\")","v":""},{"$f":"IFERROR(TLM!AF:AF,\"\")","v":""},{"$f":"IFERROR(TLM!AZ:AZ,\"\")","v":""},{"$f":"IFERROR(TLM!AJ:AJ,\"\")","v":""}]
["",{"$f":"IFERROR(TLM!$H:$H,\"\")","v":""},{"$f":"IFERROR(TLM!$L:$L,\"\")","v":""},{"$f":"IFERROR(TLM!$P:$P,\"\")","v":""},{"$f":"IFERROR(TLM!$T:$T,\"\")","v":""},{"$f":"IFERROR(TLM!$X:$X,\"\")","v":""},{"$f":"IFERROR(TLM!$AB:$AB,\"\")","v":""},{"$f":"IFERROR(TLM!AF:AF,\"\")","v":""},{"$f":"IFERROR(TLM!AZ:AZ,\"\")","v":""},{"$f":"IFERROR(TLM!AJ:AJ,\"\")","v":""}]
["",{"$f":"IFERROR(TLM!$H:$H,\"\")","v":""},{"$f":"IFERROR(TLM!$L:$L,\"\")","v":""},{"$f":"IFERROR(TLM!$P:$P,\"\")","v":""},{"$f":"IFERROR(TLM!$T:$T,\"\")","v":""},{"$f":"IFERROR(TLM!$X:$X,\"\")","v":""},{"$f":"IFERROR(TLM!$AB:$AB,\"\")","v":""},{"$f":"IFERROR(TLM!AF:AF,\"\")","v":""},{"$f":"IFERROR(TLM!AZ:AZ,\"\")","v":""},{"$f":"IFERROR(TLM!AJ:AJ,\"\")","v":""}]
["",{"$f":"IFERROR(TLM!$H:$H,\"\")","v":""},{"$f":"IFERROR(TLM!$L:$L,\"\")","v":""},{"$f":"IFERROR(TLM!$P:$P,\"\")","v":""},{"$f":"IFERROR(TLM!$T:$T,\"\")","v":""},{"$f":"IFERROR(TLM!$X:$X,\"\")","v":""},{"$f":"IFERROR(TLM!$AB:$AB,\"\")","v":""},{"$f":"IFERROR(TLM!AF:AF,\"\")","v":""},{"$f":"IFERROR(TLM!AZ:AZ,\"\")","v":""},{"$f":"IFERROR(TLM!AJ:AJ,\"\")","v":""}]
["",{"$f":"IFERROR(TLM!$H:$H,\"\")","v":""},{"$f":"IFERROR(TLM!$L:$L,\"\")","v":""},{"$f":"IFERROR(TLM!$P:$P,\"\")","v":""},{"$f":"IFERROR(TLM!$T:$T,\"\")","v":""},{"$f":"IFERROR(TLM!$X:$X,\"\")","v":""},{"$f":"IFERROR(TLM!$AB:$AB,\"\")","v":""},{"$f":"IFERROR(TLM!AF:AF,\"\")","v":""},{"$f":"IFERROR(TLM!AZ:AZ,\"\")","v":""},{"$f":"IFERROR(TLM!AJ:AJ,\"\")","v":""}]
["",{"$f":"IFERROR(TLM!$H:$H,\"\")","v":""},{"$f":"IFERROR(TLM!$L:$L,\"\")","v":""},{"$f":"IFERROR(TLM!$P:$P,\"\")","v":""},{"$f":"IFERROR(TLM!$T:$T,\"\")","v":""},{"$f":"IFERROR(TLM!$X:$X,\"\")","v":""},{"$f":"IFERROR(TLM!$AB:$AB,\"\")","v":""},{"$f":"IFERROR(TLM!AF:AF,\"\")","v":""},{"$f":"IFERROR(TLM!AZ:AZ,\"\")","v":""},{"$f":"IFERROR(TLM!AJ:AJ,\"\")","v":""}]
["",{"$f":"IFERROR(TLM!$H:$H,\"\")","v":""},{"$f":"IFERROR(TLM!$L:$L,\"\")","v":""},{"$f":"IFERROR(TLM!$P:$P,\"\")","v":""},{"$f":"IFERROR(TLM!$T:$T,\"\")","v":""},{"$f":"IFERROR(TLM!$X:$X,\"\")","v":""},{"$f":"IFERROR(TLM!$AB:$AB,\"\")","v":""},{"$f":"IFERROR(TLM!AF:AF,\"\")","v":""},{"$f":"IFERROR(TLM!AZ:AZ,\"\")","v":""},{"$f":"IFERROR(TLM!AJ:AJ,\"\")","v":""}]
["",{"$f":"IFERROR(TLM!$H:$H,\"\")","v":""},{"$f":"IFERROR(TLM!$L:$L,\"\")","v":""},{"$f":"IFERROR(TLM!$P:$P,\"\")","v":""},{"$f":"IFERROR(TLM!$T:$T,\"\")","v":""},{"$f":"IFERROR(TLM!$X:$X,\"\")","v":""},{"$f":"IFERROR(TLM!$AB:$AB,\"\")","v":""},{"$f":"IFERROR(TLM!AF:AF,\"\")","v":""},{"$f":"IFERROR(TLM!AZ:AZ,\"\")","v":""},{"$f":"IFERROR(TLM!AJ:AJ,\"\")","v":""}]
[{"$f":"IF(B76<>\"\",A75+1,\"\")","v":""},{"$f":"IFERROR(TLM!$H:$H,\"\")","v":""},{"$f":"IFERROR(TLM!$L:$L,\"\")","v":""},{"$f":"IFERROR(TLM!$P:$P,\"\")","v":""},{"$f":"IFERROR(TLM!$T:$T,\"\")","v":""},{"$f":"IFERROR(TLM!$X:$X,\"\")","v":""},{"$f":"IFERROR(TLM!$AB:$AB,\"\")","v":""},{"$f":"IFERROR(TLM!AF:AF,\"\")","v":""},{"$f":"IFERROR(TLM!AZ:AZ,\"\")","v":""},{"$f":"IFERROR(TLM!AJ:AJ,\"\")","v":""}]
[{"$f":"IF(B77<>\"\",A76+1,\"\")","v":""},{"$f":"IFERROR(TLM!$H:$H,\"\")","v":""},{"$f":"IFERROR(TLM!$L:$L,\"\")","v":""},{"$f":"IFERROR(TLM!$P:$P,\"\")","v":""},{"$f":"IFERROR(TLM!$T:$T,\"\")","v":""},{"$f":"IFERROR(TLM!$X:$X,\"\")","v":""},{"$f":"IFERROR(TLM!$AB:$AB,\"\")","v":""},{"$f":"IFERROR(TLM!AF:AF,\"\")","v":""},{"$f":"IFERROR(TLM!AZ:AZ,\"\")","v":""},{"$f":"IFERROR(TLM!AJ:AJ,\"\")","v":""}]
[{"$f":"IF(B78<>\"\",A77+1,\"\")","v":""},{"$f":"IFERROR(TLM!$H:$H,\"\")","v":""},{"$f":"IFERROR(TLM!$L:$L,\"\")","v":""},{"$f":"IFERROR(TLM!$P:$P,\"\")","v":""},{"$f":"IFERROR(TLM!$T:$T,\"\")","v":""},{"$f":"IFERROR(TLM!$X:$X,\"\")","v":""},{"$f":"IFERROR(TLM!$AB:$AB,\"\")","v":""},{"$f":"IFERROR(TLM!AF:AF,\"\")","v":""},{"$f":"IFERROR(TLM!AZ:AZ,\"\")","v":""},{"$f":"IFERROR(TLM!AJ:AJ,\"\")","v":""}]
["",{"$f":"IFERROR(TLM!$H:$H,\"\")","v":""},{"$f":"IFERROR(TLM!$L:$L,\"\")","v":""},{"$f":"IFERROR(TLM!$P:$P,\"\")","v":""},{"$f":"IFERROR(TLM!$T:$T,\"\")","v":""},{"$f":"IFERROR(TLM!$X:$X,\"\")","v":""},{"$f":"IFERROR(TLM!$AB:$AB,\"\")","v":""},{"$f":"IFERROR(TLM!AF:AF,\"\")","v":""},{"$f":"IFERROR(TLM!AZ:AZ,\"\")","v":""},{"$f":"IFERROR(TLM!AJ:AJ,\"\")","v":""}]
["",{"$f":"IFERROR(TLM!$H:$H,\"\")","v":""},{"$f":"IFERROR(TLM!$L:$L,\"\")","v":""},{"$f":"IFERROR(TLM!$P:$P,\"\")","v":""},{"$f":"IFERROR(TLM!$T:$T,\"\")","v":""},{"$f":"IFERROR(TLM!$X:$X,\"\")","v":""},{"$f":"IFERROR(TLM!$AB:$AB,\"\")","v":""},{"$f":"IFERROR(TLM!AF:AF,\"\")","v":""},{"$f":"IFERROR(TLM!AZ:AZ,\"\")","v":""},{"$f":"IFERROR(TLM!AJ:AJ,\"\")","v":""}]
[" "," ",null," ",null," ",{"$f":"IFERROR(TLM!$AB:$AB,\"\")","v":0}," ",null," "]
[{"$nulls":6},{"$f":"IFERROR(TLM!$AB:$AB,\"\")","v":0}]
[{"$nulls":6},{"$f":"IFERROR(TLM!$AB:$AB,\"\")","v":0}]
[{"$nulls":6},{"$f":"IFERROR(TLM!$AB:$AB,\"\")","v":0}]
[{"$nulls":6},{"$f":"IFERROR(TLM!$AB:$AB,\"\")","v":0}]
[{"$nulls":6},{"$f":"IFERROR(TLM!$AB:$AB,\"\")","v":0}]
[{"$nulls":6},{"$f":"IFERROR(TLM!$AB:$AB,\"\")","v":0}]
[{"$nulls":6},{"$f":"IFERROR(TLM!$AB:$AB,\"\")","v":0}]
[{"$nulls":6},{"$f":"IFERROR(TLM!$AB:$AB,\"\")","v":0}]
[{"$nulls":6},{"$f":"IFERROR(TLM!$AB:$AB,\"\")","v":0}]
[{"$nulls":6},{"$f":"IFERROR(TLM!$AB:$AB,\"\")","v":0}]
[{"$nulls":6},{"$f":"IFERROR(TLM!$AB:$AB,\"\")","v":0}]
[{"$nulls":6},{"$f":"IFERROR(TLM!$AB:$AB,\"\")","v":0}]
[{"$nulls":6},{"$f":"IFERROR(TLM!$AB:$AB,\"\")","v":0}]
[{"$nulls":6},{"$f":"IFERROR(TLM!$AB:$AB,\"\")","v":0}]
[{"$nulls":6},{"$f":"IFERROR(TLM!$AB:$AB,\"\")","v":0}]
[{"$nulls":6},{"$f":"IFERROR(TLM!$AB:$AB,\"\")","v":0}]
[{"$nulls":6},{"$f":"IFERROR(TLM!$AB:$AB,\"\")","v":0}]
[{"$nulls":6},{"$f":"IFERROR(TLM!$AB:$AB,\"\")","v":0}]
[{"$nulls":6},{"$f":"IFERROR(TLM!$AB:$AB,\"\")","v":0}]
[{"$nulls":6},{"$f":"IFERROR(TLM!$AB:$AB,\"\")","v":0}]
[{"$nulls":6},{"$f":"IFERROR(TLM!$AB:$AB,\"\")","v":0}]
[{"$nulls":6},{"$f":"IFERROR(TLM!$AB:$AB,\"\")","v":0}]
[{"$nulls":6},{"$f":"IFERROR(TLM!$AB:$AB,\"\")","v":0}]
[{"$nulls":6},{"$f":"IFERROR(TLM!$AB:$AB,\"\")","v":0}]
[{"$nulls":6},{"$f":"IFERROR(TLM!$AB:$AB,\"\")","v":0}]
[{"$nulls":6},{"$f":"IFERROR(TLM!$AB:$AB,\"\")","v":0}]
[{"$nulls":6},{"$f":"IFERROR(TLM!$AB:$AB,\"\")","v":0}]
[{"$nulls":6},{"$f":"IFERROR(TLM!$AB:$AB,\"\")","v":0}]
[{"$nulls":6},{"$f":"IFERROR(TLM!$AB:$AB,\"\")","v":0}]
[{"$nulls":6},{"$f":"IFERROR(TLM!$AB:$AB,\"\")","v":0}]
[{"$nulls":6},{"$f":"IFERROR(TLM!$AB:$AB,\"\")","v":0}]
[{"$nulls":6},{"$f":"IFERROR(TLM!$AB:$AB,\"\")","v":0}]
[{"$nulls":6},{"$f":"IFERROR(TLM!$AB:$AB,\"\")","v":0}]
[{"$nulls":6},{"$f":"IFERROR(TLM!$AB:$AB,\"\")","v":0}]
[{"$nulls":6},{"$f":"IFERROR(TLM!$AB:$AB,\"\")","v":0}]
[{"$nulls":6},{"$f":"IFERROR(TLM!$AB:$AB,\"\")","v":0}]
[{"$nulls":6},{"$f":"IFERROR(TLM!$AB:$AB,\"\")","v":0}]
[{"$nulls":6},{"$f":"IFERROR(TLM!$AB:$AB,\"\")","v":0}]
[{"$nulls":6},{"$f":"IFERROR(TLM!$AB:$AB,\"\")","v":0}]
[{"$nulls":6},{"$f":"IFERROR(TLM!$AB:$AB,\"\")","v":0}]
[{"$nulls":6},{"$f":"IFERROR(TLM!$AB:$AB,\"\")","v":0}]
[{"$nulls":6},{"$f":"IFERROR(TLM!$AB:$AB,\"\")","v":0}]
[{"$nulls":6},{"$f":"IFERROR(TLM!$AB:$AB,\"\")","v":0}]
[{"$nulls":6},{"$f":"IFERROR(TLM!$AB:$AB,\"\")","v":0}]
[{"$nulls":6},{"$f":"IFERROR(TLM!$AB:$AB,\"\")","v":0}]
[{"$nulls":6},{"$f":"IFERROR(TLM!$AB:$AB,\"\")","v":0}]
[{"$nulls":6},{"$f":"IFERROR(TLM!$AB:$AB,\"\")","v":0}]
[{"$nulls":6},{"$f":"IFERROR(TLM!$AB:$AB,\"\")","v":0}]
[{"$nulls":6},{"$f":"IFERROR(TLM!$AB:$AB,\"\")","v":0}]
[{"$nulls":6},{"$f":"IFERROR(TLM!$AB:$AB,\"\")","v":0}]
[{"$nulls":6},{"$f":"IFERROR(TLM!$AB:$AB,\"\")","v":0}]
[{"$nulls":6},{"$f":"IFERROR(TLM!$AB:$AB,\"\")","v":0}]
[{"$nulls":6},{"$f":"IFERROR(TLM!$AB:$AB,\"\")","v":0}]
[{"$nulls":6},{"$f":"IFERROR(TLM!$AB:$AB,\"\")","v":0}]
[{"$nulls":6},{"$f":"IFERROR(TLM!$AB:$AB,\"\")","v":0}]
[{"$nulls":6},{"$f":"IFERROR(TLM!$AB:$AB,\"\")","v":0}]
[{"$nulls":6},{"$f":"IFERROR(TLM!$AB:$AB,\"\")","v":0}]
[{"$nulls":6},{"$f":"IFERROR(TLM!$AB:$AB,\"\")","v":0}]
[{"$nulls":6},{"$f":"IFERROR(TLM!$AB:$AB,\"\")","v":0}]
[{"$nulls":6},{"$f":"IFERROR(TLM!$AB:$AB,\"\")","v":0}]
[{"$nulls":6},{"$f":"IFERROR(TLM!$AB:$AB,\"\")","v":0}]
[{"$nulls":6},{"$f":"IFERROR(TLM!$AB:$AB,\"\")","v":0}]
[{"$nulls":6},{"$f":"IFERROR(TLM!$AB:$AB,\"\")","v":0}]
[{"$nulls":6},{"$f":"IFERROR(TLM!$AB:$AB,\"\")","v":0}]
[{"$nulls":6},{"$f":"IFERROR(TLM!$AB:$AB,\"\")","v":0}]
[{"$nulls":6},{"$f":"IFERROR(TLM!$AB:$AB,\"\")","v":0}]
[{"$nulls":6},{"$f":"IFERROR(TLM!$AB:$AB,\"\")","v":0}]
[{"$nulls":6},{"$f":"IFERROR(TLM!$AB:$AB,\"\")","v":0}]
[{"$nulls":6},{"$f":"IFERROR(TLM!$AB:$AB,\"\")","v":0}]
[{"$nulls":6},{"$f":"IFERROR(TLM!$AB:$AB,\"\")","v":0}]
[{"$nulls":6},{"$f":"IFERROR(TLM!$AB:$AB,\"\")","v":0}]
[{"$nulls":6},{"$f":"IFERROR(TLM!$AB:$AB,\"\")","v":0}]
[{"$nulls":6},{"$f":"IFERROR(TLM!$AB:$AB,\"\")","v":0}]
[{"$nulls":6},{"$f":"IFERROR(TLM!$AB:$AB,\"\")","v":0}]
[{"$nulls":6},{"$f":"IFERROR(TLM!$AB:$AB,\"\")","v":0}]
[{"$nulls":6},{"$f":"IFERROR(TLM!$AB:$AB,\"\")","v":0}]
[{"$nulls":6},{"$f":"IFERROR(TLM!$AB:$AB,\"\")","v":0}]
[{"$nulls":6},{"$f":"IFERROR(TLM!$AB:$AB,\"\")","v":0}]
[{"$nulls":6},{"$f":"IFERROR(TLM!$AB:$AB,\"\")","v":0}]
[{"$nulls":6},{"$f":"IFERROR(TLM!$AB:$AB,\"\")","v":0}]
[{"$nulls":6},{"$f":"IFERROR(TLM!$AB:$AB,\"\")","v":0}]
[{"$nulls":6},{"$f":"IFERROR(TLM!$AB:$AB,\"\")","v":0}]
[{"$nulls":6},{"$f":"IFERROR(TLM!$AB:$AB,\"\")","v":0}]
[{"$nulls":6},{"$f":"IFERROR(TLM!$AB:$AB,\"\")","v":0}]
[{"$nulls":6},{"$f":"IFERROR(TLM!$AB:$AB,\"\")","v":0}]
[{"$nulls":6},{"$f":"IFERROR(TLM!$AB:$AB,\"\")","v":0}]
[{"$nulls":6},{"$f":"IFERROR(TLM!$AB:$AB,\"\")","v":0}]
[{"$nulls":6},{"$f":"IFERROR(TLM!$AB:$AB,\"\")","v":0}]
[{"$nulls":6},{"$f":"IFERROR(TLM!$AB:$AB,\"\")","v":0}]
[{"$nulls":6},{"$f":"IFERROR(TLM!$AB:$AB,\"\")","v":0}]
[{"$nulls":6},{"$f":"IFERROR(TLM!$AB:$AB,\"\")","v":0}]
[{"$nulls":6},{"$f":"IFERROR(TLM!$AB:$AB,\"\")","v":0}]
[{"$nulls":6},{"$f":"IFERROR(TLM!$AB:$AB,\"\")","v":0}]
[{"$nulls":6},{"$f":"IFERROR(TLM!$AB:$AB,\"\")","v":0}]
[{"$nulls":6},{"$f":"IFERROR(TLM!$AB:$AB,\"\")","v":0}]
[{"$nulls":6},{"$f":"IFERROR(TLM!$AB:$AB,\"\")","v":0}]
[{"$nulls":6},{"$f":"IFERROR(TLM!$AB:$AB,\"\")","v":0}]
[{"$nulls":6},{"$f":"IFERROR(TLM!$AB:$AB,\"\")","v":0}]
[{"$nulls":6},{"$f":"IFERROR(TLM!$AB:$AB,\"\")","v":0}]
[{"$nulls":6},{"$f":"IFERROR(TLM!$AB:$AB,\"\")","v":0}]
[{"$nulls":6},{"$f":"IFERROR(TLM!$AB:$AB,\"\")","v":0}]
[{"$nulls":6},{"$f":"IFERROR(TLM!$AB:$AB,\"\")","v":0}]
[{"$nulls":6},{"$f":"IFERROR(TLM!$AB:$AB,\"\")","v":0}]
[{"$nulls":6},{"$f":"IFERROR(TLM!$AB:$AB,\"\")","v":0}]
[{"$nulls":6},{"$f":"IFERROR(TLM!$AB:$AB,\"\")","v":0}]
[{"$nulls":6},{"$f":"IFERROR(TLM!$AB:$AB,\"\")","v":0}]
[{"$nulls":6},{"$f":"IFERROR(TLM!$AB:$AB,\"\")","v":0}]
[{"$nulls":6},{"$f":"IFERROR(TLM!$AB:$AB,\"\")","v":0}]
[{"$nulls":6},{"$f":"IFERROR(TLM!$AB:$AB,\"\")","v":0}]
[{"$nulls":6},{"$f":"IFERROR(TLM!$AB:$AB,\"\")","v":0}]
[{"$nulls":6},{"$f":"IFERROR(TLM!$AB:$AB,\"\")","v":0}]
[{"$nulls":6},{"$f":"IFERROR(TLM!$AB:$AB,\"\")","v":0}]
[{"$nulls":6},{"$f":"IFERROR(TLM!$AB:$AB,\"\")","v":0}]
[{"$nulls":6},{"$f":"IFERROR(TLM!$AB:$AB,\"\")","v":0}]
[{"$nulls":6},{"$f":"IFERROR(TLM!$AB:$AB,\"\")","v":0}]
[{"$nulls":6},{"$f":"IFERROR(TLM!$AB:$AB,\"\")","v":0}]
[{"$nulls":6},{"$f":"IFERROR(TLM!$AB:$AB,\"\")","v":0}]
[{"$nulls":6},{"$f":"IFERROR(TLM!$AB:$AB,\"\")","v":0}]
[{"$nulls":6},{"$f":"IFERROR(TLM!$AB:$AB,\"\")","v":0}]
[{"$nulls":6},{"$f":"IFERROR(TLM!$AB:$AB,\"\")","v":0}]
[{"$nulls":6},{"$f":"IFERROR(TLM!$AB:$AB,\"\")","v":0}]
[{"$nulls":6},{"$f":"IFERROR(TLM!$AB:$AB,\"\")","v":0}]
[{"$nulls":6},{"$f":"IFERROR(TLM!$AB:$AB,\"\")","v":0}]
[{"$nulls":6},{"$f":"IFERROR(TLM!$AB:$AB,\"\")","v":0}]
[{"$nulls":6},{"$f":"IFERROR(TLM!$AB:$AB,\"\")","v":0}]
[{"$nulls":6},{"$f":"IFERROR(TLM!$AB:$AB,\"\")","v":0}]
[{"$nulls":6},{"$f":"IFERROR(TLM!$AB:$AB,\"\")","v":0}]
[{"$nulls":6},{"$f":"IFERROR(TLM!$AB:$AB,\"\")","v":0}]
[{"$nulls":6},{"$f":"IFERROR(TLM!$AB:$AB,\"\")","v":0}]
[{"$nulls":6},{"$f":"IFERROR(TLM!$AB:$AB,\"\")","v":0}]
[{"$nulls":6},{"$f":"IFERROR(TLM!$AB:$AB,\"\")","v":0}]
[{"$nulls":6},{"$f":"IFERROR(TLM!$AB:$AB,\"\")","v":0}]
[{"$nulls":6},{"$f":"IFERROR(TLM!$AB:$AB,\"\")","v":0}]
[{"$nulls":6},{"$f":"IFERROR(TLM!$AB:$AB,\"\")","v":0}]
[{"$nulls":6},{"$f":"IFERROR(TLM!$AB:$AB,\"\")","v":0}]
[{"$nulls":6},{"$f":"IFERROR(TLM!$AB:$AB,\"\")","v":0}]
[{"$nulls":6},{"$f":"IFERROR(TLM!$AB:$AB,\"\")","v":0}]
[{"$nulls":6},{"$f":"IFERROR(TLM!$AB:$AB,\"\")","v":0}]
[{"$nulls":6},{"$f":"IFERROR(TLM!$AB:$AB,\"\")","v":0}]
[{"$nulls":6},{"$f":"IFERROR(TLM!$AB:$AB,\"\")","v":0}]
[{"$nulls":6},{"$f":"IFERROR(TLM!$AB:$AB,\"\")","v":0}]
[{"$nulls":6},{"$f":"IFERROR(TLM!$AB:$AB,\"\")","v":0}]
[{"$nulls":6},{"$f":"IFERROR(TLM!$AB:$AB,\"\")","v":0}]
[{"$nulls":6},{"$f":"IFERROR(TLM!$AB:$AB,\"\")","v":0}]
[{"$nulls":6},{"$f":"IFERROR(TLM!$AB:$AB,\"\")","v":0}]
[{"$nulls":6},{"$f":"IFERROR(TLM!$AB:$AB,\"\")","v":0}]
[{"$nulls":6},{"$f":"IFERROR(TLM!$AB:$AB,\"\")","v":0}]
[{"$nulls":6},{"$f":"IFERROR(TLM!$AB:$AB,\"\")","v":0}]
[{"$nulls":6},{"$f":"IFERROR(TLM!$AB:$AB,\"\")","v":0}]
[{"$nulls":6},{"$f":"IFERROR(TLM!$AB:$AB,\"\")","v":0}]
[{"$nulls":6},{"$f":"IFERROR(TLM!$AB:$AB,\"\")","v":0}]
[{"$nulls":6},{"$f":"IFERROR(TLM!$AB:$AB,\"\")","v":0}]
[{"$nulls":6},{"$f":"IFERROR(TLM!$AB:$AB,\"\")","v":0}]
[{"$nulls":6},{"$f":"IFERROR(TLM!$AB:$AB,\"\")","v":0}]
[{"$nulls":6},{"$f":"IFERROR(TLM!$AB:$AB,\"\")","v":0}]
[{"$nulls":6},{"$f":"IFERROR(TLM!$AB:$AB,\"\")","v":0}]
[{"$nulls":6},{"$f":"IFERROR(TLM!$AB:$AB,\"\")","v":0}]
[{"$nulls":6},{"$f":"IFERROR(TLM!$AB:$AB,\"\")","v":0}]
[{"$nulls":6},{"$f":"IFERROR(TLM!$AB:$AB,\"\")","v":0}]
[{"$nulls":6},{"$f":"IFERROR(TLM!$AB:$AB,\"\")","v":0}]
[{"$nulls":6},{"$f":"IFERROR(TLM!$AB:$AB,\"\")","v":0}]
[{"$nulls":6},{"$f":"IFERROR(TLM!$AB:$AB,\"\")","v":0}]
[{"$nulls":6},{"$f":"IFERROR(TLM!$AB:$AB,\"\")","v":0}]
[{"$nulls":6},{"$f":"IFERROR(TLM!$AB:$AB,\"\")","v":0}]
[{"$nulls":6},{"$f":"IFERROR(TLM!$AB:$AB,\"\")","v":0}]
[{"$nulls":6},{"$f":"IFERROR(TLM!$AB:$AB,\"\")","v":0}]
[{"$nulls":6},{"$f":"IFERROR(TLM!$AB:$AB,\"\")","v":0}]
[{"$nulls":6},{"$f":"IFERROR(TLM!$AB:$AB,\"\")","v":0}]
[{"$nulls":6},{"$f":"IFERROR(TLM!$AB:$AB,\"\")","v":0}]
[{"$nulls":6},{"$f":"IFERROR(TLM!$AB:$AB,\"\")","v":0}]
[{"$nulls":6},{"$f":"IFERROR(TLM!$AB:$AB,\"\")","v":0}]
[{"$nulls":6},{"$f":"IFERROR(TLM!$AB:$AB,\"\")","v":0}]
[{"$nulls":6},{"$f":"IFERROR(TLM!$AB:$AB,\"\")","v":0}]
[{"$nulls":6},{"$f":"IFERROR(TLM!$AB:$AB,\"\")","v":0}]
[{"$nulls":6},{"$f":"IFERROR(TLM!$AB:$AB,\"\")","v":0}]
[{"$nulls":6},{"$f":"IFERROR(TLM!$AB:$AB,\"\")","v":0}]
[{"$nulls":6},{"$f":"IFERROR(TLM!$AB:$AB,\"\")","v":0}]
[{"$nulls":6},{"$f":"IFERROR(TLM!$AB:$AB,\"\")","v":0}]
[{"$nulls":6},{"$f":"IFERROR(TLM!$AB:$AB,\"\")","v":0}]

{"sheet":"TLM","index":5,"n_rows":80,"n_cols":96,"rows_kept":80}
[" "," ","1A","Total Array Current (mA)",null," ","1B","+X Quad. Array I (mA)",null,null,"1C","-X Quad. Array I (mA)",null,null,"1D","+Y Quad. Array I",null,null,"2A","-Y Quad. Array I",null,null,"2B","+Z Quad. Array I",null,null,"2C","-Z Current",null,null,"2D","Battery Charge/Discharge I",null,null,"3A","Battery Voltage",null,null,"3B","1/2 Battery Voltage",null,null,"3C","Battery Ch. Regulator #1 Voltag",null,null,"3D","Battery Temperature",null,null,"4A","Baseplate Temp.",null,null,"4B","2/10 Rptr PA Temp. ",null,null,"4C","+X Quad. Array Temp.",null,null,"4D","+Z (S/C Top Plate) Temp.",null,null,"5A","70/2 Rptr PA Temp.",null,null,"5B","2/10 PA Emitter Current",null,null,"5C","70/2 Modulator Temp.",null,null,"5D","Inst. Swithing Regulator Input I",null,null,"6A","2/10 Rptr RF Power Output ",null,null,"6B","435MHz Beacon RF Power Out.",null,null,"6C","2304 MHz Beacon RF Pwr. Out.",null,null,"6D","Midrange TLM Calibration Value"]
["1",{"$f":"FIND(\" \"&A2, 'Data Input'!$A2)","v":6},{"$f":"IFERROR(MID('Data Input'!$A2,B2+2,2),\"\")","v":"00"},{"$f":"IFERROR(C2*15,\"\")","v":0},"1",{"$f":"FIND(\" \"&E2, 'Data Input'!$A2,B2+1)","v":10},{"$f":"IFERROR(MID('Data Input'!$A2,F2+2,2),\"\")","v":"99"},{"$f":"IFERROR(10*(99-G2),\"\")","v":0},"1",{"$f":"FIND(\" \"&I2, 'Data Input'!$A2,F2+1)","v":14},{"$f":"IFERROR(MID('Data Input'!$A2,J2+2,2),\"\")","v":"99"},{"$f":"IFERROR(10*(99-K2),\"\")","v":0},"1",{"$f":"FIND(\" \"&M2, 'Data Input'!$A2,J2+1)","v":18},{"$f":"IFERROR(MID('Data Input'!$A2,N2+2,2),\"\")","v":"99"},{"$f":"IFERROR(10*(99-O2),\"\")","v":0},"2",{"$f":"FIND(\" \"&Q2, 'Data Input'!$A2,N2+1)","v":22},{"$f":"IFERROR(MID('Data Input'!$A2,R2+2,2),\"\")","v":"99"},{"$f":"IFERROR(10*(99-S2),\"\")","v":0},"2",{"$f":"FIND(\" \"&U2, 'Data Input'!$A2,R2+1)","v":26},{"$f":"IFERROR(MID('Data Input'!$A2,V2+2,2),\"\")","v":"99"},{"$f":"IFERROR(10*(99-W2),\"\")","v":{"v":0,"d":"0.00"}},"2",{"$f":"FIND(\" \"&Y2, 'Data Input'!$A2,V2+1)","v":30},{"$f":"IFERROR(MID('Data Input'!$A2,Z2+2,2),\"\")","v":"99"},{"$f":"IFERROR(10*(99-AA2),\"\")","v":{"v":0,"d":"0.00"}},"2",{"$f":"FIND(\" \"&AC2, 'Data Input'!$A2,Z2+1)","v":34},{"$f":"IFERROR(MID('Data Input'!$A2,AD2+2,2),\"\")","v":"72"},{"$f":"IFERROR(10*(AE2-50),\"\")","v":220},"3",{"$f":"FIND(\" \"&AG2, 'Data Input'!$A2,AD2+1)","v":38},{"$f":"IFERROR(MID('Data Input'!$A2,AH2+2,2),\"\")","v":"82"},{"$f":"IFERROR(IF(VALUE(AI2) > 45, 0.1*AI2-4.4, 0.1*AI2+6.4),\"\")","v":{"v":3.8000000000000007,"d":"3.8"}},"3",{"$f":"FIND(\" \"&AK2, 'Data Input'!$A2,AH2+1)","v":42},{"$f":"IFERROR(MID('Data Input'!$A2,AL2+2,2),\"\")","v":"50"},{"$f":"IFERROR(0.1*AM2,\"\")","v":{"v":5,"d":"5.0"}},"3",{"$f":"FIND(\" \"&AO2, 'Data Input'!$A2,AL2+1)","v":46},{"$f":"IFERROR(MID('Data Input'!$A2,AP2+2,2),\"\")","v":"00"},{"$f":"IFERROR(0.15*AQ2,\"\")","v":{"v":0,"d":"0.00"}},"3",{"$f":"FIND(\" \"&AS2, 'Data Input'!$A2,AP2+1)","v":50},{"$f":"IFERROR(MID('Data Input'!$A2,AT2+2,2),\"\")","v":"00"},{"$f":"IFERROR(95.8-1.48*AU2,\"\")","v":95.8},"4",{"$f":"FIND(\" \"&AW2, 'Data Input'!$A2,AT2+1)","v":54},{"$f":"IFERROR(MID('Data Input'!$A2,AX2+2,2),\"\")","v":"41"},{"$f":"IFERROR(95.8-1.48*AY2,\"\")","v":{"v":35.12,"d":"35.1"}},"4",{"$f":"FIND(\" \"&BA2, 'Data Input'!$A2,AX2+1)","v":58},{"$f":"IFERROR(MID('Data Input'!$A2,BB2+2,2),\"\")","v":"00"},{"$f":"IFERROR(95.8-1.48*BC2,\"\")","v":95.8},"4",{"$f":"FIND(\" \"&BE2, 'Data Input'!$A2,BB2+1)","v":62},{"$f":"IFERROR(MID('Data Input'!$A2,BF2+2,2),\"\")","v":"00"},{"$f":"IFERROR(95.8-1.48*BG2,\"\")","v":95.8},"4",{"$f":"FIND(\" \"&BI2, 'Data Input'!$A2,BF2+1)","v":66},{"$f":"IFERROR(MID('Data Input'!$A2,BJ2+2,2),\"\")","v":"00"},{"$f":"IFERROR(95.8-1.48*BK2,\"\")","v":95.8},"5",{"$f":"FIND(\" \"&BM2, 'Data Input'!$A2,BJ2+1)","v":70},{"$f":"IFERROR(MID('Data Input'!$A2,BN2+2,2),\"\")","v":"00"},{"$f":"IFERROR(95.8-1.48*BO2,\"\")","v":95.8},"5",{"$f":"FIND(\" \"&BQ2, 'Data Input'!$A2,BN2+1)","v":74},{"$f":"IFERROR(MID('Data Input'!$A2,BR2+2,2),\"\")","v":"00"},{"$f":"IFERROR(11.67*BS2,\"\")","v":{"v":0,"d":"0.0"}},"5",{"$f":"FIND(\" \"&BU2, 'Data Input'!$A2,BR2+1)","v":78},{"$f":"IFERROR(MID('Data Input'!$A2,BV2+2,2),\"\")","v":"00"},{"$f":"IFERROR(95.8-1.48*BW2,\"\")","v":95.8},"5",{"$f":"FIND(\" \"&BY2, 'Data Input'!$A2,BV2+1)","v":82},{"$f":"IFERROR(MID('Data Input'!$A2,BZ2+2,2),\"\")","v":"00"},{"$f":"IFERROR(11+0.82*CA2,\"\")","v":11},"6",{"$f":"FIND(\" \"&CC2, 'Data Input'!$A2,BZ2+1)","v":86},{"$f":"IFERROR(MID('Data Input'!$A2,CD2+2,2),\"\")","v":"00"},{"$f":"IFERROR(CE2^2/1.56,\"\")","v":0},"6",{"$f":"FIND(\" \"&CG2, 'Data Input'!$A2,CD2+1)","v":90},{"$f":"IFERROR(MID('Data Input'!$A2,CH2+2,2),\"\")","v":"00"},{"$f":"IFERROR(0.1*CI2^2+35,\"\")","v":35},"6",{"$f":"FIND(\" \"&CK2, 'Data Input'!$A2,CH2+1)","v":94},{"$f":"IFERROR(MID('Data Input'!$A2,CL2+2,2),\"\")","v":"00"},{"$f":"IFERROR(0.041*CM2^2,\"\")","v":0},"6",{"$f":"FIND(\" \"&CO2, 'Data Input'!$A2,CL2+1)","v":98},{"$f":"IFERROR(MID('Data Input'!$A2,CP2+2,2),\"\")","v":"49"},{"$f":"IFERROR(0.01*CQ2,\"\")","v":0.49}]
["1",{"$f":"FIND(\" \"&A3, 'Data Input'!$A4)","v":6},{"$f":"IFERROR(MID('Data Input'!$A4,B3+2,2),\"\")","v":"00"},0,"1",{"$f":"FIND(\" \"&E3, 'Data Input'!$A4,B3+1)","v":10},{"$f":"IFERROR(MID('Data Input'!$A4,F3+2,2),\"\")","v":"99"},0,"1",{"$f":"FIND(\" \"&I3, 'Data Input'!$A4,F3+1)","v":14},{"$f":"IFERROR(MID('Data Input'!$A4,J3+2,2),\"\")","v":"99"},0,"1",{"$f":"FIND(\" \"&M3, 'Data Input'!$A4,J3+1)","v":18},{"$f":"IFERROR(MID('Data Input'!$A4,N3+2,2),\"\")","v":"99"},0,"2",{"$f":"FIND(\" \"&Q3, 'Data Input'!$A4,N3+1)","v":22},{"$f":"IFERROR(MID('Data Input'!$A4,R3+2,2),\"\")","v":"99"},{"$f":"IFERROR(10*(99-S3),\"\")","v":0},"2",{"$f":"FIND(\" \"&U3, 'Data Input'!$A4,R3+1)","v":26},{"$f":"IFERROR(MID('Data Input'!$A4,V3+2,2),\"\")","v":"99"},{"$f":"IFERROR(10*(99-W3),\"\")","v":{"v":0,"d":"0.00"}},"2",{"$f":"FIND(\" \"&Y3, 'Data Input'!$A4,V3+1)","v":30},{"$f":"IFERROR(MID('Data Input'!$A4,Z3+2,2),\"\")","v":"99"},{"$f":"IFERROR(10*(99-AA3),\"\")","v":{"v":0,"d":"0.00"}},"2",{"$f":"FIND(\" \"&AC3, 'Data Input'!$A4,Z3+1)","v":34},{"$f":"IFERROR(MID('Data Input'!$A4,AD3+2,2),\"\")","v":"73"},230,"3",{"$f":"FIND(\" \"&AG3, 'Data Input'!$A4,AD3+1)","v":38},{"$f":"IFERROR(MID('Data Input'!$A4,AH3+2,2),\"\")","v":"79"},{"$f":"IFERROR(IF(VALUE(AI3) > 45, 0.1*AI3-4.4, 0.1*AI3+6.4),\"\")","v":3.5},"3",{"$f":"FIND(\" \"&AK3, 'Data Input'!$A4,AH3+1)","v":42},{"$f":"IFERROR(MID('Data Input'!$A4,AL3+2,2),\"\")","v":"50"},{"v":5,"d":"5.0"},"3",{"$f":"FIND(\" \"&AO3, 'Data Input'!$A4,AL3+1)","v":46},{"$f":"IFERROR(MID('Data Input'!$A4,AP3+2,2),\"\")","v":"00"},{"v":0,"d":"0.00"},"3",{"$f":"FIND(\" \"&AS3, 'Data Input'!$A4,AP3+1)","v":50},{"$f":"IFERROR(MID('Data Input'!$A4,AT3+2,2),\"\")","v":"00"},95.8,"4",{"$f":"FIND(\" \"&AW3, 'Data Input'!$A4,AT3+1)","v":54},{"$f":"IFERROR(MID('Data Input'!$A4,AX3+2,2),\"\")","v":"41"},{"v":35.12,"d":"35.1"},"4",{"$f":"FIND(\" \"&BA3, 'Data Input'!$A4,AX3+1)","v":58},{"$f":"IFERROR(MID('Data Input'!$A4,BB3+2,2),\"\")","v":"00"},95.8,"4",{"$f":"FIND(\" \"&BE3, 'Data Input'!$A4,BB3+1)","v":62},{"$f":"IFERROR(MID('Data Input'!$A4,BF3+2,2),\"\")","v":"00"},95.8,"4",{"$f":"FIND(\" \"&BI3, 'Data Input'!$A4,BF3+1)","v":66},{"$f":"IFERROR(MID('Data Input'!$A4,BJ3+2,2),\"\")","v":"00"},95.8,"5",{"$f":"FIND(\" \"&BM3, 'Data Input'!$A4,BJ3+1)","v":70},{"$f":"IFERROR(MID('Data Input'!$A4,BN3+2,2),\"\")","v":"00"},95.8,"5",{"$f":"FIND(\" \"&BQ3, 'Data Input'!$A4,BN3+1)","v":74},{"$f":"IFERROR(MID('Data Input'!$A4,BR3+2,2),\"\")","v":"00"},{"v":0,"d":"0.0"},"5",{"$f":"FIND(\" \"&BU3, 'Data Input'!$A4,BR3+1)","v":78},{"$f":"IFERROR(MID('Data Input'!$A4,BV3+2,2),\"\")","v":"00"},95.8,"5",{"$f":"FIND(\" \"&BY3, 'Data Input'!$A4,BV3+1)","v":82},{"$f":"IFERROR(MID('Data Input'!$A4,BZ3+2,2),\"\")","v":"00"},11,"6",{"$f":"FIND(\" \"&CC3, 'Data Input'!$A4,BZ3+1)","v":86},{"$f":"IFERROR(MID('Data Input'!$A4,CD3+2,2),\"\")","v":"00"},0,"6",{"$f":"FIND(\" \"&CG3, 'Data Input'!$A4,CD3+1)","v":90},{"$f":"IFERROR(MID('Data Input'!$A4,CH3+2,2),\"\")","v":"00"},35,"6",{"$f":"FIND(\" \"&CK3, 'Data Input'!$A4,CH3+1)","v":94},{"$f":"IFERROR(MID('Data Input'!$A4,CL3+2,2),\"\")","v":"00"},0,"6",{"$f":"FIND(\" \"&CO3, 'Data Input'!$A4,CL3+1)","v":98},{"$f":"IFERROR(MID('Data Input'!$A4,CP3+2,2),\"\")","v":"49"},0.49]
["1",{"$f":"FIND(\" \"&A4, 'Data Input'!$A6)","v":6},{"$f":"IFERROR(MID('Data Input'!$A6,B4+2,2),\"\")","v":"00"},0,"1",{"$f":"FIND(\" \"&E4, 'Data Input'!$A6,B4+1)","v":10},{"$f":"IFERROR(MID('Data Input'!$A6,F4+2,2),\"\")","v":"99"},0,"1",{"$f":"FIND(\" \"&I4, 'Data Input'!$A6,F4+1)","v":14},{"$f":"IFERROR(MID('Data Input'!$A6,J4+2,2),\"\")","v":"99"},0,"1",{"$f":"FIND(\" \"&M4, 'Data Input'!$A6,J4+1)","v":18},{"$f":"IFERROR(MID('Data Input'!$A6,N4+2,2),\"\")","v":"99"},0,"2",{"$f":"FIND(\" \"&Q4, 'Data Input'!$A6,N4+1)","v":22},{"$f":"IFERROR(MID('Data Input'!$A6,R4+2,2),\"\")","v":"99"},0,"2",{"$f":"FIND(\" \"&U4, 'Data Input'!$A6,R4+1)","v":26},{"$f":"IFERROR(MID('Data Input'!$A6,V4+2,2),\"\")","v":"99"},{"v":0,"d":"0.00"},"2",{"$f":"FIND(\" \"&Y4, 'Data Input'!$A6,V4+1)","v":30},{"$f":"IFERROR(MID('Data Input'!$A6,Z4+2,2),\"\")","v":"99"},{"v":0,"d":"0.00"},"2",{"$f":"FIND(\" \"&AC4, 'Data Input'!$A6,Z4+1)","v":34},{"$f":"IFERROR(MID('Data Input'!$A6,AD4+2,2),\"\")","v":"73"},230,"3",{"$f":"FIND(\" \"&AG4, 'Data Input'!$A6,AD4+1)","v":38},{"$f":"IFERROR(MID('Data Input'!$A6,AH4+2,2),\"\")","v":"79"},{"$f":"IFERROR(IF(VALUE(AI4) > 45, 0.1*AI4-4.4, 0.1*AI4+6.4),\"\")","v":3.5},"3",{"$f":"FIND(\" \"&AK4, 'Data Input'!$A6,AH4+1)","v":42},{"$f":"IFERROR(MID('Data Input'!$A6,AL4+2,2),\"\")","v":"50"},{"v":5,"d":"5.0"},"3",{"$f":"FIND(\" \"&AO4, 'Data Input'!$A6,AL4+1)","v":46},{"$f":"IFERROR(MID('Data Input'!$A6,AP4+2,2),\"\")","v":"00"},{"v":0,"d":"0.00"},"3",{"$f":"FIND(\" \"&AS4, 'Data Input'!$A6,AP4+1)","v":50},{"$f":"IFERROR(MID('Data Input'!$A6,AT4+2,2),\"\")","v":"00"},95.8,"4",{"$f":"FIND(\" \"&AW4, 'Data Input'!$A6,AT4+1)","v":54},{"$f":"IFERROR(MID('Data Input'!$A6,AX4+2,2),\"\")","v":"41"},{"v":35.12,"d":"35.1"},"4",{"$f":"FIND(\" \"&BA4, 'Data Input'!$A6,AX4+1)","v":58},{"$f":"IFERROR(MID('Data Input'!$A6,BB4+2,2),\"\")","v":"00"},95.8,"4",{"$f":"FIND(\" \"&BE4, 'Data Input'!$A6,BB4+1)","v":62},{"$f":"IFERROR(MID('Data Input'!$A6,BF4+2,2),\"\")","v":"00"},95.8,"4",{"$f":"FIND(\" \"&BI4, 'Data Input'!$A6,BF4+1)","v":66},{"$f":"IFERROR(MID('Data Input'!$A6,BJ4+2,2),\"\")","v":"00"},95.8,"5",{"$f":"FIND(\" \"&BM4, 'Data Input'!$A6,BJ4+1)","v":70},{"$f":"IFERROR(MID('Data Input'!$A6,BN4+2,2),\"\")","v":"00"},95.8,"5",{"$f":"FIND(\" \"&BQ4, 'Data Input'!$A6,BN4+1)","v":74},{"$f":"IFERROR(MID('Data Input'!$A6,BR4+2,2),\"\")","v":"00"},{"v":0,"d":"0.0"},"5",{"$f":"FIND(\" \"&BU4, 'Data Input'!$A6,BR4+1)","v":78},{"$f":"IFERROR(MID('Data Input'!$A6,BV4+2,2),\"\")","v":"00"},95.8,"5",{"$f":"FIND(\" \"&BY4, 'Data Input'!$A6,BV4+1)","v":82},{"$f":"IFERROR(MID('Data Input'!$A6,BZ4+2,2),\"\")","v":"00"},11,"6",{"$f":"FIND(\" \"&CC4, 'Data Input'!$A6,BZ4+1)","v":86},{"$f":"IFERROR(MID('Data Input'!$A6,CD4+2,2),\"\")","v":"00"},0,"6",{"$f":"FIND(\" \"&CG4, 'Data Input'!$A6,CD4+1)","v":90},{"$f":"IFERROR(MID('Data Input'!$A6,CH4+2,2),\"\")","v":"00"},35,"6",{"$f":"FIND(\" \"&CK4, 'Data Input'!$A6,CH4+1)","v":94},{"$f":"IFERROR(MID('Data Input'!$A6,CL4+2,2),\"\")","v":"00"},0,"6",{"$f":"FIND(\" \"&CO4, 'Data Input'!$A6,CL4+1)","v":98},{"$f":"IFERROR(MID('Data Input'!$A6,CP4+2,2),\"\")","v":"49"},0.49]
["1",{"$f":"FIND(\" \"&A5, 'Data Input'!$A8)","v":6},{"$f":"IFERROR(MID('Data Input'!$A8,B5+2,2),\"\")","v":"00"},0,"1",{"$f":"FIND(\" \"&E5, 'Data Input'!$A8,B5+1)","v":10},{"$f":"IFERROR(MID('Data Input'!$A8,F5+2,2),\"\")","v":"99"},0,"1",{"$f":"FIND(\" \"&I5, 'Data Input'!$A8,F5+1)","v":14},{"$f":"IFERROR(MID('Data Input'!$A8,J5+2,2),\"\")","v":"99"},0,"1",{"$f":"FIND(\" \"&M5, 'Data Input'!$A8,J5+1)","v":18},{"$f":"IFERROR(MID('Data Input'!$A8,N5+2,2),\"\")","v":"99"},0,"2",{"$f":"FIND(\" \"&Q5, 'Data Input'!$A8,N5+1)","v":22},{"$f":"IFERROR(MID('Data Input'!$A8,R5+2,2),\"\")","v":"99"},0,"2",{"$f":"FIND(\" \"&U5, 'Data Input'!$A8,R5+1)","v":26},{"$f":"IFERROR(MID('Data Input'!$A8,V5+2,2),\"\")","v":"99"},{"v":0,"d":"0.00"},"2",{"$f":"FIND(\" \"&Y5, 'Data Input'!$A8,V5+1)","v":30},{"$f":"IFERROR(MID('Data Input'!$A8,Z5+2,2),\"\")","v":"99"},{"v":0,"d":"0.00"},"2",{"$f":"FIND(\" \"&AC5, 'Data Input'!$A8,Z5+1)","v":34},{"$f":"IFERROR(MID('Data Input'!$A8,AD5+2,2),\"\")","v":"74"},240,"3",{"$f":"FIND(\" \"&AG5, 'Data Input'!$A8,AD5+1)","v":38},{"$f":"IFERROR(MID('Data Input'!$A8,AH5+2,2),\"\")","v":"79"},3.5,"3",{"$f":"FIND(\" \"&AK5, 'Data Input'!$A8,AH5+1)","v":42},{"$f":"IFERROR(MID('Data Input'!$A8,AL5+2,2),\"\")","v":"50"},{"v":5,"d":"5.0"},"3",{"$f":"FIND(\" \"&AO5, 'Data Input'!$A8,AL5+1)","v":46},{"$f":"IFERROR(MID('Data Input'!$A8,AP5+2,2),\"\")","v":"00"},{"v":0,"d":"0.00"},"3",{"$f":"FIND(\" \"&AS5, 'Data Input'!$A8,AP5+1)","v":50},{"$f":"IFERROR(MID('Data Input'!$A8,AT5+2,2),\"\")","v":"00"},95.8,"4",{"$f":"FIND(\" \"&AW5, 'Data Input'!$A8,AT5+1)","v":54},{"$f":"IFERROR(MID('Data Input'!$A8,AX5+2,2),\"\")","v":"41"},{"v":35.12,"d":"35.1"},"4",{"$f":"FIND(\" \"&BA5, 'Data Input'!$A8,AX5+1)","v":58},{"$f":"IFERROR(MID('Data Input'!$A8,BB5+2,2),\"\")","v":"00"},95.8,"4",{"$f":"FIND(\" \"&BE5, 'Data Input'!$A8,BB5+1)","v":62},{"$f":"IFERROR(MID('Data Input'!$A8,BF5+2,2),\"\")","v":"00"},95.8,"4",{"$f":"FIND(\" \"&BI5, 'Data Input'!$A8,BF5+1)","v":66},{"$f":"IFERROR(MID('Data Input'!$A8,BJ5+2,2),\"\")","v":"00"},95.8,"5",{"$f":"FIND(\" \"&BM5, 'Data Input'!$A8,BJ5+1)","v":70},{"$f":"IFERROR(MID('Data Input'!$A8,BN5+2,2),\"\")","v":"00"},95.8,"5",{"$f":"FIND(\" \"&BQ5, 'Data Input'!$A8,BN5+1)","v":74},{"$f":"IFERROR(MID('Data Input'!$A8,BR5+2,2),\"\")","v":"00"},{"v":0,"d":"0.0"},"5",{"$f":"FIND(\" \"&BU5, 'Data Input'!$A8,BR5+1)","v":78},{"$f":"IFERROR(MID('Data Input'!$A8,BV5+2,2),\"\")","v":"00"},95.8,"5",{"$f":"FIND(\" \"&BY5, 'Data Input'!$A8,BV5+1)","v":82},{"$f":"IFERROR(MID('Data Input'!$A8,BZ5+2,2),\"\")","v":"00"},11,"6",{"$f":"FIND(\" \"&CC5, 'Data Input'!$A8,BZ5+1)","v":86},{"$f":"IFERROR(MID('Data Input'!$A8,CD5+2,2),\"\")","v":"00"},0,"6",{"$f":"FIND(\" \"&CG5, 'Data Input'!$A8,CD5+1)","v":90},{"$f":"IFERROR(MID('Data Input'!$A8,CH5+2,2),\"\")","v":"00"},35,"6",{"$f":"FIND(\" \"&CK5, 'Data Input'!$A8,CH5+1)","v":94},{"$f":"IFERROR(MID('Data Input'!$A8,CL5+2,2),\"\")","v":"00"},0,"6",{"$f":"FIND(\" \"&CO5, 'Data Input'!$A8,CL5+1)","v":98},{"$f":"IFERROR(MID('Data Input'!$A8,CP5+2,2),\"\")","v":"49"},0.49]
["1",{"$f":"FIND(\" \"&A6, 'Data Input'!$A10)","v":6},{"$f":"IFERROR(MID('Data Input'!$A10,B6+2,2),\"\")","v":"00"},0,"1",{"$f":"FIND(\" \"&E6, 'Data Input'!$A10,B6+1)","v":10},{"$f":"IFERROR(MID('Data Input'!$A10,F6+2,2),\"\")","v":"99"},0,"1",{"$f":"FIND(\" \"&I6, 'Data Input'!$A10,F6+1)","v":14},{"$f":"IFERROR(MID('Data Input'!$A10,J6+2,2),\"\")","v":"99"},0,"1",{"$f":"FIND(\" \"&M6, 'Data Input'!$A10,J6+1)","v":18},{"$f":"IFERROR(MID('Data Input'!$A10,N6+2,2),\"\")","v":"99"},0,"2",{"$f":"FIND(\" \"&Q6, 'Data Input'!$A10,N6+1)","v":22},{"$f":"IFERROR(MID('Data Input'!$A10,R6+2,2),\"\")","v":"99"},0,"2",{"$f":"FIND(\" \"&U6, 'Data Input'!$A10,R6+1)","v":26},{"$f":"IFERROR(MID('Data Input'!$A10,V6+2,2),\"\")","v":"99"},{"v":0,"d":"0.00"},"2",{"$f":"FIND(\" \"&Y6, 'Data Input'!$A10,V6+1)","v":30},{"$f":"IFERROR(MID('Data Input'!$A10,Z6+2,2),\"\")","v":"99"},{"v":0,"d":"0.00"},"2",{"$f":"FIND(\" \"&AC6, 'Data Input'!$A10,Z6+1)","v":34},{"$f":"IFERROR(MID('Data Input'!$A10,AD6+2,2),\"\")","v":"73"},230,"3",{"$f":"FIND(\" \"&AG6, 'Data Input'!$A10,AD6+1)","v":38},{"$f":"IFERROR(MID('Data Input'!$A10,AH6+2,2),\"\")","v":"79"},3.5,"3",{"$f":"FIND(\" \"&AK6, 'Data Input'!$A10,AH6+1)","v":42},{"$f":"IFERROR(MID('Data Input'!$A10,AL6+2,2),\"\")","v":"50"},{"v":5,"d":"5.0"},"3",{"$f":"FIND(\" \"&AO6, 'Data Input'!$A10,AL6+1)","v":46},{"$f":"IFERROR(MID('Data Input'!$A10,AP6+2,2),\"\")","v":"00"},{"v":0,"d":"0.00"},"3",{"$f":"FIND(\" \"&AS6, 'Data Input'!$A10,AP6+1)","v":50},{"$f":"IFERROR(MID('Data Input'!$A10,AT6+2,2),\"\")","v":"00"},95.8,"4",{"$f":"FIND(\" \"&AW6, 'Data Input'!$A10,AT6+1)","v":54},{"$f":"IFERROR(MID('Data Input'!$A10,AX6+2,2),\"\")","v":"41"},{"v":35.12,"d":"35.1"},"4",{"$f":"FIND(\" \"&BA6, 'Data Input'!$A10,AX6+1)","v":58},{"$f":"IFERROR(MID('Data Input'!$A10,BB6+2,2),\"\")","v":"00"},95.8,"4",{"$f":"FIND(\" \"&BE6, 'Data Input'!$A10,BB6+1)","v":62},{"$f":"IFERROR(MID('Data Input'!$A10,BF6+2,2),\"\")","v":"00"},95.8,"4",{"$f":"FIND(\" \"&BI6, 'Data Input'!$A10,BF6+1)","v":66},{"$f":"IFERROR(MID('Data Input'!$A10,BJ6+2,2),\"\")","v":"00"},95.8,"5",{"$f":"FIND(\" \"&BM6, 'Data Input'!$A10,BJ6+1)","v":70},{"$f":"IFERROR(MID('Data Input'!$A10,BN6+2,2),\"\")","v":"00"},95.8,"5",{"$f":"FIND(\" \"&BQ6, 'Data Input'!$A10,BN6+1)","v":74},{"$f":"IFERROR(MID('Data Input'!$A10,BR6+2,2),\"\")","v":"00"},{"v":0,"d":"0.0"},"5",{"$f":"FIND(\" \"&BU6, 'Data Input'!$A10,BR6+1)","v":78},{"$f":"IFERROR(MID('Data Input'!$A10,BV6+2,2),\"\")","v":"00"},95.8,"5",{"$f":"FIND(\" \"&BY6, 'Data Input'!$A10,BV6+1)","v":82},{"$f":"IFERROR(MID('Data Input'!$A10,BZ6+2,2),\"\")","v":"00"},11,"6",{"$f":"FIND(\" \"&CC6, 'Data Input'!$A10,BZ6+1)","v":86},{"$f":"IFERROR(MID('Data Input'!$A10,CD6+2,2),\"\")","v":"00"},0,"6",{"$f":"FIND(\" \"&CG6, 'Data Input'!$A10,CD6+1)","v":90},{"$f":"IFERROR(MID('Data Input'!$A10,CH6+2,2),\"\")","v":"00"},35,"6",{"$f":"FIND(\" \"&CK6, 'Data Input'!$A10,CH6+1)","v":94},{"$f":"IFERROR(MID('Data Input'!$A10,CL6+2,2),\"\")","v":"00"},0,"6",{"$f":"FIND(\" \"&CO6, 'Data Input'!$A10,CL6+1)","v":98},{"$f":"IFERROR(MID('Data Input'!$A10,CP6+2,2),\"\")","v":"49"},0.49]
["1",{"$f":"FIND(\" \"&A7, 'Data Input'!$A12)","v":6},{"$f":"IFERROR(MID('Data Input'!$A12,B7+2,2),\"\")","v":"00"},0,"1",{"$f":"FIND(\" \"&E7, 'Data Input'!$A12,B7+1)","v":10},{"$f":"IFERROR(MID('Data Input'!$A12,F7+2,2),\"\")","v":"99"},0,"1",{"$f":"FIND(\" \"&I7, 'Data Input'!$A12,F7+1)","v":14},{"$f":"IFERROR(MID('Data Input'!$A12,J7+2,2),\"\")","v":"99"},0,"1",{"$f":"FIND(\" \"&M7, 'Data Input'!$A12,J7+1)","v":18},{"$f":"IFERROR(MID('Data Input'!$A12,N7+2,2),\"\")","v":"99"},0,"2",{"$f":"FIND(\" \"&Q7, 'Data Input'!$A12,N7+1)","v":22},{"$f":"IFERROR(MID('Data Input'!$A12,R7+2,2),\"\")","v":"99"},0,"2",{"$f":"FIND(\" \"&U7, 'Data Input'!$A12,R7+1)","v":26},{"$f":"IFERROR(MID('Data Input'!$A12,V7+2,2),\"\")","v":"99"},{"v":0,"d":"0.00"},"2",{"$f":"FIND(\" \"&Y7, 'Data Input'!$A12,V7+1)","v":30},{"$f":"IFERROR(MID('Data Input'!$A12,Z7+2,2),\"\")","v":"99"},{"v":0,"d":"0.00"},"2",{"$f":"FIND(\" \"&AC7, 'Data Input'!$A12,Z7+1)","v":34},{"$f":"IFERROR(MID('Data Input'!$A12,AD7+2,2),\"\")","v":"73"},230,"3",{"$f":"FIND(\" \"&AG7, 'Data Input'!$A12,AD7+1)","v":38},{"$f":"IFERROR(MID('Data Input'!$A12,AH7+2,2),\"\")","v":"79"},3.5,"3",{"$f":"FIND(\" \"&AK7, 'Data Input'!$A12,AH7+1)","v":42},{"$f":"IFERROR(MID('Data Input'!$A12,AL7+2,2),\"\")","v":"50"},{"v":5,"d":"5.0"},"3",{"$f":"FIND(\" \"&AO7, 'Data Input'!$A12,AL7+1)","v":46},{"$f":"IFERROR(MID('Data Input'!$A12,AP7+2,2),\"\")","v":"00"},{"v":0,"d":"0.00"},"3",{"$f":"FIND(\" \"&AS7, 'Data Input'!$A12,AP7+1)","v":50},{"$f":"IFERROR(MID('Data Input'!$A12,AT7+2,2),\"\")","v":"00"},95.8,"4",{"$f":"FIND(\" \"&AW7, 'Data Input'!$A12,AT7+1)","v":54},{"$f":"IFERROR(MID('Data Input'!$A12,AX7+2,2),\"\")","v":"42"},{"v":33.64,"d":"33.6"},"4",{"$f":"FIND(\" \"&BA7, 'Data Input'!$A12,AX7+1)","v":58},{"$f":"IFERROR(MID('Data Input'!$A12,BB7+2,2),\"\")","v":"00"},95.8,"4",{"$f":"FIND(\" \"&BE7, 'Data Input'!$A12,BB7+1)","v":62},{"$f":"IFERROR(MID('Data Input'!$A12,BF7+2,2),\"\")","v":"00"},95.8,"4",{"$f":"FIND(\" \"&BI7, 'Data Input'!$A12,BF7+1)","v":66},{"$f":"IFERROR(MID('Data Input'!$A12,BJ7+2,2),\"\")","v":"00"},95.8,"5",{"$f":"FIND(\" \"&BM7, 'Data Input'!$A12,BJ7+1)","v":70},{"$f":"IFERROR(MID('Data Input'!$A12,BN7+2,2),\"\")","v":"00"},95.8,"5",{"$f":"FIND(\" \"&BQ7, 'Data Input'!$A12,BN7+1)","v":74},{"$f":"IFERROR(MID('Data Input'!$A12,BR7+2,2),\"\")","v":"00"},{"v":0,"d":"0.0"},"5",{"$f":"FIND(\" \"&BU7, 'Data Input'!$A12,BR7+1)","v":78},{"$f":"IFERROR(MID('Data Input'!$A12,BV7+2,2),\"\")","v":"00"},95.8,"5",{"$f":"FIND(\" \"&BY7, 'Data Input'!$A12,BV7+1)","v":82},{"$f":"IFERROR(MID('Data Input'!$A12,BZ7+2,2),\"\")","v":"00"},11,"6",{"$f":"FIND(\" \"&CC7, 'Data Input'!$A12,BZ7+1)","v":86},{"$f":"IFERROR(MID('Data Input'!$A12,CD7+2,2),\"\")","v":"00"},0,"6",{"$f":"FIND(\" \"&CG7, 'Data Input'!$A12,CD7+1)","v":90},{"$f":"IFERROR(MID('Data Input'!$A12,CH7+2,2),\"\")","v":"00"},35,"6",{"$f":"FIND(\" \"&CK7, 'Data Input'!$A12,CH7+1)","v":94},{"$f":"IFERROR(MID('Data Input'!$A12,CL7+2,2),\"\")","v":"00"},0,"6",{"$f":"FIND(\" \"&CO7, 'Data Input'!$A12,CL7+1)","v":98},{"$f":"IFERROR(MID('Data Input'!$A12,CP7+2,2),\"\")","v":"51"},0.51]
["1",{"$f":"FIND(\" \"&A8, 'Data Input'!$A14)","v":6},{"$f":"IFERROR(MID('Data Input'!$A14,B8+2,2),\"\")","v":"00"},0,"1",{"$f":"FIND(\" \"&E8, 'Data Input'!$A14,B8+1)","v":10},{"$f":"IFERROR(MID('Data Input'!$A14,F8+2,2),\"\")","v":"99"},0,"1",{"$f":"FIND(\" \"&I8, 'Data Input'!$A14,F8+1)","v":14},{"$f":"IFERROR(MID('Data Input'!$A14,J8+2,2),\"\")","v":"99"},0,"1",{"$f":"FIND(\" \"&M8, 'Data Input'!$A14,J8+1)","v":18},{"$f":"IFERROR(MID('Data Input'!$A14,N8+2,2),\"\")","v":"99"},0,"2",{"$f":"FIND(\" \"&Q8, 'Data Input'!$A14,N8+1)","v":22},{"$f":"IFERROR(MID('Data Input'!$A14,R8+2,2),\"\")","v":"99"},0,"2",{"$f":"FIND(\" \"&U8, 'Data Input'!$A14,R8+1)","v":26},{"$f":"IFERROR(MID('Data Input'!$A14,V8+2,2),\"\")","v":"99"},{"v":0,"d":"0.00"},"2",{"$f":"FIND(\" \"&Y8, 'Data Input'!$A14,V8+1)","v":30},{"$f":"IFERROR(MID('Data Input'!$A14,Z8+2,2),\"\")","v":"99"},{"v":0,"d":"0.00"},"2",{"$f":"FIND(\" \"&AC8, 'Data Input'!$A14,Z8+1)","v":34},{"$f":"IFERROR(MID('Data Input'!$A14,AD8+2,2),\"\")","v":"73"},230,"3",{"$f":"FIND(\" \"&AG8, 'Data Input'!$A14,AD8+1)","v":38},{"$f":"IFERROR(MID('Data Input'!$A14,AH8+2,2),\"\")","v":"79"},3.5,"3",{"$f":"FIND(\" \"&AK8, 'Data Input'!$A14,AH8+1)","v":42},{"$f":"IFERROR(MID('Data Input'!$A14,AL8+2,2),\"\")","v":"50"},{"v":5,"d":"5.0"},"3",{"$f":"FIND(\" \"&AO8, 'Data Input'!$A14,AL8+1)","v":46},{"$f":"IFERROR(MID('Data Input'!$A14,AP8+2,2),\"\")","v":"00"},{"v":0,"d":"0.00"},"3",{"$f":"FIND(\" \"&AS8, 'Data Input'!$A14,AP8+1)","v":50},{"$f":"IFERROR(MID('Data Input'!$A14,AT8+2,2),\"\")","v":"00"},95.8,"4",{"$f":"FIND(\" \"&AW8, 'Data Input'!$A14,AT8+1)","v":54},{"$f":"IFERROR(MID('Data Input'!$A14,AX8+2,2),\"\")","v":"41"},{"v":35.12,"d":"35.1"},"4",{"$f":"FIND(\" \"&BA8, 'Data Input'!$A14,AX8+1)","v":58},{"$f":"IFERROR(MID('Data Input'!$A14,BB8+2,2),\"\")","v":"00"},95.8,"4",{"$f":"FIND(\" \"&BE8, 'Data Input'!$A14,BB8+1)","v":62},{"$f":"IFERROR(MID('Data Input'!$A14,BF8+2,2),\"\")","v":"00"},95.8,"4",{"$f":"FIND(\" \"&BI8, 'Data Input'!$A14,BF8+1)","v":66},{"$f":"IFERROR(MID('Data Input'!$A14,BJ8+2,2),\"\")","v":"00"},95.8,"5",{"$f":"FIND(\" \"&BM8, 'Data Input'!$A14,BJ8+1)","v":70},{"$f":"IFERROR(MID('Data Input'!$A14,BN8+2,2),\"\")","v":"00"},95.8,"5",{"$f":"FIND(\" \"&BQ8, 'Data Input'!$A14,BN8+1)","v":74},{"$f":"IFERROR(MID('Data Input'!$A14,BR8+2,2),\"\")","v":"00"},{"v":0,"d":"0.0"},"5",{"$f":"FIND(\" \"&BU8, 'Data Input'!$A14,BR8+1)","v":78},{"$f":"IFERROR(MID('Data Input'!$A14,BV8+2,2),\"\")","v":"00"},95.8,"5",{"$f":"FIND(\" \"&BY8, 'Data Input'!$A14,BV8+1)","v":82},{"$f":"IFERROR(MID('Data Input'!$A14,BZ8+2,2),\"\")","v":"00"},11,"6",{"$f":"FIND(\" \"&CC8, 'Data Input'!$A14,BZ8+1)","v":86},{"$f":"IFERROR(MID('Data Input'!$A14,CD8+2,2),\"\")","v":"00"},0,"6",{"$f":"FIND(\" \"&CG8, 'Data Input'!$A14,CD8+1)","v":90},{"$f":"IFERROR(MID('Data Input'!$A14,CH8+2,2),\"\")","v":"00"},35,"6",{"$f":"FIND(\" \"&CK8, 'Data Input'!$A14,CH8+1)","v":94},{"$f":"IFERROR(MID('Data Input'!$A14,CL8+2,2),\"\")","v":"00"},0,"6",{"$f":"FIND(\" \"&CO8, 'Data Input'!$A14,CL8+1)","v":98},{"$f":"IFERROR(MID('Data Input'!$A14,CP8+2,2),\"\")","v":"51"},0.51]
["1",{"$f":"FIND(\" \"&A9, 'Data Input'!$A16)","v":6},{"$f":"IFERROR(MID('Data Input'!$A16,B9+2,2),\"\")","v":"00"},0,"1",{"$f":"FIND(\" \"&E9, 'Data Input'!$A16,B9+1)","v":10},{"$f":"IFERROR(MID('Data Input'!$A16,F9+2,2),\"\")","v":"99"},0,"1",{"$f":"FIND(\" \"&I9, 'Data Input'!$A16,F9+1)","v":14},{"$f":"IFERROR(MID('Data Input'!$A16,J9+2,2),\"\")","v":"99"},0,"1",{"$f":"FIND(\" \"&M9, 'Data Input'!$A16,J9+1)","v":18},{"$f":"IFERROR(MID('Data Input'!$A16,N9+2,2),\"\")","v":"99"},0,"2",{"$f":"FIND(\" \"&Q9, 'Data Input'!$A16,N9+1)","v":22},{"$f":"IFERROR(MID('Data Input'!$A16,R9+2,2),\"\")","v":"99"},0,"2",{"$f":"FIND(\" \"&U9, 'Data Input'!$A16,R9+1)","v":26},{"$f":"IFERROR(MID('Data Input'!$A16,V9+2,2),\"\")","v":"99"},{"v":0,"d":"0.00"},"2",{"$f":"FIND(\" \"&Y9, 'Data Input'!$A16,V9+1)","v":30},{"$f":"IFERROR(MID('Data Input'!$A16,Z9+2,2),\"\")","v":"99"},{"v":0,"d":"0.00"},"2",{"$f":"FIND(\" \"&AC9, 'Data Input'!$A16,Z9+1)","v":34},{"$f":"IFERROR(MID('Data Input'!$A16,AD9+2,2),\"\")","v":"73"},230,"3",{"$f":"FIND(\" \"&AG9, 'Data Input'!$A16,AD9+1)","v":38},{"$f":"IFERROR(MID('Data Input'!$A16,AH9+2,2),\"\")","v":"79"},3.5,"3",{"$f":"FIND(\" \"&AK9, 'Data Input'!$A16,AH9+1)","v":42},{"$f":"IFERROR(MID('Data Input'!$A16,AL9+2,2),\"\")","v":"50"},{"v":5,"d":"5.0"},"3",{"$f":"FIND(\" \"&AO9, 'Data Input'!$A16,AL9+1)","v":46},{"$f":"IFERROR(MID('Data Input'!$A16,AP9+2,2),\"\")","v":"00"},{"v":0,"d":"0.00"},"3",{"$f":"FIND(\" \"&AS9, 'Data Input'!$A16,AP9+1)","v":50},{"$f":"IFERROR(MID('Data Input'!$A16,AT9+2,2),\"\")","v":"00"},95.8,"4",{"$f":"FIND(\" \"&AW9, 'Data Input'!$A16,AT9+1)","v":54},{"$f":"IFERROR(MID('Data Input'!$A16,AX9+2,2),\"\")","v":"41"},{"v":35.12,"d":"35.1"},"4",{"$f":"FIND(\" \"&BA9, 'Data Input'!$A16,AX9+1)","v":58},{"$f":"IFERROR(MID('Data Input'!$A16,BB9+2,2),\"\")","v":"00"},95.8,"4",{"$f":"FIND(\" \"&BE9, 'Data Input'!$A16,BB9+1)","v":62},{"$f":"IFERROR(MID('Data Input'!$A16,BF9+2,2),\"\")","v":"00"},95.8,"4",{"$f":"FIND(\" \"&BI9, 'Data Input'!$A16,BF9+1)","v":66},{"$f":"IFERROR(MID('Data Input'!$A16,BJ9+2,2),\"\")","v":"00"},95.8,"5",{"$f":"FIND(\" \"&BM9, 'Data Input'!$A16,BJ9+1)","v":70},{"$f":"IFERROR(MID('Data Input'!$A16,BN9+2,2),\"\")","v":"00"},95.8,"5",{"$f":"FIND(\" \"&BQ9, 'Data Input'!$A16,BN9+1)","v":74},{"$f":"IFERROR(MID('Data Input'!$A16,BR9+2,2),\"\")","v":"00"},{"v":0,"d":"0.0"},"5",{"$f":"FIND(\" \"&BU9, 'Data Input'!$A16,BR9+1)","v":78},{"$f":"IFERROR(MID('Data Input'!$A16,BV9+2,2),\"\")","v":"00"},95.8,"5",{"$f":"FIND(\" \"&BY9, 'Data Input'!$A16,BV9+1)","v":82},{"$f":"IFERROR(MID('Data Input'!$A16,BZ9+2,2),\"\")","v":"00"},11,"6",{"$f":"FIND(\" \"&CC9, 'Data Input'!$A16,BZ9+1)","v":86},{"$f":"IFERROR(MID('Data Input'!$A16,CD9+2,2),\"\")","v":"00"},0,"6",{"$f":"FIND(\" \"&CG9, 'Data Input'!$A16,CD9+1)","v":90},{"$f":"IFERROR(MID('Data Input'!$A16,CH9+2,2),\"\")","v":"00"},35,"6",{"$f":"FIND(\" \"&CK9, 'Data Input'!$A16,CH9+1)","v":94},{"$f":"IFERROR(MID('Data Input'!$A16,CL9+2,2),\"\")","v":"00"},0,"6",{"$f":"FIND(\" \"&CO9, 'Data Input'!$A16,CL9+1)","v":98},{"$f":"IFERROR(MID('Data Input'!$A16,CP9+2,2),\"\")","v":"49"},0.49]
["1",{"$f":"FIND(\" \"&A10, 'Data Input'!$A18)","v":6},{"$f":"IFERROR(MID('Data Input'!$A18,B10+2,2),\"\")","v":"00"},0,"1",{"$f":"FIND(\" \"&E10, 'Data Input'!$A18,B10+1)","v":10},{"$f":"IFERROR(MID('Data Input'!$A18,F10+2,2),\"\")","v":"99"},0,"1",{"$f":"FIND(\" \"&I10, 'Data Input'!$A18,F10+1)","v":14},{"$f":"IFERROR(MID('Data Input'!$A18,J10+2,2),\"\")","v":"99"},0,"1",{"$f":"FIND(\" \"&M10, 'Data Input'!$A18,J10+1)","v":18},{"$f":"IFERROR(MID('Data Input'!$A18,N10+2,2),\"\")","v":"99"},0,"2",{"$f":"FIND(\" \"&Q10, 'Data Input'!$A18,N10+1)","v":22},{"$f":"IFERROR(MID('Data Input'!$A18,R10+2,2),\"\")","v":"99"},0,"2",{"$f":"FIND(\" \"&U10, 'Data Input'!$A18,R10+1)","v":26},{"$f":"IFERROR(MID('Data Input'!$A18,V10+2,2),\"\")","v":"99"},{"v":0,"d":"0.00"},"2",{"$f":"FIND(\" \"&Y10, 'Data Input'!$A18,V10+1)","v":30},{"$f":"IFERROR(MID('Data Input'!$A18,Z10+2,2),\"\")","v":"99"},{"v":0,"d":"0.00"},"2",{"$f":"FIND(\" \"&AC10, 'Data Input'!$A18,Z10+1)","v":34},{"$f":"IFERROR(MID('Data Input'!$A18,AD10+2,2),\"\")","v":"74"},240,"3",{"$f":"FIND(\" \"&AG10, 'Data Input'!$A18,AD10+1)","v":38},{"$f":"IFERROR(MID('Data Input'!$A18,AH10+2,2),\"\")","v":"78"},{"v":3.4000000000000004,"d":"3.4"},"3",{"$f":"FIND(\" \"&AK10, 'Data Input'!$A18,AH10+1)","v":42},{"$f":"IFERROR(MID('Data Input'!$A18,AL10+2,2),\"\")","v":"50"},{"v":5,"d":"5.0"},"3",{"$f":"FIND(\" \"&AO10, 'Data Input'!$A18,AL10+1)","v":46},{"$f":"IFERROR(MID('Data Input'!$A18,AP10+2,2),\"\")","v":"00"},{"v":0,"d":"0.00"},"3",{"$f":"FIND(\" \"&AS10, 'Data Input'!$A18,AP10+1)","v":50},{"$f":"IFERROR(MID('Data Input'!$A18,AT10+2,2),\"\")","v":"00"},95.8,"4",{"$f":"FIND(\" \"&AW10, 'Data Input'!$A18,AT10+1)","v":54},{"$f":"IFERROR(MID('Data Input'!$A18,AX10+2,2),\"\")","v":"41"},{"v":35.12,"d":"35.1"},"4",{"$f":"FIND(\" \"&BA10, 'Data Input'!$A18,AX10+1)","v":58},{"$f":"IFERROR(MID('Data Input'!$A18,BB10+2,2),\"\")","v":"00"},95.8,"4",{"$f":"FIND(\" \"&BE10, 'Data Input'!$A18,BB10+1)","v":62},{"$f":"IFERROR(MID('Data Input'!$A18,BF10+2,2),\"\")","v":"00"},95.8,"4",{"$f":"FIND(\" \"&BI10, 'Data Input'!$A18,BF10+1)","v":66},{"$f":"IFERROR(MID('Data Input'!$A18,BJ10+2,2),\"\")","v":"00"},95.8,"5",{"$f":"FIND(\" \"&BM10, 'Data Input'!$A18,BJ10+1)","v":70},{"$f":"IFERROR(MID('Data Input'!$A18,BN10+2,2),\"\")","v":"00"},95.8,"5",{"$f":"FIND(\" \"&BQ10, 'Data Input'!$A18,BN10+1)","v":74},{"$f":"IFERROR(MID('Data Input'!$A18,BR10+2,2),\"\")","v":"00"},{"v":0,"d":"0.0"},"5",{"$f":"FIND(\" \"&BU10, 'Data Input'!$A18,BR10+1)","v":78},{"$f":"IFERROR(MID('Data Input'!$A18,BV10+2,2),\"\")","v":"00"},95.8,"5",{"$f":"FIND(\" \"&BY10, 'Data Input'!$A18,BV10+1)","v":82},{"$f":"IFERROR(MID('Data Input'!$A18,BZ10+2,2),\"\")","v":"00"},11,"6",{"$f":"FIND(\" \"&CC10, 'Data Input'!$A18,BZ10+1)","v":86},{"$f":"IFERROR(MID('Data Input'!$A18,CD10+2,2),\"\")","v":"00"},0,"6",{"$f":"FIND(\" \"&CG10, 'Data Input'!$A18,CD10+1)","v":90},{"$f":"IFERROR(MID('Data Input'!$A18,CH10+2,2),\"\")","v":"00"},35,"6",{"$f":"FIND(\" \"&CK10, 'Data Input'!$A18,CH10+1)","v":94},{"$f":"IFERROR(MID('Data Input'!$A18,CL10+2,2),\"\")","v":"00"},0,"6",{"$f":"FIND(\" \"&CO10, 'Data Input'!$A18,CL10+1)","v":98},{"$f":"IFERROR(MID('Data Input'!$A18,CP10+2,2),\"\")","v":"51"},0.51]
["1",{"$f":"FIND(\" \"&A11, 'Data Input'!$A20)","v":6},{"$f":"IFERROR(MID('Data Input'!$A20,B11+2,2),\"\")","v":"00"},0,"1",{"$f":"FIND(\" \"&E11, 'Data Input'!$A20,B11+1)","v":10},{"$f":"IFERROR(MID('Data Input'!$A20,F11+2,2),\"\")","v":"99"},0,"1",{"$f":"FIND(\" \"&I11, 'Data Input'!$A20,F11+1)","v":14},{"$f":"IFERROR(MID('Data Input'!$A20,J11+2,2),\"\")","v":"99"},0,"1",{"$f":"FIND(\" \"&M11, 'Data Input'!$A20,J11+1)","v":18},{"$f":"IFERROR(MID('Data Input'!$A20,N11+2,2),\"\")","v":"99"},0,"2",{"$f":"FIND(\" \"&Q11, 'Data Input'!$A20,N11+1)","v":22},{"$f":"IFERROR(MID('Data Input'!$A20,R11+2,2),\"\")","v":"99"},0,"2",{"$f":"FIND(\" \"&U11, 'Data Input'!$A20,R11+1)","v":26},{"$f":"IFERROR(MID('Data Input'!$A20,V11+2,2),\"\")","v":"99"},{"v":0,"d":"0.00"},"2",{"$f":"FIND(\" \"&Y11, 'Data Input'!$A20,V11+1)","v":30},{"$f":"IFERROR(MID('Data Input'!$A20,Z11+2,2),\"\")","v":"99"},{"v":0,"d":"0.00"},"2",{"$f":"FIND(\" \"&AC11, 'Data Input'!$A20,Z11+1)","v":34},{"$f":"IFERROR(MID('Data Input'!$A20,AD11+2,2),\"\")","v":"74"},240,"3",{"$f":"FIND(\" \"&AG11, 'Data Input'!$A20,AD11+1)","v":38},{"$f":"IFERROR(MID('Data Input'!$A20,AH11+2,2),\"\")","v":"77"},3.3,"3",{"$f":"FIND(\" \"&AK11, 'Data Input'!$A20,AH11+1)","v":42},{"$f":"IFERROR(MID('Data Input'!$A20,AL11+2,2),\"\")","v":"50"},{"v":5,"d":"5.0"},"3",{"$f":"FIND(\" \"&AO11, 'Data Input'!$A20,AL11+1)","v":46},{"$f":"IFERROR(MID('Data Input'!$A20,AP11+2,2),\"\")","v":"00"},{"v":0,"d":"0.00"},"3",{"$f":"FIND(\" \"&AS11, 'Data Input'!$A20,AP11+1)","v":50},{"$f":"IFERROR(MID('Data Input'!$A20,AT11+2,2),\"\")","v":"00"},95.8,"4",{"$f":"FIND(\" \"&AW11, 'Data Input'!$A20,AT11+1)","v":54},{"$f":"IFERROR(MID('Data Input'!$A20,AX11+2,2),\"\")","v":"42"},{"v":33.64,"d":"33.6"},"4",{"$f":"FIND(\" \"&BA11, 'Data Input'!$A20,AX11+1)","v":58},{"$f":"IFERROR(MID('Data Input'!$A20,BB11+2,2),\"\")","v":"00"},95.8,"4",{"$f":"FIND(\" \"&BE11, 'Data Input'!$A20,BB11+1)","v":62},{"$f":"IFERROR(MID('Data Input'!$A20,BF11+2,2),\"\")","v":"00"},95.8,"4",{"$f":"FIND(\" \"&BI11, 'Data Input'!$A20,BF11+1)","v":66},{"$f":"IFERROR(MID('Data Input'!$A20,BJ11+2,2),\"\")","v":"00"},95.8,"5",{"$f":"FIND(\" \"&BM11, 'Data Input'!$A20,BJ11+1)","v":70},{"$f":"IFERROR(MID('Data Input'!$A20,BN11+2,2),\"\")","v":"00"},95.8,"5",{"$f":"FIND(\" \"&BQ11, 'Data Input'!$A20,BN11+1)","v":74},{"$f":"IFERROR(MID('Data Input'!$A20,BR11+2,2),\"\")","v":"00"},{"v":0,"d":"0.0"},"5",{"$f":"FIND(\" \"&BU11, 'Data Input'!$A20,BR11+1)","v":78},{"$f":"IFERROR(MID('Data Input'!$A20,BV11+2,2),\"\")","v":"00"},95.8,"5",{"$f":"FIND(\" \"&BY11, 'Data Input'!$A20,BV11+1)","v":82},{"$f":"IFERROR(MID('Data Input'!$A20,BZ11+2,2),\"\")","v":"00"},11,"6",{"$f":"FIND(\" \"&CC11, 'Data Input'!$A20,BZ11+1)","v":86},{"$f":"IFERROR(MID('Data Input'!$A20,CD11+2,2),\"\")","v":"00"},0,"6",{"$f":"FIND(\" \"&CG11, 'Data Input'!$A20,CD11+1)","v":90},{"$f":"IFERROR(MID('Data Input'!$A20,CH11+2,2),\"\")","v":"00"},35,"6",{"$f":"FIND(\" \"&CK11, 'Data Input'!$A20,CH11+1)","v":94},{"$f":"IFERROR(MID('Data Input'!$A20,CL11+2,2),\"\")","v":"00"},0,"6",{"$f":"FIND(\" \"&CO11, 'Data Input'!$A20,CL11+1)","v":98},{"$f":"IFERROR(MID('Data Input'!$A20,CP11+2,2),\"\")","v":"50"},{"v":0.5,"d":"0.50"}]
["1",{"$f":"FIND(\" \"&A12, 'Data Input'!$A22)","v":6},{"$f":"IFERROR(MID('Data Input'!$A22,B12+2,2),\"\")","v":"00"},0,"1",{"$f":"FIND(\" \"&E12, 'Data Input'!$A22,B12+1)","v":10},{"$f":"IFERROR(MID('Data Input'!$A22,F12+2,2),\"\")","v":"99"},0,"1",{"$f":"FIND(\" \"&I12, 'Data Input'!$A22,F12+1)","v":14},{"$f":"IFERROR(MID('Data Input'!$A22,J12+2,2),\"\")","v":"99"},0,"1",{"$f":"FIND(\" \"&M12, 'Data Input'!$A22,J12+1)","v":18},{"$f":"IFERROR(MID('Data Input'!$A22,N12+2,2),\"\")","v":"99"},0,"2",{"$f":"FIND(\" \"&Q12, 'Data Input'!$A22,N12+1)","v":22},{"$f":"IFERROR(MID('Data Input'!$A22,R12+2,2),\"\")","v":"99"},0,"2",{"$f":"FIND(\" \"&U12, 'Data Input'!$A22,R12+1)","v":26},{"$f":"IFERROR(MID('Data Input'!$A22,V12+2,2),\"\")","v":"99"},{"v":0,"d":"0.00"},"2",{"$f":"FIND(\" \"&Y12, 'Data Input'!$A22,V12+1)","v":30},{"$f":"IFERROR(MID('Data Input'!$A22,Z12+2,2),\"\")","v":"99"},{"v":0,"d":"0.00"},"2",{"$f":"FIND(\" \"&AC12, 'Data Input'!$A22,Z12+1)","v":34},{"$f":"IFERROR(MID('Data Input'!$A22,AD12+2,2),\"\")","v":"75"},250,"3",{"$f":"FIND(\" \"&AG12, 'Data Input'!$A22,AD12+1)","v":38},{"$f":"IFERROR(MID('Data Input'!$A22,AH12+2,2),\"\")","v":"76"},3.2,"3",{"$f":"FIND(\" \"&AK12, 'Data Input'!$A22,AH12+1)","v":42},{"$f":"IFERROR(MID('Data Input'!$A22,AL12+2,2),\"\")","v":"50"},{"v":5,"d":"5.0"},"3",{"$f":"FIND(\" \"&AO12, 'Data Input'!$A22,AL12+1)","v":46},{"$f":"IFERROR(MID('Data Input'!$A22,AP12+2,2),\"\")","v":"00"},{"v":0,"d":"0.00"},"3",{"$f":"FIND(\" \"&AS12, 'Data Input'!$A22,AP12+1)","v":50},{"$f":"IFERROR(MID('Data Input'!$A22,AT12+2,2),\"\")","v":"00"},95.8,"4",{"$f":"FIND(\" \"&AW12, 'Data Input'!$A22,AT12+1)","v":54},{"$f":"IFERROR(MID('Data Input'!$A22,AX12+2,2),\"\")","v":"42"},{"v":33.64,"d":"33.6"},"4",{"$f":"FIND(\" \"&BA12, 'Data Input'!$A22,AX12+1)","v":58},{"$f":"IFERROR(MID('Data Input'!$A22,BB12+2,2),\"\")","v":"00"},95.8,"4",{"$f":"FIND(\" \"&BE12, 'Data Input'!$A22,BB12+1)","v":62},{"$f":"IFERROR(MID('Data Input'!$A22,BF12+2,2),\"\")","v":"00"},95.8,"4",{"$f":"FIND(\" \"&BI12, 'Data Input'!$A22,BF12+1)","v":66},{"$f":"IFERROR(MID('Data Input'!$A22,BJ12+2,2),\"\")","v":"00"},95.8,"5",{"$f":"FIND(\" \"&BM12, 'Data Input'!$A22,BJ12+1)","v":70},{"$f":"IFERROR(MID('Data Input'!$A22,BN12+2,2),\"\")","v":"00"},95.8,"5",{"$f":"FIND(\" \"&BQ12, 'Data Input'!$A22,BN12+1)","v":74},{"$f":"IFERROR(MID('Data Input'!$A22,BR12+2,2),\"\")","v":"00"},{"v":0,"d":"0.0"},"5",{"$f":"FIND(\" \"&BU12, 'Data Input'!$A22,BR12+1)","v":78},{"$f":"IFERROR(MID('Data Input'!$A22,BV12+2,2),\"\")","v":"00"},95.8,"5",{"$f":"FIND(\" \"&BY12, 'Data Input'!$A22,BV12+1)","v":82},{"$f":"IFERROR(MID('Data Input'!$A22,BZ12+2,2),\"\")","v":"00"},11,"6",{"$f":"FIND(\" \"&CC12, 'Data Input'!$A22,BZ12+1)","v":86},{"$f":"IFERROR(MID('Data Input'!$A22,CD12+2,2),\"\")","v":"00"},0,"6",{"$f":"FIND(\" \"&CG12, 'Data Input'!$A22,CD12+1)","v":90},{"$f":"IFERROR(MID('Data Input'!$A22,CH12+2,2),\"\")","v":"00"},35,"6",{"$f":"FIND(\" \"&CK12, 'Data Input'!$A22,CH12+1)","v":94},{"$f":"IFERROR(MID('Data Input'!$A22,CL12+2,2),\"\")","v":"00"},0,"6",{"$f":"FIND(\" \"&CO12, 'Data Input'!$A22,CL12+1)","v":98},{"$f":"IFERROR(MID('Data Input'!$A22,CP12+2,2),\"\")","v":"49"},0.49]
["1",{"$f":"FIND(\" \"&A13, 'Data Input'!$A24)","v":6},{"$f":"IFERROR(MID('Data Input'!$A24,B13+2,2),\"\")","v":"00"},0,"1",{"$f":"FIND(\" \"&E13, 'Data Input'!$A24,B13+1)","v":10},{"$f":"IFERROR(MID('Data Input'!$A24,F13+2,2),\"\")","v":"99"},0,"1",{"$f":"FIND(\" \"&I13, 'Data Input'!$A24,F13+1)","v":14},{"$f":"IFERROR(MID('Data Input'!$A24,J13+2,2),\"\")","v":"99"},0,"1",{"$f":"FIND(\" \"&M13, 'Data Input'!$A24,J13+1)","v":18},{"$f":"IFERROR(MID('Data Input'!$A24,N13+2,2),\"\")","v":"99"},0,"2",{"$f":"FIND(\" \"&Q13, 'Data Input'!$A24,N13+1)","v":22},{"$f":"IFERROR(MID('Data Input'!$A24,R13+2,2),\"\")","v":"99"},0,"2",{"$f":"FIND(\" \"&U13, 'Data Input'!$A24,R13+1)","v":26},{"$f":"IFERROR(MID('Data Input'!$A24,V13+2,2),\"\")","v":"99"},{"v":0,"d":"0.00"},"2",{"$f":"FIND(\" \"&Y13, 'Data Input'!$A24,V13+1)","v":30},{"$f":"IFERROR(MID('Data Input'!$A24,Z13+2,2),\"\")","v":"99"},{"v":0,"d":"0.00"},"2",{"$f":"FIND(\" \"&AC13, 'Data Input'!$A24,Z13+1)","v":34},{"$f":"IFERROR(MID('Data Input'!$A24,AD13+2,2),\"\")","v":"76"},260,"3",{"$f":"FIND(\" \"&AG13, 'Data Input'!$A24,AD13+1)","v":38},{"$f":"IFERROR(MID('Data Input'!$A24,AH13+2,2),\"\")","v":"76"},3.2,"3",{"$f":"FIND(\" \"&AK13, 'Data Input'!$A24,AH13+1)","v":42},{"$f":"IFERROR(MID('Data Input'!$A24,AL13+2,2),\"\")","v":"50"},{"v":5,"d":"5.0"},"3",{"$f":"FIND(\" \"&AO13, 'Data Input'!$A24,AL13+1)","v":46},{"$f":"IFERROR(MID('Data Input'!$A24,AP13+2,2),\"\")","v":"00"},{"v":0,"d":"0.00"},"3",{"$f":"FIND(\" \"&AS13, 'Data Input'!$A24,AP13+1)","v":50},{"$f":"IFERROR(MID('Data Input'!$A24,AT13+2,2),\"\")","v":"00"},95.8,"4",{"$f":"FIND(\" \"&AW13, 'Data Input'!$A24,AT13+1)","v":54},{"$f":"IFERROR(MID('Data Input'!$A24,AX13+2,2),\"\")","v":"41"},{"v":35.12,"d":"35.1"},"4",{"$f":"FIND(\" \"&BA13, 'Data Input'!$A24,AX13+1)","v":58},{"$f":"IFERROR(MID('Data Input'!$A24,BB13+2,2),\"\")","v":"00"},95.8,"4",{"$f":"FIND(\" \"&BE13, 'Data Input'!$A24,BB13+1)","v":62},{"$f":"IFERROR(MID('Data Input'!$A24,BF13+2,2),\"\")","v":"00"},95.8,"4",{"$f":"FIND(\" \"&BI13, 'Data Input'!$A24,BF13+1)","v":66},{"$f":"IFERROR(MID('Data Input'!$A24,BJ13+2,2),\"\")","v":"00"},95.8,"5",{"$f":"FIND(\" \"&BM13, 'Data Input'!$A24,BJ13+1)","v":70},{"$f":"IFERROR(MID('Data Input'!$A24,BN13+2,2),\"\")","v":"00"},95.8,"5",{"$f":"FIND(\" \"&BQ13, 'Data Input'!$A24,BN13+1)","v":74},{"$f":"IFERROR(MID('Data Input'!$A24,BR13+2,2),\"\")","v":"00"},{"v":0,"d":"0.0"},"5",{"$f":"FIND(\" \"&BU13, 'Data Input'!$A24,BR13+1)","v":78},{"$f":"IFERROR(MID('Data Input'!$A24,BV13+2,2),\"\")","v":"00"},95.8,"5",{"$f":"FIND(\" \"&BY13, 'Data Input'!$A24,BV13+1)","v":82},{"$f":"IFERROR(MID('Data Input'!$A24,BZ13+2,2),\"\")","v":"00"},11,"6",{"$f":"FIND(\" \"&CC13, 'Data Input'!$A24,BZ13+1)","v":86},{"$f":"IFERROR(MID('Data Input'!$A24,CD13+2,2),\"\")","v":"00"},0,"6",{"$f":"FIND(\" \"&CG13, 'Data Input'!$A24,CD13+1)","v":90},{"$f":"IFERROR(MID('Data Input'!$A24,CH13+2,2),\"\")","v":"00"},35,"6",{"$f":"FIND(\" \"&CK13, 'Data Input'!$A24,CH13+1)","v":94},{"$f":"IFERROR(MID('Data Input'!$A24,CL13+2,2),\"\")","v":"00"},0,"6",{"$f":"FIND(\" \"&CO13, 'Data Input'!$A24,CL13+1)","v":98},{"$f":"IFERROR(MID('Data Input'!$A24,CP13+2,2),\"\")","v":"50"},{"v":0.5,"d":"0.50"}]
["1",{"$f":"FIND(\" \"&A14, 'Data Input'!$A26)","v":6},{"$f":"IFERROR(MID('Data Input'!$A26,B14+2,2),\"\")","v":"00"},0,"1",{"$f":"FIND(\" \"&E14, 'Data Input'!$A26,B14+1)","v":10},{"$f":"IFERROR(MID('Data Input'!$A26,F14+2,2),\"\")","v":"99"},0,"1",{"$f":"FIND(\" \"&I14, 'Data Input'!$A26,F14+1)","v":14},{"$f":"IFERROR(MID('Data Input'!$A26,J14+2,2),\"\")","v":"99"},0,"1",{"$f":"FIND(\" \"&M14, 'Data Input'!$A26,J14+1)","v":18},{"$f":"IFERROR(MID('Data Input'!$A26,N14+2,2),\"\")","v":"99"},0,"2",{"$f":"FIND(\" \"&Q14, 'Data Input'!$A26,N14+1)","v":22},{"$f":"IFERROR(MID('Data Input'!$A26,R14+2,2),\"\")","v":"99"},0,"2",{"$f":"FIND(\" \"&U14, 'Data Input'!$A26,R14+1)","v":26},{"$f":"IFERROR(MID('Data Input'!$A26,V14+2,2),\"\")","v":"99"},{"v":0,"d":"0.00"},"2",{"$f":"FIND(\" \"&Y14, 'Data Input'!$A26,V14+1)","v":30},{"$f":"IFERROR(MID('Data Input'!$A26,Z14+2,2),\"\")","v":"99"},{"v":0,"d":"0.00"},"2",{"$f":"FIND(\" \"&AC14, 'Data Input'!$A26,Z14+1)","v":34},{"$f":"IFERROR(MID('Data Input'!$A26,AD14+2,2),\"\")","v":"77"},270,"3",{"$f":"FIND(\" \"&AG14, 'Data Input'!$A26,AD14+1)","v":38},{"$f":"IFERROR(MID('Data Input'!$A26,AH14+2,2),\"\")","v":"75"},{"v":3.0999999999999996,"d":"3.1"},"3",{"$f":"FIND(\" \"&AK14, 'Data Input'!$A26,AH14+1)","v":42},{"$f":"IFERROR(MID('Data Input'!$A26,AL14+2,2),\"\")","v":"50"},{"v":5,"d":"5.0"},"3",{"$f":"FIND(\" \"&AO14, 'Data Input'!$A26,AL14+1)","v":46},{"$f":"IFERROR(MID('Data Input'!$A26,AP14+2,2),\"\")","v":"00"},{"v":0,"d":"0.00"},"3",{"$f":"FIND(\" \"&AS14, 'Data Input'!$A26,AP14+1)","v":50},{"$f":"IFERROR(MID('Data Input'!$A26,AT14+2,2),\"\")","v":"00"},95.8,"4",{"$f":"FIND(\" \"&AW14, 'Data Input'!$A26,AT14+1)","v":54},{"$f":"IFERROR(MID('Data Input'!$A26,AX14+2,2),\"\")","v":"42"},{"v":33.64,"d":"33.6"},"4",{"$f":"FIND(\" \"&BA14, 'Data Input'!$A26,AX14+1)","v":58},{"$f":"IFERROR(MID('Data Input'!$A26,BB14+2,2),\"\")","v":"00"},95.8,"4",{"$f":"FIND(\" \"&BE14, 'Data Input'!$A26,BB14+1)","v":62},{"$f":"IFERROR(MID('Data Input'!$A26,BF14+2,2),\"\")","v":"00"},95.8,"4",{"$f":"FIND(\" \"&BI14, 'Data Input'!$A26,BF14+1)","v":66},{"$f":"IFERROR(MID('Data Input'!$A26,BJ14+2,2),\"\")","v":"00"},95.8,"5",{"$f":"FIND(\" \"&BM14, 'Data Input'!$A26,BJ14+1)","v":70},{"$f":"IFERROR(MID('Data Input'!$A26,BN14+2,2),\"\")","v":"00"},95.8,"5",{"$f":"FIND(\" \"&BQ14, 'Data Input'!$A26,BN14+1)","v":74},{"$f":"IFERROR(MID('Data Input'!$A26,BR14+2,2),\"\")","v":"00"},{"v":0,"d":"0.0"},"5",{"$f":"FIND(\" \"&BU14, 'Data Input'!$A26,BR14+1)","v":78},{"$f":"IFERROR(MID('Data Input'!$A26,BV14+2,2),\"\")","v":"00"},95.8,"5",{"$f":"FIND(\" \"&BY14, 'Data Input'!$A26,BV14+1)","v":82},{"$f":"IFERROR(MID('Data Input'!$A26,BZ14+2,2),\"\")","v":"00"},11,"6",{"$f":"FIND(\" \"&CC14, 'Data Input'!$A26,BZ14+1)","v":86},{"$f":"IFERROR(MID('Data Input'!$A26,CD14+2,2),\"\")","v":"00"},0,"6",{"$f":"FIND(\" \"&CG14, 'Data Input'!$A26,CD14+1)","v":90},{"$f":"IFERROR(MID('Data Input'!$A26,CH14+2,2),\"\")","v":"00"},35,"6",{"$f":"FIND(\" \"&CK14, 'Data Input'!$A26,CH14+1)","v":94},{"$f":"IFERROR(MID('Data Input'!$A26,CL14+2,2),\"\")","v":"00"},0,"6",{"$f":"FIND(\" \"&CO14, 'Data Input'!$A26,CL14+1)","v":98},{"$f":"IFERROR(MID('Data Input'!$A26,CP14+2,2),\"\")","v":"49"},0.49]
["1",{"$f":"FIND(\" \"&A15, 'Data Input'!$A28)","v":6},{"$f":"IFERROR(MID('Data Input'!$A28,B15+2,2),\"\")","v":"00"},0,"1",{"$f":"FIND(\" \"&E15, 'Data Input'!$A28,B15+1)","v":10},{"$f":"IFERROR(MID('Data Input'!$A28,F15+2,2),\"\")","v":"99"},0,"1",{"$f":"FIND(\" \"&I15, 'Data Input'!$A28,F15+1)","v":14},{"$f":"IFERROR(MID('Data Input'!$A28,J15+2,2),\"\")","v":"99"},0,"1",{"$f":"FIND(\" \"&M15, 'Data Input'!$A28,J15+1)","v":18},{"$f":"IFERROR(MID('Data Input'!$A28,N15+2,2),\"\")","v":"99"},0,"2",{"$f":"FIND(\" \"&Q15, 'Data Input'!$A28,N15+1)","v":22},{"$f":"IFERROR(MID('Data Input'!$A28,R15+2,2),\"\")","v":"99"},0,"2",{"$f":"FIND(\" \"&U15, 'Data Input'!$A28,R15+1)","v":26},{"$f":"IFERROR(MID('Data Input'!$A28,V15+2,2),\"\")","v":"99"},{"v":0,"d":"0.00"},"2",{"$f":"FIND(\" \"&Y15, 'Data Input'!$A28,V15+1)","v":30},{"$f":"IFERROR(MID('Data Input'!$A28,Z15+2,2),\"\")","v":"99"},{"v":0,"d":"0.00"},"2",{"$f":"FIND(\" \"&AC15, 'Data Input'!$A28,Z15+1)","v":34},{"$f":"IFERROR(MID('Data Input'!$A28,AD15+2,2),\"\")","v":"76"},260,"3",{"$f":"FIND(\" \"&AG15, 'Data Input'!$A28,AD15+1)","v":38},{"$f":"IFERROR(MID('Data Input'!$A28,AH15+2,2),\"\")","v":"74"},{"v":3,"d":"3.0"},"3",{"$f":"FIND(\" \"&AK15, 'Data Input'!$A28,AH15+1)","v":42},{"$f":"IFERROR(MID('Data Input'!$A28,AL15+2,2),\"\")","v":"50"},{"v":5,"d":"5.0"},"3",{"$f":"FIND(\" \"&AO15, 'Data Input'!$A28,AL15+1)","v":46},{"$f":"IFERROR(MID('Data Input'!$A28,AP15+2,2),\"\")","v":"00"},{"v":0,"d":"0.00"},"3",{"$f":"FIND(\" \"&AS15, 'Data Input'!$A28,AP15+1)","v":50},{"$f":"IFERROR(MID('Data Input'!$A28,AT15+2,2),\"\")","v":"00"},95.8,"4",{"$f":"FIND(\" \"&AW15, 'Data Input'!$A28,AT15+1)","v":54},{"$f":"IFERROR(MID('Data Input'!$A28,AX15+2,2),\"\")","v":"42"},{"v":33.64,"d":"33.6"},"4",{"$f":"FIND(\" \"&BA15, 'Data Input'!$A28,AX15+1)","v":58},{"$f":"IFERROR(MID('Data Input'!$A28,BB15+2,2),\"\")","v":"00"},95.8,"4",{"$f":"FIND(\" \"&BE15, 'Data Input'!$A28,BB15+1)","v":62},{"$f":"IFERROR(MID('Data Input'!$A28,BF15+2,2),\"\")","v":"00"},95.8,"4",{"$f":"FIND(\" \"&BI15, 'Data Input'!$A28,BF15+1)","v":66},{"$f":"IFERROR(MID('Data Input'!$A28,BJ15+2,2),\"\")","v":"00"},95.8,"5",{"$f":"FIND(\" \"&BM15, 'Data Input'!$A28,BJ15+1)","v":70},{"$f":"IFERROR(MID('Data Input'!$A28,BN15+2,2),\"\")","v":"00"},95.8,"5",{"$f":"FIND(\" \"&BQ15, 'Data Input'!$A28,BN15+1)","v":74},{"$f":"IFERROR(MID('Data Input'!$A28,BR15+2,2),\"\")","v":"00"},{"v":0,"d":"0.0"},"5",{"$f":"FIND(\" \"&BU15, 'Data Input'!$A28,BR15+1)","v":78},{"$f":"IFERROR(MID('Data Input'!$A28,BV15+2,2),\"\")","v":"00"},95.8,"5",{"$f":"FIND(\" \"&BY15, 'Data Input'!$A28,BV15+1)","v":82},{"$f":"IFERROR(MID('Data Input'!$A28,BZ15+2,2),\"\")","v":"00"},11,"6",{"$f":"FIND(\" \"&CC15, 'Data Input'!$A28,BZ15+1)","v":86},{"$f":"IFERROR(MID('Data Input'!$A28,CD15+2,2),\"\")","v":"00"},0,"6",{"$f":"FIND(\" \"&CG15, 'Data Input'!$A28,CD15+1)","v":90},{"$f":"IFERROR(MID('Data Input'!$A28,CH15+2,2),\"\")","v":"00"},35,"6",{"$f":"FIND(\" \"&CK15, 'Data Input'!$A28,CH15+1)","v":94},{"$f":"IFERROR(MID('Data Input'!$A28,CL15+2,2),\"\")","v":"00"},0,"6",{"$f":"FIND(\" \"&CO15, 'Data Input'!$A28,CL15+1)","v":98},{"$f":"IFERROR(MID('Data Input'!$A28,CP15+2,2),\"\")","v":"49"},0.49]
["1",{"$f":"FIND(\" \"&A16, 'Data Input'!$A30)","v":6},{"$f":"IFERROR(MID('Data Input'!$A30,B16+2,2),\"\")","v":"00"},0,"1",{"$f":"FIND(\" \"&E16, 'Data Input'!$A30,B16+1)","v":10},{"$f":"IFERROR(MID('Data Input'!$A30,F16+2,2),\"\")","v":"99"},0,"1",{"$f":"FIND(\" \"&I16, 'Data Input'!$A30,F16+1)","v":14},{"$f":"IFERROR(MID('Data Input'!$A30,J16+2,2),\"\")","v":"99"},0,"1",{"$f":"FIND(\" \"&M16, 'Data Input'!$A30,J16+1)","v":18},{"$f":"IFERROR(MID('Data Input'!$A30,N16+2,2),\"\")","v":"99"},0,"2",{"$f":"FIND(\" \"&Q16, 'Data Input'!$A30,N16+1)","v":22},{"$f":"IFERROR(MID('Data Input'!$A30,R16+2,2),\"\")","v":"99"},0,"2",{"$f":"FIND(\" \"&U16, 'Data Input'!$A30,R16+1)","v":26},{"$f":"IFERROR(MID('Data Input'!$A30,V16+2,2),\"\")","v":"99"},{"v":0,"d":"0.00"},"2",{"$f":"FIND(\" \"&Y16, 'Data Input'!$A30,V16+1)","v":30},{"$f":"IFERROR(MID('Data Input'!$A30,Z16+2,2),\"\")","v":"99"},{"v":0,"d":"0.00"},"2",{"$f":"FIND(\" \"&AC16, 'Data Input'!$A30,Z16+1)","v":34},{"$f":"IFERROR(MID('Data Input'!$A30,AD16+2,2),\"\")","v":"77"},270,"3",{"$f":"FIND(\" \"&AG16, 'Data Input'!$A30,AD16+1)","v":38},{"$f":"IFERROR(MID('Data Input'!$A30,AH16+2,2),\"\")","v":"74"},{"v":3,"d":"3.0"},"3",{"$f":"FIND(\" \"&AK16, 'Data Input'!$A30,AH16+1)","v":42},{"$f":"IFERROR(MID('Data Input'!$A30,AL16+2,2),\"\")","v":"50"},{"v":5,"d":"5.0"},"3",{"$f":"FIND(\" \"&AO16, 'Data Input'!$A30,AL16+1)","v":46},{"$f":"IFERROR(MID('Data Input'!$A30,AP16+2,2),\"\")","v":"00"},{"v":0,"d":"0.00"},"3",{"$f":"FIND(\" \"&AS16, 'Data Input'!$A30,AP16+1)","v":50},{"$f":"IFERROR(MID('Data Input'!$A30,AT16+2,2),\"\")","v":"00"},95.8,"4",{"$f":"FIND(\" \"&AW16, 'Data Input'!$A30,AT16+1)","v":54},{"$f":"IFERROR(MID('Data Input'!$A30,AX16+2,2),\"\")","v":"41"},{"v":35.12,"d":"35.1"},"4",{"$f":"FIND(\" \"&BA16, 'Data Input'!$A30,AX16+1)","v":58},{"$f":"IFERROR(MID('Data Input'!$A30,BB16+2,2),\"\")","v":"00"},95.8,"4",{"$f":"FIND(\" \"&BE16, 'Data Input'!$A30,BB16+1)","v":62},{"$f":"IFERROR(MID('Data Input'!$A30,BF16+2,2),\"\")","v":"00"},95.8,"4",{"$f":"FIND(\" \"&BI16, 'Data Input'!$A30,BF16+1)","v":66},{"$f":"IFERROR(MID('Data Input'!$A30,BJ16+2,2),\"\")","v":"00"},95.8,"5",{"$f":"FIND(\" \"&BM16, 'Data Input'!$A30,BJ16+1)","v":70},{"$f":"IFERROR(MID('Data Input'!$A30,BN16+2,2),\"\")","v":"00"},95.8,"5",{"$f":"FIND(\" \"&BQ16, 'Data Input'!$A30,BN16+1)","v":74},{"$f":"IFERROR(MID('Data Input'!$A30,BR16+2,2),\"\")","v":"00"},{"v":0,"d":"0.0"},"5",{"$f":"FIND(\" \"&BU16, 'Data Input'!$A30,BR16+1)","v":78},{"$f":"IFERROR(MID('Data Input'!$A30,BV16+2,2),\"\")","v":"00"},95.8,"5",{"$f":"FIND(\" \"&BY16, 'Data Input'!$A30,BV16+1)","v":82},{"$f":"IFERROR(MID('Data Input'!$A30,BZ16+2,2),\"\")","v":"00"},11,"6",{"$f":"FIND(\" \"&CC16, 'Data Input'!$A30,BZ16+1)","v":86},{"$f":"IFERROR(MID('Data Input'!$A30,CD16+2,2),\"\")","v":"00"},0,"6",{"$f":"FIND(\" \"&CG16, 'Data Input'!$A30,CD16+1)","v":90},{"$f":"IFERROR(MID('Data Input'!$A30,CH16+2,2),\"\")","v":"00"},35,"6",{"$f":"FIND(\" \"&CK16, 'Data Input'!$A30,CH16+1)","v":94},{"$f":"IFERROR(MID('Data Input'!$A30,CL16+2,2),\"\")","v":"00"},0,"6",{"$f":"FIND(\" \"&CO16, 'Data Input'!$A30,CL16+1)","v":98},{"$f":"IFERROR(MID('Data Input'!$A30,CP16+2,2),\"\")","v":"49"},0.49]
["1",{"$f":"FIND(\" \"&A17, 'Data Input'!$A32)","v":6},{"$f":"IFERROR(MID('Data Input'!$A32,B17+2,2),\"\")","v":"00"},0,"1",{"$f":"FIND(\" \"&E17, 'Data Input'!$A32,B17+1)","v":10},{"$f":"IFERROR(MID('Data Input'!$A32,F17+2,2),\"\")","v":"99"},0,"1",{"$f":"FIND(\" \"&I17, 'Data Input'!$A32,F17+1)","v":14},{"$f":"IFERROR(MID('Data Input'!$A32,J17+2,2),\"\")","v":"99"},0,"1",{"$f":"FIND(\" \"&M17, 'Data Input'!$A32,J17+1)","v":18},{"$f":"IFERROR(MID('Data Input'!$A32,N17+2,2),\"\")","v":"99"},0,"2",{"$f":"FIND(\" \"&Q17, 'Data Input'!$A32,N17+1)","v":22},{"$f":"IFERROR(MID('Data Input'!$A32,R17+2,2),\"\")","v":"99"},0,"2",{"$f":"FIND(\" \"&U17, 'Data Input'!$A32,R17+1)","v":26},{"$f":"IFERROR(MID('Data Input'!$A32,V17+2,2),\"\")","v":"99"},{"v":0,"d":"0.00"},"2",{"$f":"FIND(\" \"&Y17, 'Data Input'!$A32,V17+1)","v":30},{"$f":"IFERROR(MID('Data Input'!$A32,Z17+2,2),\"\")","v":"99"},{"v":0,"d":"0.00"},"2",{"$f":"FIND(\" \"&AC17, 'Data Input'!$A32,Z17+1)","v":34},{"$f":"IFERROR(MID('Data Input'!$A32,AD17+2,2),\"\")","v":"77"},270,"3",{"$f":"FIND(\" \"&AG17, 'Data Input'!$A32,AD17+1)","v":38},{"$f":"IFERROR(MID('Data Input'!$A32,AH17+2,2),\"\")","v":"74"},{"v":3,"d":"3.0"},"3",{"$f":"FIND(\" \"&AK17, 'Data Input'!$A32,AH17+1)","v":42},{"$f":"IFERROR(MID('Data Input'!$A32,AL17+2,2),\"\")","v":"50"},{"v":5,"d":"5.0"},"3",{"$f":"FIND(\" \"&AO17, 'Data Input'!$A32,AL17+1)","v":46},{"$f":"IFERROR(MID('Data Input'!$A32,AP17+2,2),\"\")","v":"00"},{"v":0,"d":"0.00"},"3",{"$f":"FIND(\" \"&AS17, 'Data Input'!$A32,AP17+1)","v":50},{"$f":"IFERROR(MID('Data Input'!$A32,AT17+2,2),\"\")","v":"00"},95.8,"4",{"$f":"FIND(\" \"&AW17, 'Data Input'!$A32,AT17+1)","v":54},{"$f":"IFERROR(MID('Data Input'!$A32,AX17+2,2),\"\")","v":"44"},{"v":30.679999999999993,"d":"30.7"},"4",{"$f":"FIND(\" \"&BA17, 'Data Input'!$A32,AX17+1)","v":58},{"$f":"IFERROR(MID('Data Input'!$A32,BB17+2,2),\"\")","v":"00"},95.8,"4",{"$f":"FIND(\" \"&BE17, 'Data Input'!$A32,BB17+1)","v":62},{"$f":"IFERROR(MID('Data Input'!$A32,BF17+2,2),\"\")","v":"00"},95.8,"4",{"$f":"FIND(\" \"&BI17, 'Data Input'!$A32,BF17+1)","v":66},{"$f":"IFERROR(MID('Data Input'!$A32,BJ17+2,2),\"\")","v":"00"},95.8,"5",{"$f":"FIND(\" \"&BM17, 'Data Input'!$A32,BJ17+1)","v":70},{"$f":"IFERROR(MID('Data Input'!$A32,BN17+2,2),\"\")","v":"00"},95.8,"5",{"$f":"FIND(\" \"&BQ17, 'Data Input'!$A32,BN17+1)","v":74},{"$f":"IFERROR(MID('Data Input'!$A32,BR17+2,2),\"\")","v":"00"},{"v":0,"d":"0.0"},"5",{"$f":"FIND(\" \"&BU17, 'Data Input'!$A32,BR17+1)","v":78},{"$f":"IFERROR(MID('Data Input'!$A32,BV17+2,2),\"\")","v":"00"},95.8,"5",{"$f":"FIND(\" \"&BY17, 'Data Input'!$A32,BV17+1)","v":82},{"$f":"IFERROR(MID('Data Input'!$A32,BZ17+2,2),\"\")","v":"00"},11,"6",{"$f":"FIND(\" \"&CC17, 'Data Input'!$A32,BZ17+1)","v":86},{"$f":"IFERROR(MID('Data Input'!$A32,CD17+2,2),\"\")","v":"00"},0,"6",{"$f":"FIND(\" \"&CG17, 'Data Input'!$A32,CD17+1)","v":90},{"$f":"IFERROR(MID('Data Input'!$A32,CH17+2,2),\"\")","v":"00"},35,"6",{"$f":"FIND(\" \"&CK17, 'Data Input'!$A32,CH17+1)","v":94},{"$f":"IFERROR(MID('Data Input'!$A32,CL17+2,2),\"\")","v":"00"},0,"6",{"$f":"FIND(\" \"&CO17, 'Data Input'!$A32,CL17+1)","v":98},{"$f":"IFERROR(MID('Data Input'!$A32,CP17+2,2),\"\")","v":"51"},0.51]
["1",{"$f":"FIND(\" \"&A18, 'Data Input'!$A34)","v":6},{"$f":"IFERROR(MID('Data Input'!$A34,B18+2,2),\"\")","v":"00"},0,"1",{"$f":"FIND(\" \"&E18, 'Data Input'!$A34,B18+1)","v":10},{"$f":"IFERROR(MID('Data Input'!$A34,F18+2,2),\"\")","v":"99"},0,"1",{"$f":"FIND(\" \"&I18, 'Data Input'!$A34,F18+1)","v":14},{"$f":"IFERROR(MID('Data Input'!$A34,J18+2,2),\"\")","v":"98"},10,"1",{"$f":"FIND(\" \"&M18, 'Data Input'!$A34,J18+1)","v":18},{"$f":"IFERROR(MID('Data Input'!$A34,N18+2,2),\"\")","v":"99"},0,"2",{"$f":"FIND(\" \"&Q18, 'Data Input'!$A34,N18+1)","v":22},{"$f":"IFERROR(MID('Data Input'!$A34,R18+2,2),\"\")","v":"85"},140,"2",{"$f":"FIND(\" \"&U18, 'Data Input'!$A34,R18+1)","v":26},{"$f":"IFERROR(MID('Data Input'!$A34,V18+2,2),\"\")","v":"99"},{"v":0,"d":"0.00"},"2",{"$f":"FIND(\" \"&Y18, 'Data Input'!$A34,V18+1)","v":30},{"$f":"IFERROR(MID('Data Input'!$A34,Z18+2,2),\"\")","v":"99"},{"v":0,"d":"0.00"},"2",{"$f":"FIND(\" \"&AC18, 'Data Input'!$A34,Z18+1)","v":34},{"$f":"IFERROR(MID('Data Input'!$A34,AD18+2,2),\"\")","v":"55"},50,"3",{"$f":"FIND(\" \"&AG18, 'Data Input'!$A34,AD18+1)","v":38},{"$f":"IFERROR(MID('Data Input'!$A34,AH18+2,2),\"\")","v":"74"},{"v":3,"d":"3.0"},"3",{"$f":"FIND(\" \"&AK18, 'Data Input'!$A34,AH18+1)","v":42},{"$f":"IFERROR(MID('Data Input'!$A34,AL18+2,2),\"\")","v":"50"},{"v":5,"d":"5.0"},"3",{"$f":"FIND(\" \"&AO18, 'Data Input'!$A34,AL18+1)","v":46},{"$f":"IFERROR(MID('Data Input'!$A34,AP18+2,2),\"\")","v":"00"},{"v":0,"d":"0.00"},"3",{"$f":"FIND(\" \"&AS18, 'Data Input'!$A34,AP18+1)","v":50},{"$f":"IFERROR(MID('Data Input'!$A34,AT18+2,2),\"\")","v":"00"},95.8,"4",{"$f":"FIND(\" \"&AW18, 'Data Input'!$A34,AT18+1)","v":54},{"$f":"IFERROR(MID('Data Input'!$A34,AX18+2,2),\"\")","v":"44"},{"v":30.679999999999993,"d":"30.7"},"4",{"$f":"FIND(\" \"&BA18, 'Data Input'!$A34,AX18+1)","v":58},{"$f":"IFERROR(MID('Data Input'!$A34,BB18+2,2),\"\")","v":"00"},95.8,"4",{"$f":"FIND(\" \"&BE18, 'Data Input'!$A34,BB18+1)","v":62},{"$f":"IFERROR(MID('Data Input'!$A34,BF18+2,2),\"\")","v":"00"},95.8,"4",{"$f":"FIND(\" \"&BI18, 'Data Input'!$A34,BF18+1)","v":66},{"$f":"IFERROR(MID('Data Input'!$A34,BJ18+2,2),\"\")","v":"00"},95.8,"5",{"$f":"FIND(\" \"&BM18, 'Data Input'!$A34,BJ18+1)","v":70},{"$f":"IFERROR(MID('Data Input'!$A34,BN18+2,2),\"\")","v":"00"},95.8,"5",{"$f":"FIND(\" \"&BQ18, 'Data Input'!$A34,BN18+1)","v":74},{"$f":"IFERROR(MID('Data Input'!$A34,BR18+2,2),\"\")","v":"00"},{"v":0,"d":"0.0"},"5",{"$f":"FIND(\" \"&BU18, 'Data Input'!$A34,BR18+1)","v":78},{"$f":"IFERROR(MID('Data Input'!$A34,BV18+2,2),\"\")","v":"00"},95.8,"5",{"$f":"FIND(\" \"&BY18, 'Data Input'!$A34,BV18+1)","v":82},{"$f":"IFERROR(MID('Data Input'!$A34,BZ18+2,2),\"\")","v":"00"},11,"6",{"$f":"FIND(\" \"&CC18, 'Data Input'!$A34,BZ18+1)","v":86},{"$f":"IFERROR(MID('Data Input'!$A34,CD18+2,2),\"\")","v":"00"},0,"6",{"$f":"FIND(\" \"&CG18, 'Data Input'!$A34,CD18+1)","v":90},{"$f":"IFERROR(MID('Data Input'!$A34,CH18+2,2),\"\")","v":"00"},35,"6",{"$f":"FIND(\" \"&CK18, 'Data Input'!$A34,CH18+1)","v":94},{"$f":"IFERROR(MID('Data Input'!$A34,CL18+2,2),\"\")","v":"00"},0,"6",{"$f":"FIND(\" \"&CO18, 'Data Input'!$A34,CL18+1)","v":98},{"$f":"IFERROR(MID('Data Input'!$A34,CP18+2,2),\"\")","v":"51"},0.51]
["1",{"$f":"FIND(\" \"&A19, 'Data Input'!$A36)","v":6},{"$f":"IFERROR(MID('Data Input'!$A36,B19+2,2),\"\")","v":"00"},0,"1",{"$f":"FIND(\" \"&E19, 'Data Input'!$A36,B19+1)","v":10},{"$f":"IFERROR(MID('Data Input'!$A36,F19+2,2),\"\")","v":"99"},0,"1",{"$f":"FIND(\" \"&I19, 'Data Input'!$A36,F19+1)","v":14},{"$f":"IFERROR(MID('Data Input'!$A36,J19+2,2),\"\")","v":"88"},110,"1",{"$f":"FIND(\" \"&M19, 'Data Input'!$A36,J19+1)","v":18},{"$f":"IFERROR(MID('Data Input'!$A36,N19+2,2),\"\")","v":"99"},0,"2",{"$f":"FIND(\" \"&Q19, 'Data Input'!$A36,N19+1)","v":22},{"$f":"IFERROR(MID('Data Input'!$A36,R19+2,2),\"\")","v":"88"},110,"2",{"$f":"FIND(\" \"&U19, 'Data Input'!$A36,R19+1)","v":26},{"$f":"IFERROR(MID('Data Input'!$A36,V19+2,2),\"\")","v":"98"},{"v":10,"d":"10.00"},"2",{"$f":"FIND(\" \"&Y19, 'Data Input'!$A36,V19+1)","v":30},{"$f":"IFERROR(MID('Data Input'!$A36,Z19+2,2),\"\")","v":"99"},{"v":0,"d":"0.00"},"2",{"$f":"FIND(\" \"&AC19, 'Data Input'!$A36,Z19+1)","v":34},{"$f":"IFERROR(MID('Data Input'!$A36,AD19+2,2),\"\")","v":"55"},50,"3",{"$f":"FIND(\" \"&AG19, 'Data Input'!$A36,AD19+1)","v":38},{"$f":"IFERROR(MID('Data Input'!$A36,AH19+2,2),\"\")","v":"74"},{"v":3,"d":"3.0"},"3",{"$f":"FIND(\" \"&AK19, 'Data Input'!$A36,AH19+1)","v":42},{"$f":"IFERROR(MID('Data Input'!$A36,AL19+2,2),\"\")","v":"50"},{"v":5,"d":"5.0"},"3",{"$f":"FIND(\" \"&AO19, 'Data Input'!$A36,AL19+1)","v":46},{"$f":"IFERROR(MID('Data Input'!$A36,AP19+2,2),\"\")","v":"00"},{"v":0,"d":"0.00"},"3",{"$f":"FIND(\" \"&AS19, 'Data Input'!$A36,AP19+1)","v":50},{"$f":"IFERROR(MID('Data Input'!$A36,AT19+2,2),\"\")","v":"00"},95.8,"4",{"$f":"FIND(\" \"&AW19, 'Data Input'!$A36,AT19+1)","v":54},{"$f":"IFERROR(MID('Data Input'!$A36,AX19+2,2),\"\")","v":"43"},{"v":32.16,"d":"32.2"},"4",{"$f":"FIND(\" \"&BA19, 'Data Input'!$A36,AX19+1)","v":58},{"$f":"IFERROR(MID('Data Input'!$A36,BB19+2,2),\"\")","v":"00"},95.8,"4",{"$f":"FIND(\" \"&BE19, 'Data Input'!$A36,BB19+1)","v":62},{"$f":"IFERROR(MID('Data Input'!$A36,BF19+2,2),\"\")","v":"00"},95.8,"4",{"$f":"FIND(\" \"&BI19, 'Data Input'!$A36,BF19+1)","v":66},{"$f":"IFERROR(MID('Data Input'!$A36,BJ19+2,2),\"\")","v":"00"},95.8,"5",{"$f":"FIND(\" \"&BM19, 'Data Input'!$A36,BJ19+1)","v":70},{"$f":"IFERROR(MID('Data Input'!$A36,BN19+2,2),\"\")","v":"00"},95.8,"5",{"$f":"FIND(\" \"&BQ19, 'Data Input'!$A36,BN19+1)","v":74},{"$f":"IFERROR(MID('Data Input'!$A36,BR19+2,2),\"\")","v":"00"},{"v":0,"d":"0.0"},"5",{"$f":"FIND(\" \"&BU19, 'Data Input'!$A36,BR19+1)","v":78},{"$f":"IFERROR(MID('Data Input'!$A36,BV19+2,2),\"\")","v":"00"},95.8,"5",{"$f":"FIND(\" \"&BY19, 'Data Input'!$A36,BV19+1)","v":82},{"$f":"IFERROR(MID('Data Input'!$A36,BZ19+2,2),\"\")","v":"00"},11,"6",{"$f":"FIND(\" \"&CC19, 'Data Input'!$A36,BZ19+1)","v":86},{"$f":"IFERROR(MID('Data Input'!$A36,CD19+2,2),\"\")","v":"00"},0,"6",{"$f":"FIND(\" \"&CG19, 'Data Input'!$A36,CD19+1)","v":90},{"$f":"IFERROR(MID('Data Input'!$A36,CH19+2,2),\"\")","v":"00"},35,"6",{"$f":"FIND(\" \"&CK19, 'Data Input'!$A36,CH19+1)","v":94},{"$f":"IFERROR(MID('Data Input'!$A36,CL19+2,2),\"\")","v":"00"},0,"6",{"$f":"FIND(\" \"&CO19, 'Data Input'!$A36,CL19+1)","v":98},{"$f":"IFERROR(MID('Data Input'!$A36,CP19+2,2),\"\")","v":"51"},0.51]
["1",{"$f":"FIND(\" \"&A20, 'Data Input'!$A38)","v":6},{"$f":"IFERROR(MID('Data Input'!$A38,B20+2,2),\"\")","v":"00"},0,"1",{"$f":"FIND(\" \"&E20, 'Data Input'!$A38,B20+1)","v":10},{"$f":"IFERROR(MID('Data Input'!$A38,F20+2,2),\"\")","v":"99"},0,"1",{"$f":"FIND(\" \"&I20, 'Data Input'!$A38,F20+1)","v":14},{"$f":"IFERROR(MID('Data Input'!$A38,J20+2,2),\"\")","v":"82"},170,"1",{"$f":"FIND(\" \"&M20, 'Data Input'!$A38,J20+1)","v":18},{"$f":"IFERROR(MID('Data Input'!$A38,N20+2,2),\"\")","v":"99"},0,"2",{"$f":"FIND(\" \"&Q20, 'Data Input'!$A38,N20+1)","v":22},{"$f":"IFERROR(MID('Data Input'!$A38,R20+2,2),\"\")","v":"93"},60,"2",{"$f":"FIND(\" \"&U20, 'Data Input'!$A38,R20+1)","v":26},{"$f":"IFERROR(MID('Data Input'!$A38,V20+2,2),\"\")","v":"98"},{"v":10,"d":"10.00"},"2",{"$f":"FIND(\" \"&Y20, 'Data Input'!$A38,V20+1)","v":30},{"$f":"IFERROR(MID('Data Input'!$A38,Z20+2,2),\"\")","v":"99"},{"v":0,"d":"0.00"},"2",{"$f":"FIND(\" \"&AC20, 'Data Input'!$A38,Z20+1)","v":34},{"$f":"IFERROR(MID('Data Input'!$A38,AD20+2,2),\"\")","v":"55"},50,"3",{"$f":"FIND(\" \"&AG20, 'Data Input'!$A38,AD20+1)","v":38},{"$f":"IFERROR(MID('Data Input'!$A38,AH20+2,2),\"\")","v":"74"},{"v":3,"d":"3.0"},"3",{"$f":"FIND(\" \"&AK20, 'Data Input'!$A38,AH20+1)","v":42},{"$f":"IFERROR(MID('Data Input'!$A38,AL20+2,2),\"\")","v":"50"},{"v":5,"d":"5.0"},"3",{"$f":"FIND(\" \"&AO20, 'Data Input'!$A38,AL20+1)","v":46},{"$f":"IFERROR(MID('Data Input'!$A38,AP20+2,2),\"\")","v":"00"},{"v":0,"d":"0.00"},"3",{"$f":"FIND(\" \"&AS20, 'Data Input'!$A38,AP20+1)","v":50},{"$f":"IFERROR(MID('Data Input'!$A38,AT20+2,2),\"\")","v":"00"},95.8,"4",{"$f":"FIND(\" \"&AW20, 'Data Input'!$A38,AT20+1)","v":54},{"$f":"IFERROR(MID('Data Input'!$A38,AX20+2,2),\"\")","v":"43"},{"v":32.16,"d":"32.2"},"4",{"$f":"FIND(\" \"&BA20, 'Data Input'!$A38,AX20+1)","v":58},{"$f":"IFERROR(MID('Data Input'!$A38,BB20+2,2),\"\")","v":"00"},95.8,"4",{"$f":"FIND(\" \"&BE20, 'Data Input'!$A38,BB20+1)","v":62},{"$f":"IFERROR(MID('Data Input'!$A38,BF20+2,2),\"\")","v":"00"},95.8,"4",{"$f":"FIND(\" \"&BI20, 'Data Input'!$A38,BF20+1)","v":66},{"$f":"IFERROR(MID('Data Input'!$A38,BJ20+2,2),\"\")","v":"00"},95.8,"5",{"$f":"FIND(\" \"&BM20, 'Data Input'!$A38,BJ20+1)","v":70},{"$f":"IFERROR(MID('Data Input'!$A38,BN20+2,2),\"\")","v":"00"},95.8,"5",{"$f":"FIND(\" \"&BQ20, 'Data Input'!$A38,BN20+1)","v":74},{"$f":"IFERROR(MID('Data Input'!$A38,BR20+2,2),\"\")","v":"00"},{"v":0,"d":"0.0"},"5",{"$f":"FIND(\" \"&BU20, 'Data Input'!$A38,BR20+1)","v":78},{"$f":"IFERROR(MID('Data Input'!$A38,BV20+2,2),\"\")","v":"00"},95.8,"5",{"$f":"FIND(\" \"&BY20, 'Data Input'!$A38,BV20+1)","v":82},{"$f":"IFERROR(MID('Data Input'!$A38,BZ20+2,2),\"\")","v":"00"},11,"6",{"$f":"FIND(\" \"&CC20, 'Data Input'!$A38,BZ20+1)","v":86},{"$f":"IFERROR(MID('Data Input'!$A38,CD20+2,2),\"\")","v":"00"},0,"6",{"$f":"FIND(\" \"&CG20, 'Data Input'!$A38,CD20+1)","v":90},{"$f":"IFERROR(MID('Data Input'!$A38,CH20+2,2),\"\")","v":"00"},35,"6",{"$f":"FIND(\" \"&CK20, 'Data Input'!$A38,CH20+1)","v":94},{"$f":"IFERROR(MID('Data Input'!$A38,CL20+2,2),\"\")","v":"00"},0,"6",{"$f":"FIND(\" \"&CO20, 'Data Input'!$A38,CL20+1)","v":98},{"$f":"IFERROR(MID('Data Input'!$A38,CP20+2,2),\"\")","v":"51"},0.51]
["1",{"$f":"FIND(\" \"&A21, 'Data Input'!$A40)","v":6},{"$f":"IFERROR(MID('Data Input'!$A40,B21+2,2),\"\")","v":"00"},0,"1",{"$f":"FIND(\" \"&E21, 'Data Input'!$A40,B21+1)","v":10},{"$f":"IFERROR(MID('Data Input'!$A40,F21+2,2),\"\")","v":"99"},0,"1",{"$f":"FIND(\" \"&I21, 'Data Input'!$A40,F21+1)","v":14},{"$f":"IFERROR(MID('Data Input'!$A40,J21+2,2),\"\")","v":"81"},180,"1",{"$f":"FIND(\" \"&M21, 'Data Input'!$A40,J21+1)","v":18},{"$f":"IFERROR(MID('Data Input'!$A40,N21+2,2),\"\")","v":"97"},20,"2",{"$f":"FIND(\" \"&Q21, 'Data Input'!$A40,N21+1)","v":22},{"$f":"IFERROR(MID('Data Input'!$A40,R21+2,2),\"\")","v":"99"},0,"2",{"$f":"FIND(\" \"&U21, 'Data Input'!$A40,R21+1)","v":26},{"$f":"IFERROR(MID('Data Input'!$A40,V21+2,2),\"\")","v":"99"},{"v":0,"d":"0.00"},"2",{"$f":"FIND(\" \"&Y21, 'Data Input'!$A40,V21+1)","v":30},{"$f":"IFERROR(MID('Data Input'!$A40,Z21+2,2),\"\")","v":"99"},{"v":0,"d":"0.00"},"2",{"$f":"FIND(\" \"&AC21, 'Data Input'!$A40,Z21+1)","v":34},{"$f":"IFERROR(MID('Data Input'!$A40,AD21+2,2),\"\")","v":"53"},30,"3",{"$f":"FIND(\" \"&AG21, 'Data Input'!$A40,AD21+1)","v":38},{"$f":"IFERROR(MID('Data Input'!$A40,AH21+2,2),\"\")","v":"74"},{"v":3,"d":"3.0"},"3",{"$f":"FIND(\" \"&AK21, 'Data Input'!$A40,AH21+1)","v":42},{"$f":"IFERROR(MID('Data Input'!$A40,AL21+2,2),\"\")","v":"50"},{"v":5,"d":"5.0"},"3",{"$f":"FIND(\" \"&AO21, 'Data Input'!$A40,AL21+1)","v":46},{"$f":"IFERROR(MID('Data Input'!$A40,AP21+2,2),\"\")","v":"00"},{"v":0,"d":"0.00"},"3",{"$f":"FIND(\" \"&AS21, 'Data Input'!$A40,AP21+1)","v":50},{"$f":"IFERROR(MID('Data Input'!$A40,AT21+2,2),\"\")","v":"00"},95.8,"4",{"$f":"FIND(\" \"&AW21, 'Data Input'!$A40,AT21+1)","v":54},{"$f":"IFERROR(MID('Data Input'!$A40,AX21+2,2),\"\")","v":"43"},{"v":32.16,"d":"32.2"},"4",{"$f":"FIND(\" \"&BA21, 'Data Input'!$A40,AX21+1)","v":58},{"$f":"IFERROR(MID('Data Input'!$A40,BB21+2,2),\"\")","v":"00"},95.8,"4",{"$f":"FIND(\" \"&BE21, 'Data Input'!$A40,BB21+1)","v":62},{"$f":"IFERROR(MID('Data Input'!$A40,BF21+2,2),\"\")","v":"00"},95.8,"4",{"$f":"FIND(\" \"&BI21, 'Data Input'!$A40,BF21+1)","v":66},{"$f":"IFERROR(MID('Data Input'!$A40,BJ21+2,2),\"\")","v":"00"},95.8,"5",{"$f":"FIND(\" \"&BM21, 'Data Input'!$A40,BJ21+1)","v":70},{"$f":"IFERROR(MID('Data Input'!$A40,BN21+2,2),\"\")","v":"00"},95.8,"5",{"$f":"FIND(\" \"&BQ21, 'Data Input'!$A40,BN21+1)","v":74},{"$f":"IFERROR(MID('Data Input'!$A40,BR21+2,2),\"\")","v":"00"},{"v":0,"d":"0.0"},"5",{"$f":"FIND(\" \"&BU21, 'Data Input'!$A40,BR21+1)","v":78},{"$f":"IFERROR(MID('Data Input'!$A40,BV21+2,2),\"\")","v":"00"},95.8,"5",{"$f":"FIND(\" \"&BY21, 'Data Input'!$A40,BV21+1)","v":82},{"$f":"IFERROR(MID('Data Input'!$A40,BZ21+2,2),\"\")","v":"00"},11,"6",{"$f":"FIND(\" \"&CC21, 'Data Input'!$A40,BZ21+1)","v":86},{"$f":"IFERROR(MID('Data Input'!$A40,CD21+2,2),\"\")","v":"00"},0,"6",{"$f":"FIND(\" \"&CG21, 'Data Input'!$A40,CD21+1)","v":90},{"$f":"IFERROR(MID('Data Input'!$A40,CH21+2,2),\"\")","v":"00"},35,"6",{"$f":"FIND(\" \"&CK21, 'Data Input'!$A40,CH21+1)","v":94},{"$f":"IFERROR(MID('Data Input'!$A40,CL21+2,2),\"\")","v":"00"},0,"6",{"$f":"FIND(\" \"&CO21, 'Data Input'!$A40,CL21+1)","v":98},{"$f":"IFERROR(MID('Data Input'!$A40,CP21+2,2),\"\")","v":"49"},0.49]
["1",{"$f":"FIND(\" \"&A22, 'Data Input'!$A42)","v":6},{"$f":"IFERROR(MID('Data Input'!$A42,B22+2,2),\"\")","v":"00"},0,"1",{"$f":"FIND(\" \"&E22, 'Data Input'!$A42,B22+1)","v":10},{"$f":"IFERROR(MID('Data Input'!$A42,F22+2,2),\"\")","v":"99"},0,"1",{"$f":"FIND(\" \"&I22, 'Data Input'!$A42,F22+1)","v":14},{"$f":"IFERROR(MID('Data Input'!$A42,J22+2,2),\"\")","v":"85"},140,"1",{"$f":"FIND(\" \"&M22, 'Data Input'!$A42,J22+1)","v":18},{"$f":"IFERROR(MID('Data Input'!$A42,N22+2,2),\"\")","v":"90"},90,"2",{"$f":"FIND(\" \"&Q22, 'Data Input'!$A42,N22+1)","v":22},{"$f":"IFERROR(MID('Data Input'!$A42,R22+2,2),\"\")","v":"99"},0,"2",{"$f":"FIND(\" \"&U22, 'Data Input'!$A42,R22+1)","v":26},{"$f":"IFERROR(MID('Data Input'!$A42,V22+2,2),\"\")","v":"99"},{"v":0,"d":"0.00"},"2",{"$f":"FIND(\" \"&Y22, 'Data Input'!$A42,V22+1)","v":30},{"$f":"IFERROR(MID('Data Input'!$A42,Z22+2,2),\"\")","v":"99"},{"v":0,"d":"0.00"},"2",{"$f":"FIND(\" \"&AC22, 'Data Input'!$A42,Z22+1)","v":34},{"$f":"IFERROR(MID('Data Input'!$A42,AD22+2,2),\"\")","v":"55"},50,"3",{"$f":"FIND(\" \"&AG22, 'Data Input'!$A42,AD22+1)","v":38},{"$f":"IFERROR(MID('Data Input'!$A42,AH22+2,2),\"\")","v":"74"},{"v":3,"d":"3.0"},"3",{"$f":"FIND(\" \"&AK22, 'Data Input'!$A42,AH22+1)","v":42},{"$f":"IFERROR(MID('Data Input'!$A42,AL22+2,2),\"\")","v":"50"},{"v":5,"d":"5.0"},"3",{"$f":"FIND(\" \"&AO22, 'Data Input'!$A42,AL22+1)","v":46},{"$f":"IFERROR(MID('Data Input'!$A42,AP22+2,2),\"\")","v":"00"},{"v":0,"d":"0.00"},"3",{"$f":"FIND(\" \"&AS22, 'Data Input'!$A42,AP22+1)","v":50},{"$f":"IFERROR(MID('Data Input'!$A42,AT22+2,2),\"\")","v":"00"},95.8,"4",{"$f":"FIND(\" \"&AW22, 'Data Input'!$A42,AT22+1)","v":54},{"$f":"IFERROR(MID('Data Input'!$A42,AX22+2,2),\"\")","v":"42"},{"v":33.64,"d":"33.6"},"4",{"$f":"FIND(\" \"&BA22, 'Data Input'!$A42,AX22+1)","v":58},{"$f":"IFERROR(MID('Data Input'!$A42,BB22+2,2),\"\")","v":"00"},95.8,"4",{"$f":"FIND(\" \"&BE22, 'Data Input'!$A42,BB22+1)","v":62},{"$f":"IFERROR(MID('Data Input'!$A42,BF22+2,2),\"\")","v":"00"},95.8,"4",{"$f":"FIND(\" \"&BI22, 'Data Input'!$A42,BF22+1)","v":66},{"$f":"IFERROR(MID('Data Input'!$A42,BJ22+2,2),\"\")","v":"00"},95.8,"5",{"$f":"FIND(\" \"&BM22, 'Data Input'!$A42,BJ22+1)","v":70},{"$f":"IFERROR(MID('Data Input'!$A42,BN22+2,2),\"\")","v":"00"},95.8,"5",{"$f":"FIND(\" \"&BQ22, 'Data Input'!$A42,BN22+1)","v":74},{"$f":"IFERROR(MID('Data Input'!$A42,BR22+2,2),\"\")","v":"00"},{"v":0,"d":"0.0"},"5",{"$f":"FIND(\" \"&BU22, 'Data Input'!$A42,BR22+1)","v":78},{"$f":"IFERROR(MID('Data Input'!$A42,BV22+2,2),\"\")","v":"00"},95.8,"5",{"$f":"FIND(\" \"&BY22, 'Data Input'!$A42,BV22+1)","v":82},{"$f":"IFERROR(MID('Data Input'!$A42,BZ22+2,2),\"\")","v":"00"},11,"6",{"$f":"FIND(\" \"&CC22, 'Data Input'!$A42,BZ22+1)","v":86},{"$f":"IFERROR(MID('Data Input'!$A42,CD22+2,2),\"\")","v":"00"},0,"6",{"$f":"FIND(\" \"&CG22, 'Data Input'!$A42,CD22+1)","v":90},{"$f":"IFERROR(MID('Data Input'!$A42,CH22+2,2),\"\")","v":"00"},35,"6",{"$f":"FIND(\" \"&CK22, 'Data Input'!$A42,CH22+1)","v":94},{"$f":"IFERROR(MID('Data Input'!$A42,CL22+2,2),\"\")","v":"00"},0,"6",{"$f":"FIND(\" \"&CO22, 'Data Input'!$A42,CL22+1)","v":98},{"$f":"IFERROR(MID('Data Input'!$A42,CP22+2,2),\"\")","v":"51"},0.51]
["1",{"$f":"FIND(\" \"&A23, 'Data Input'!$A44)","v":6},{"$f":"IFERROR(MID('Data Input'!$A44,B23+2,2),\"\")","v":"00"},0,"1",{"$f":"FIND(\" \"&E23, 'Data Input'!$A44,B23+1)","v":10},{"$f":"IFERROR(MID('Data Input'!$A44,F23+2,2),\"\")","v":"99"},0,"1",{"$f":"FIND(\" \"&I23, 'Data Input'!$A44,F23+1)","v":14},{"$f":"IFERROR(MID('Data Input'!$A44,J23+2,2),\"\")","v":"93"},60,"1",{"$f":"FIND(\" \"&M23, 'Data Input'!$A44,J23+1)","v":18},{"$f":"IFERROR(MID('Data Input'!$A44,N23+2,2),\"\")","v":"86"},130,"2",{"$f":"FIND(\" \"&Q23, 'Data Input'!$A44,N23+1)","v":22},{"$f":"IFERROR(MID('Data Input'!$A44,R23+2,2),\"\")","v":"99"},0,"2",{"$f":"FIND(\" \"&U23, 'Data Input'!$A44,R23+1)","v":26},{"$f":"IFERROR(MID('Data Input'!$A44,V23+2,2),\"\")","v":"99"},{"v":0,"d":"0.00"},"2",{"$f":"FIND(\" \"&Y23, 'Data Input'!$A44,V23+1)","v":30},{"$f":"IFERROR(MID('Data Input'!$A44,Z23+2,2),\"\")","v":"99"},{"v":0,"d":"0.00"},"2",{"$f":"FIND(\" \"&AC23, 'Data Input'!$A44,Z23+1)","v":34},{"$f":"IFERROR(MID('Data Input'!$A44,AD23+2,2),\"\")","v":"54"},40,"3",{"$f":"FIND(\" \"&AG23, 'Data Input'!$A44,AD23+1)","v":38},{"$f":"IFERROR(MID('Data Input'!$A44,AH23+2,2),\"\")","v":"74"},{"v":3,"d":"3.0"},"3",{"$f":"FIND(\" \"&AK23, 'Data Input'!$A44,AH23+1)","v":42},{"$f":"IFERROR(MID('Data Input'!$A44,AL23+2,2),\"\")","v":"50"},{"v":5,"d":"5.0"},"3",{"$f":"FIND(\" \"&AO23, 'Data Input'!$A44,AL23+1)","v":46},{"$f":"IFERROR(MID('Data Input'!$A44,AP23+2,2),\"\")","v":"00"},{"v":0,"d":"0.00"},"3",{"$f":"FIND(\" \"&AS23, 'Data Input'!$A44,AP23+1)","v":50},{"$f":"IFERROR(MID('Data Input'!$A44,AT23+2,2),\"\")","v":"00"},95.8,"4",{"$f":"FIND(\" \"&AW23, 'Data Input'!$A44,AT23+1)","v":54},{"$f":"IFERROR(MID('Data Input'!$A44,AX23+2,2),\"\")","v":"42"},{"v":33.64,"d":"33.6"},"4",{"$f":"FIND(\" \"&BA23, 'Data Input'!$A44,AX23+1)","v":58},{"$f":"IFERROR(MID('Data Input'!$A44,BB23+2,2),\"\")","v":"00"},95.8,"4",{"$f":"FIND(\" \"&BE23, 'Data Input'!$A44,BB23+1)","v":62},{"$f":"IFERROR(MID('Data Input'!$A44,BF23+2,2),\"\")","v":"00"},95.8,"4",{"$f":"FIND(\" \"&BI23, 'Data Input'!$A44,BF23+1)","v":66},{"$f":"IFERROR(MID('Data Input'!$A44,BJ23+2,2),\"\")","v":"00"},95.8,"5",{"$f":"FIND(\" \"&BM23, 'Data Input'!$A44,BJ23+1)","v":70},{"$f":"IFERROR(MID('Data Input'!$A44,BN23+2,2),\"\")","v":"00"},95.8,"5",{"$f":"FIND(\" \"&BQ23, 'Data Input'!$A44,BN23+1)","v":74},{"$f":"IFERROR(MID('Data Input'!$A44,BR23+2,2),\"\")","v":"00"},{"v":0,"d":"0.0"},"5",{"$f":"FIND(\" \"&BU23, 'Data Input'!$A44,BR23+1)","v":78},{"$f":"IFERROR(MID('Data Input'!$A44,BV23+2,2),\"\")","v":"00"},95.8,"5",{"$f":"FIND(\" \"&BY23, 'Data Input'!$A44,BV23+1)","v":82},{"$f":"IFERROR(MID('Data Input'!$A44,BZ23+2,2),\"\")","v":"00"},11,"6",{"$f":"FIND(\" \"&CC23, 'Data Input'!$A44,BZ23+1)","v":86},{"$f":"IFERROR(MID('Data Input'!$A44,CD23+2,2),\"\")","v":"00"},0,"6",{"$f":"FIND(\" \"&CG23, 'Data Input'!$A44,CD23+1)","v":90},{"$f":"IFERROR(MID('Data Input'!$A44,CH23+2,2),\"\")","v":"00"},35,"6",{"$f":"FIND(\" \"&CK23, 'Data Input'!$A44,CH23+1)","v":94},{"$f":"IFERROR(MID('Data Input'!$A44,CL23+2,2),\"\")","v":"00"},0,"6",{"$f":"FIND(\" \"&CO23, 'Data Input'!$A44,CL23+1)","v":98},{"$f":"IFERROR(MID('Data Input'!$A44,CP23+2,2),\"\")","v":"50"},{"v":0.5,"d":"0.50"}]
["1",{"$f":"FIND(\" \"&A24, 'Data Input'!$A46)","v":6},{"$f":"IFERROR(MID('Data Input'!$A46,B24+2,2),\"\")","v":"00"},0,"1",{"$f":"FIND(\" \"&E24, 'Data Input'!$A46,B24+1)","v":10},{"$f":"IFERROR(MID('Data Input'!$A46,F24+2,2),\"\")","v":"96"},30,"1",{"$f":"FIND(\" \"&I24, 'Data Input'!$A46,F24+1)","v":14},{"$f":"IFERROR(MID('Data Input'!$A46,J24+2,2),\"\")","v":"99"},0,"1",{"$f":"FIND(\" \"&M24, 'Data Input'!$A46,J24+1)","v":18},{"$f":"IFERROR(MID('Data Input'!$A46,N24+2,2),\"\")","v":"85"},140,"2",{"$f":"FIND(\" \"&Q24, 'Data Input'!$A46,N24+1)","v":22},{"$f":"IFERROR(MID('Data Input'!$A46,R24+2,2),\"\")","v":"99"},0,"2",{"$f":"FIND(\" \"&U24, 'Data Input'!$A46,R24+1)","v":26},{"$f":"IFERROR(MID('Data Input'!$A46,V24+2,2),\"\")","v":"99"},{"v":0,"d":"0.00"},"2",{"$f":"FIND(\" \"&Y24, 'Data Input'!$A46,V24+1)","v":30},{"$f":"IFERROR(MID('Data Input'!$A46,Z24+2,2),\"\")","v":"98"},{"v":10,"d":"10.00"},"2",{"$f":"FIND(\" \"&AC24, 'Data Input'!$A46,Z24+1)","v":34},{"$f":"IFERROR(MID('Data Input'!$A46,AD24+2,2),\"\")","v":"54"},40,"3",{"$f":"FIND(\" \"&AG24, 'Data Input'!$A46,AD24+1)","v":38},{"$f":"IFERROR(MID('Data Input'!$A46,AH24+2,2),\"\")","v":"74"},{"v":3,"d":"3.0"},"3",{"$f":"FIND(\" \"&AK24, 'Data Input'!$A46,AH24+1)","v":42},{"$f":"IFERROR(MID('Data Input'!$A46,AL24+2,2),\"\")","v":"50"},{"v":5,"d":"5.0"},"3",{"$f":"FIND(\" \"&AO24, 'Data Input'!$A46,AL24+1)","v":46},{"$f":"IFERROR(MID('Data Input'!$A46,AP24+2,2),\"\")","v":"00"},{"v":0,"d":"0.00"},"3",{"$f":"FIND(\" \"&AS24, 'Data Input'!$A46,AP24+1)","v":50},{"$f":"IFERROR(MID('Data Input'!$A46,AT24+2,2),\"\")","v":"00"},95.8,"4",{"$f":"FIND(\" \"&AW24, 'Data Input'!$A46,AT24+1)","v":54},{"$f":"IFERROR(MID('Data Input'!$A46,AX24+2,2),\"\")","v":"42"},{"v":33.64,"d":"33.6"},"4",{"$f":"FIND(\" \"&BA24, 'Data Input'!$A46,AX24+1)","v":58},{"$f":"IFERROR(MID('Data Input'!$A46,BB24+2,2),\"\")","v":"00"},95.8,"4",{"$f":"FIND(\" \"&BE24, 'Data Input'!$A46,BB24+1)","v":62},{"$f":"IFERROR(MID('Data Input'!$A46,BF24+2,2),\"\")","v":"00"},95.8,"4",{"$f":"FIND(\" \"&BI24, 'Data Input'!$A46,BF24+1)","v":66},{"$f":"IFERROR(MID('Data Input'!$A46,BJ24+2,2),\"\")","v":"00"},95.8,"5",{"$f":"FIND(\" \"&BM24, 'Data Input'!$A46,BJ24+1)","v":70},{"$f":"IFERROR(MID('Data Input'!$A46,BN24+2,2),\"\")","v":"00"},95.8,"5",{"$f":"FIND(\" \"&BQ24, 'Data Input'!$A46,BN24+1)","v":74},{"$f":"IFERROR(MID('Data Input'!$A46,BR24+2,2),\"\")","v":"00"},{"v":0,"d":"0.0"},"5",{"$f":"FIND(\" \"&BU24, 'Data Input'!$A46,BR24+1)","v":78},{"$f":"IFERROR(MID('Data Input'!$A46,BV24+2,2),\"\")","v":"00"},95.8,"5",{"$f":"FIND(\" \"&BY24, 'Data Input'!$A46,BV24+1)","v":82},{"$f":"IFERROR(MID('Data Input'!$A46,BZ24+2,2),\"\")","v":"00"},11,"6",{"$f":"FIND(\" \"&CC24, 'Data Input'!$A46,BZ24+1)","v":86},{"$f":"IFERROR(MID('Data Input'!$A46,CD24+2,2),\"\")","v":"00"},0,"6",{"$f":"FIND(\" \"&CG24, 'Data Input'!$A46,CD24+1)","v":90},{"$f":"IFERROR(MID('Data Input'!$A46,CH24+2,2),\"\")","v":"00"},35,"6",{"$f":"FIND(\" \"&CK24, 'Data Input'!$A46,CH24+1)","v":94},{"$f":"IFERROR(MID('Data Input'!$A46,CL24+2,2),\"\")","v":"00"},0,"6",{"$f":"FIND(\" \"&CO24, 'Data Input'!$A46,CL24+1)","v":98},{"$f":"IFERROR(MID('Data Input'!$A46,CP24+2,2),\"\")","v":"50"},{"v":0.5,"d":"0.50"}]
["1",{"$f":"FIND(\" \"&A25, 'Data Input'!$A48)","v":6},{"$f":"IFERROR(MID('Data Input'!$A48,B25+2,2),\"\")","v":"00"},0,"1",{"$f":"FIND(\" \"&E25, 'Data Input'!$A48,B25+1)","v":10},{"$f":"IFERROR(MID('Data Input'!$A48,F25+2,2),\"\")","v":"87"},120,"1",{"$f":"FIND(\" \"&I25, 'Data Input'!$A48,F25+1)","v":14},{"$f":"IFERROR(MID('Data Input'!$A48,J25+2,2),\"\")","v":"99"},0,"1",{"$f":"FIND(\" \"&M25, 'Data Input'!$A48,J25+1)","v":18},{"$f":"IFERROR(MID('Data Input'!$A48,N25+2,2),\"\")","v":"88"},110,"2",{"$f":"FIND(\" \"&Q25, 'Data Input'!$A48,N25+1)","v":22},{"$f":"IFERROR(MID('Data Input'!$A48,R25+2,2),\"\")","v":"99"},0,"2",{"$f":"FIND(\" \"&U25, 'Data Input'!$A48,R25+1)","v":26},{"$f":"IFERROR(MID('Data Input'!$A48,V25+2,2),\"\")","v":"99"},{"v":0,"d":"0.00"},"2",{"$f":"FIND(\" \"&Y25, 'Data Input'!$A48,V25+1)","v":30},{"$f":"IFERROR(MID('Data Input'!$A48,Z25+2,2),\"\")","v":"99"},{"v":0,"d":"0.00"},"2",{"$f":"FIND(\" \"&AC25, 'Data Input'!$A48,Z25+1)","v":34},{"$f":"IFERROR(MID('Data Input'!$A48,AD25+2,2),\"\")","v":"54"},40,"3",{"$f":"FIND(\" \"&AG25, 'Data Input'!$A48,AD25+1)","v":38},{"$f":"IFERROR(MID('Data Input'!$A48,AH25+2,2),\"\")","v":"74"},{"v":3,"d":"3.0"},"3",{"$f":"FIND(\" \"&AK25, 'Data Input'!$A48,AH25+1)","v":42},{"$f":"IFERROR(MID('Data Input'!$A48,AL25+2,2),\"\")","v":"50"},{"v":5,"d":"5.0"},"3",{"$f":"FIND(\" \"&AO25, 'Data Input'!$A48,AL25+1)","v":46},{"$f":"IFERROR(MID('Data Input'!$A48,AP25+2,2),\"\")","v":"00"},{"v":0,"d":"0.00"},"3",{"$f":"FIND(\" \"&AS25, 'Data Input'!$A48,AP25+1)","v":50},{"$f":"IFERROR(MID('Data Input'!$A48,AT25+2,2),\"\")","v":"00"},95.8,"4",{"$f":"FIND(\" \"&AW25, 'Data Input'!$A48,AT25+1)","v":54},{"$f":"IFERROR(MID('Data Input'!$A48,AX25+2,2),\"\")","v":"42"},{"v":33.64,"d":"33.6"},"4",{"$f":"FIND(\" \"&BA25, 'Data Input'!$A48,AX25+1)","v":58},{"$f":"IFERROR(MID('Data Input'!$A48,BB25+2,2),\"\")","v":"00"},95.8,"4",{"$f":"FIND(\" \"&BE25, 'Data Input'!$A48,BB25+1)","v":62},{"$f":"IFERROR(MID('Data Input'!$A48,BF25+2,2),\"\")","v":"00"},95.8,"4",{"$f":"FIND(\" \"&BI25, 'Data Input'!$A48,BF25+1)","v":66},{"$f":"IFERROR(MID('Data Input'!$A48,BJ25+2,2),\"\")","v":"00"},95.8,"5",{"$f":"FIND(\" \"&BM25, 'Data Input'!$A48,BJ25+1)","v":70},{"$f":"IFERROR(MID('Data Input'!$A48,BN25+2,2),\"\")","v":"00"},95.8,"5",{"$f":"FIND(\" \"&BQ25, 'Data Input'!$A48,BN25+1)","v":74},{"$f":"IFERROR(MID('Data Input'!$A48,BR25+2,2),\"\")","v":"00"},{"v":0,"d":"0.0"},"5",{"$f":"FIND(\" \"&BU25, 'Data Input'!$A48,BR25+1)","v":78},{"$f":"IFERROR(MID('Data Input'!$A48,BV25+2,2),\"\")","v":"00"},95.8,"5",{"$f":"FIND(\" \"&BY25, 'Data Input'!$A48,BV25+1)","v":82},{"$f":"IFERROR(MID('Data Input'!$A48,BZ25+2,2),\"\")","v":"00"},11,"6",{"$f":"FIND(\" \"&CC25, 'Data Input'!$A48,BZ25+1)","v":86},{"$f":"IFERROR(MID('Data Input'!$A48,CD25+2,2),\"\")","v":"00"},0,"6",{"$f":"FIND(\" \"&CG25, 'Data Input'!$A48,CD25+1)","v":90},{"$f":"IFERROR(MID('Data Input'!$A48,CH25+2,2),\"\")","v":"00"},35,"6",{"$f":"FIND(\" \"&CK25, 'Data Input'!$A48,CH25+1)","v":94},{"$f":"IFERROR(MID('Data Input'!$A48,CL25+2,2),\"\")","v":"00"},0,"6",{"$f":"FIND(\" \"&CO25, 'Data Input'!$A48,CL25+1)","v":98},{"$f":"IFERROR(MID('Data Input'!$A48,CP25+2,2),\"\")","v":"50"},{"v":0.5,"d":"0.50"}]
["1",{"$f":"FIND(\" \"&A26, 'Data Input'!$A50)","v":6},{"$f":"IFERROR(MID('Data Input'!$A50,B26+2,2),\"\")","v":"00"},0,"1",{"$f":"FIND(\" \"&E26, 'Data Input'!$A50,B26+1)","v":10},{"$f":"IFERROR(MID('Data Input'!$A50,F26+2,2),\"\")","v":"82"},170,"1",{"$f":"FIND(\" \"&I26, 'Data Input'!$A50,F26+1)","v":14},{"$f":"IFERROR(MID('Data Input'!$A50,J26+2,2),\"\")","v":"99"},0,"1",{"$f":"FIND(\" \"&M26, 'Data Input'!$A50,J26+1)","v":18},{"$f":"IFERROR(MID('Data Input'!$A50,N26+2,2),\"\")","v":"95"},40,"2",{"$f":"FIND(\" \"&Q26, 'Data Input'!$A50,N26+1)","v":22},{"$f":"IFERROR(MID('Data Input'!$A50,R26+2,2),\"\")","v":"99"},0,"2",{"$f":"FIND(\" \"&U26, 'Data Input'!$A50,R26+1)","v":26},{"$f":"IFERROR(MID('Data Input'!$A50,V26+2,2),\"\")","v":"99"},{"v":0,"d":"0.00"},"2",{"$f":"FIND(\" \"&Y26, 'Data Input'!$A50,V26+1)","v":30},{"$f":"IFERROR(MID('Data Input'!$A50,Z26+2,2),\"\")","v":"98"},{"v":10,"d":"10.00"},"2",{"$f":"FIND(\" \"&AC26, 'Data Input'!$A50,Z26+1)","v":34},{"$f":"IFERROR(MID('Data Input'!$A50,AD26+2,2),\"\")","v":"54"},40,"3",{"$f":"FIND(\" \"&AG26, 'Data Input'!$A50,AD26+1)","v":38},{"$f":"IFERROR(MID('Data Input'!$A50,AH26+2,2),\"\")","v":"74"},{"v":3,"d":"3.0"},"3",{"$f":"FIND(\" \"&AK26, 'Data Input'!$A50,AH26+1)","v":42},{"$f":"IFERROR(MID('Data Input'!$A50,AL26+2,2),\"\")","v":"50"},{"v":5,"d":"5.0"},"3",{"$f":"FIND(\" \"&AO26, 'Data Input'!$A50,AL26+1)","v":46},{"$f":"IFERROR(MID('Data Input'!$A50,AP26+2,2),\"\")","v":"00"},{"v":0,"d":"0.00"},"3",{"$f":"FIND(\" \"&AS26, 'Data Input'!$A50,AP26+1)","v":50},{"$f":"IFERROR(MID('Data Input'!$A50,AT26+2,2),\"\")","v":"00"},95.8,"4",{"$f":"FIND(\" \"&AW26, 'Data Input'!$A50,AT26+1)","v":54},{"$f":"IFERROR(MID('Data Input'!$A50,AX26+2,2),\"\")","v":"41"},{"v":35.12,"d":"35.1"},"4",{"$f":"FIND(\" \"&BA26, 'Data Input'!$A50,AX26+1)","v":58},{"$f":"IFERROR(MID('Data Input'!$A50,BB26+2,2),\"\")","v":"00"},95.8,"4",{"$f":"FIND(\" \"&BE26, 'Data Input'!$A50,BB26+1)","v":62},{"$f":"IFERROR(MID('Data Input'!$A50,BF26+2,2),\"\")","v":"00"},95.8,"4",{"$f":"FIND(\" \"&BI26, 'Data Input'!$A50,BF26+1)","v":66},{"$f":"IFERROR(MID('Data Input'!$A50,BJ26+2,2),\"\")","v":"00"},95.8,"5",{"$f":"FIND(\" \"&BM26, 'Data Input'!$A50,BJ26+1)","v":70},{"$f":"IFERROR(MID('Data Input'!$A50,BN26+2,2),\"\")","v":"00"},95.8,"5",{"$f":"FIND(\" \"&BQ26, 'Data Input'!$A50,BN26+1)","v":74},{"$f":"IFERROR(MID('Data Input'!$A50,BR26+2,2),\"\")","v":"00"},{"v":0,"d":"0.0"},"5",{"$f":"FIND(\" \"&BU26, 'Data Input'!$A50,BR26+1)","v":78},{"$f":"IFERROR(MID('Data Input'!$A50,BV26+2,2),\"\")","v":"00"},95.8,"5",{"$f":"FIND(\" \"&BY26, 'Data Input'!$A50,BV26+1)","v":82},{"$f":"IFERROR(MID('Data Input'!$A50,BZ26+2,2),\"\")","v":"00"},11,"6",{"$f":"FIND(\" \"&CC26, 'Data Input'!$A50,BZ26+1)","v":86},{"$f":"IFERROR(MID('Data Input'!$A50,CD26+2,2),\"\")","v":"00"},0,"6",{"$f":"FIND(\" \"&CG26, 'Data Input'!$A50,CD26+1)","v":90},{"$f":"IFERROR(MID('Data Input'!$A50,CH26+2,2),\"\")","v":"00"},35,"6",{"$f":"FIND(\" \"&CK26, 'Data Input'!$A50,CH26+1)","v":94},{"$f":"IFERROR(MID('Data Input'!$A50,CL26+2,2),\"\")","v":"00"},0,"6",{"$f":"FIND(\" \"&CO26, 'Data Input'!$A50,CL26+1)","v":98},{"$f":"IFERROR(MID('Data Input'!$A50,CP26+2,2),\"\")","v":"50"},{"v":0.5,"d":"0.50"}]
["1",{"$f":"FIND(\" \"&A27, 'Data Input'!$A52)","v":6},{"$f":"IFERROR(MID('Data Input'!$A52,B27+2,2),\"\")","v":"00"},0,"1",{"$f":"FIND(\" \"&E27, 'Data Input'!$A52,B27+1)","v":10},{"$f":"IFERROR(MID('Data Input'!$A52,F27+2,2),\"\")","v":"81"},180,"1",{"$f":"FIND(\" \"&I27, 'Data Input'!$A52,F27+1)","v":14},{"$f":"IFERROR(MID('Data Input'!$A52,J27+2,2),\"\")","v":"99"},0,"1",{"$f":"FIND(\" \"&M27, 'Data Input'!$A52,J27+1)","v":18},{"$f":"IFERROR(MID('Data Input'!$A52,N27+2,2),\"\")","v":"99"},0,"2",{"$f":"FIND(\" \"&Q27, 'Data Input'!$A52,N27+1)","v":22},{"$f":"IFERROR(MID('Data Input'!$A52,R27+2,2),\"\")","v":"96"},30,"2",{"$f":"FIND(\" \"&U27, 'Data Input'!$A52,R27+1)","v":26},{"$f":"IFERROR(MID('Data Input'!$A52,V27+2,2),\"\")","v":"99"},{"v":0,"d":"0.00"},"2",{"$f":"FIND(\" \"&Y27, 'Data Input'!$A52,V27+1)","v":30},{"$f":"IFERROR(MID('Data Input'!$A52,Z27+2,2),\"\")","v":"99"},{"v":0,"d":"0.00"},"2",{"$f":"FIND(\" \"&AC27, 'Data Input'!$A52,Z27+1)","v":34},{"$f":"IFERROR(MID('Data Input'!$A52,AD27+2,2),\"\")","v":"54"},40,"3",{"$f":"FIND(\" \"&AG27, 'Data Input'!$A52,AD27+1)","v":38},{"$f":"IFERROR(MID('Data Input'!$A52,AH27+2,2),\"\")","v":"74"},{"v":3,"d":"3.0"},"3",{"$f":"FIND(\" \"&AK27, 'Data Input'!$A52,AH27+1)","v":42},{"$f":"IFERROR(MID('Data Input'!$A52,AL27+2,2),\"\")","v":"50"},{"v":5,"d":"5.0"},"3",{"$f":"FIND(\" \"&AO27, 'Data Input'!$A52,AL27+1)","v":46},{"$f":"IFERROR(MID('Data Input'!$A52,AP27+2,2),\"\")","v":"00"},{"v":0,"d":"0.00"},"3",{"$f":"FIND(\" \"&AS27, 'Data Input'!$A52,AP27+1)","v":50},{"$f":"IFERROR(MID('Data Input'!$A52,AT27+2,2),\"\")","v":"00"},95.8,"4",{"$f":"FIND(\" \"&AW27, 'Data Input'!$A52,AT27+1)","v":54},{"$f":"IFERROR(MID('Data Input'!$A52,AX27+2,2),\"\")","v":"41"},{"v":35.12,"d":"35.1"},"4",{"$f":"FIND(\" \"&BA27, 'Data Input'!$A52,AX27+1)","v":58},{"$f":"IFERROR(MID('Data Input'!$A52,BB27+2,2),\"\")","v":"00"},95.8,"4",{"$f":"FIND(\" \"&BE27, 'Data Input'!$A52,BB27+1)","v":62},{"$f":"IFERROR(MID('Data Input'!$A52,BF27+2,2),\"\")","v":"00"},95.8,"4",{"$f":"FIND(\" \"&BI27, 'Data Input'!$A52,BF27+1)","v":66},{"$f":"IFERROR(MID('Data Input'!$A52,BJ27+2,2),\"\")","v":"00"},95.8,"5",{"$f":"FIND(\" \"&BM27, 'Data Input'!$A52,BJ27+1)","v":70},{"$f":"IFERROR(MID('Data Input'!$A52,BN27+2,2),\"\")","v":"00"},95.8,"5",{"$f":"FIND(\" \"&BQ27, 'Data Input'!$A52,BN27+1)","v":74},{"$f":"IFERROR(MID('Data Input'!$A52,BR27+2,2),\"\")","v":"00"},{"v":0,"d":"0.0"},"5",{"$f":"FIND(\" \"&BU27, 'Data Input'!$A52,BR27+1)","v":78},{"$f":"IFERROR(MID('Data Input'!$A52,BV27+2,2),\"\")","v":"00"},95.8,"5",{"$f":"FIND(\" \"&BY27, 'Data Input'!$A52,BV27+1)","v":82},{"$f":"IFERROR(MID('Data Input'!$A52,BZ27+2,2),\"\")","v":"00"},11,"6",{"$f":"FIND(\" \"&CC27, 'Data Input'!$A52,BZ27+1)","v":86},{"$f":"IFERROR(MID('Data Input'!$A52,CD27+2,2),\"\")","v":"00"},0,"6",{"$f":"FIND(\" \"&CG27, 'Data Input'!$A52,CD27+1)","v":90},{"$f":"IFERROR(MID('Data Input'!$A52,CH27+2,2),\"\")","v":"00"},35,"6",{"$f":"FIND(\" \"&CK27, 'Data Input'!$A52,CH27+1)","v":94},{"$f":"IFERROR(MID('Data Input'!$A52,CL27+2,2),\"\")","v":"00"},0,"6",{"$f":"FIND(\" \"&CO27, 'Data Input'!$A52,CL27+1)","v":98},{"$f":"IFERROR(MID('Data Input'!$A52,CP27+2,2),\"\")","v":"50"},{"v":0.5,"d":"0.50"}]
["1",{"$f":"FIND(\" \"&A28, 'Data Input'!$A54)","v":6},{"$f":"IFERROR(MID('Data Input'!$A54,B28+2,2),\"\")","v":"00"},0,"1",{"$f":"FIND(\" \"&E28, 'Data Input'!$A54,B28+1)","v":10},{"$f":"IFERROR(MID('Data Input'!$A54,F28+2,2),\"\")","v":"86"},130,"1",{"$f":"FIND(\" \"&I28, 'Data Input'!$A54,F28+1)","v":14},{"$f":"IFERROR(MID('Data Input'!$A54,J28+2,2),\"\")","v":"99"},0,"1",{"$f":"FIND(\" \"&M28, 'Data Input'!$A54,J28+1)","v":18},{"$f":"IFERROR(MID('Data Input'!$A54,N28+2,2),\"\")","v":"99"},0,"2",{"$f":"FIND(\" \"&Q28, 'Data Input'!$A54,N28+1)","v":22},{"$f":"IFERROR(MID('Data Input'!$A54,R28+2,2),\"\")","v":"89"},100,"2",{"$f":"FIND(\" \"&U28, 'Data Input'!$A54,R28+1)","v":26},{"$f":"IFERROR(MID('Data Input'!$A54,V28+2,2),\"\")","v":"99"},{"v":0,"d":"0.00"},"2",{"$f":"FIND(\" \"&Y28, 'Data Input'!$A54,V28+1)","v":30},{"$f":"IFERROR(MID('Data Input'!$A54,Z28+2,2),\"\")","v":"99"},{"v":0,"d":"0.00"},"2",{"$f":"FIND(\" \"&AC28, 'Data Input'!$A54,Z28+1)","v":34},{"$f":"IFERROR(MID('Data Input'!$A54,AD28+2,2),\"\")","v":"55"},50,"3",{"$f":"FIND(\" \"&AG28, 'Data Input'!$A54,AD28+1)","v":38},{"$f":"IFERROR(MID('Data Input'!$A54,AH28+2,2),\"\")","v":"74"},{"v":3,"d":"3.0"},"3",{"$f":"FIND(\" \"&AK28, 'Data Input'!$A54,AH28+1)","v":42},{"$f":"IFERROR(MID('Data Input'!$A54,AL28+2,2),\"\")","v":"50"},{"v":5,"d":"5.0"},"3",{"$f":"FIND(\" \"&AO28, 'Data Input'!$A54,AL28+1)","v":46},{"$f":"IFERROR(MID('Data Input'!$A54,AP28+2,2),\"\")","v":"00"},{"v":0,"d":"0.00"},"3",{"$f":"FIND(\" \"&AS28, 'Data Input'!$A54,AP28+1)","v":50},{"$f":"IFERROR(MID('Data Input'!$A54,AT28+2,2),\"\")","v":"00"},95.8,"4",{"$f":"FIND(\" \"&AW28, 'Data Input'!$A54,AT28+1)","v":54},{"$f":"IFERROR(MID('Data Input'!$A54,AX28+2,2),\"\")","v":"41"},{"v":35.12,"d":"35.1"},"4",{"$f":"FIND(\" \"&BA28, 'Data Input'!$A54,AX28+1)","v":58},{"$f":"IFERROR(MID('Data Input'!$A54,BB28+2,2),\"\")","v":"00"},95.8,"4",{"$f":"FIND(\" \"&BE28, 'Data Input'!$A54,BB28+1)","v":62},{"$f":"IFERROR(MID('Data Input'!$A54,BF28+2,2),\"\")","v":"00"},95.8,"4",{"$f":"FIND(\" \"&BI28, 'Data Input'!$A54,BF28+1)","v":66},{"$f":"IFERROR(MID('Data Input'!$A54,BJ28+2,2),\"\")","v":"00"},95.8,"5",{"$f":"FIND(\" \"&BM28, 'Data Input'!$A54,BJ28+1)","v":70},{"$f":"IFERROR(MID('Data Input'!$A54,BN28+2,2),\"\")","v":"00"},95.8,"5",{"$f":"FIND(\" \"&BQ28, 'Data Input'!$A54,BN28+1)","v":74},{"$f":"IFERROR(MID('Data Input'!$A54,BR28+2,2),\"\")","v":"00"},{"v":0,"d":"0.0"},"5",{"$f":"FIND(\" \"&BU28, 'Data Input'!$A54,BR28+1)","v":78},{"$f":"IFERROR(MID('Data Input'!$A54,BV28+2,2),\"\")","v":"00"},95.8,"5",{"$f":"FIND(\" \"&BY28, 'Data Input'!$A54,BV28+1)","v":82},{"$f":"IFERROR(MID('Data Input'!$A54,BZ28+2,2),\"\")","v":"00"},11,"6",{"$f":"FIND(\" \"&CC28, 'Data Input'!$A54,BZ28+1)","v":86},{"$f":"IFERROR(MID('Data Input'!$A54,CD28+2,2),\"\")","v":"00"},0,"6",{"$f":"FIND(\" \"&CG28, 'Data Input'!$A54,CD28+1)","v":90},{"$f":"IFERROR(MID('Data Input'!$A54,CH28+2,2),\"\")","v":"00"},35,"6",{"$f":"FIND(\" \"&CK28, 'Data Input'!$A54,CH28+1)","v":94},{"$f":"IFERROR(MID('Data Input'!$A54,CL28+2,2),\"\")","v":"00"},0,"6",{"$f":"FIND(\" \"&CO28, 'Data Input'!$A54,CL28+1)","v":98},{"$f":"IFERROR(MID('Data Input'!$A54,CP28+2,2),\"\")","v":"49"},0.49]
["1",{"$f":"FIND(\" \"&A29, 'Data Input'!$A56)","v":6},{"$f":"IFERROR(MID('Data Input'!$A56,B29+2,2),\"\")","v":"00"},0,"1",{"$f":"FIND(\" \"&E29, 'Data Input'!$A56,B29+1)","v":10},{"$f":"IFERROR(MID('Data Input'!$A56,F29+2,2),\"\")","v":"94"},50,"1",{"$f":"FIND(\" \"&I29, 'Data Input'!$A56,F29+1)","v":14},{"$f":"IFERROR(MID('Data Input'!$A56,J29+2,2),\"\")","v":"99"},0,"1",{"$f":"FIND(\" \"&M29, 'Data Input'!$A56,J29+1)","v":18},{"$f":"IFERROR(MID('Data Input'!$A56,N29+2,2),\"\")","v":"99"},0,"2",{"$f":"FIND(\" \"&Q29, 'Data Input'!$A56,N29+1)","v":22},{"$f":"IFERROR(MID('Data Input'!$A56,R29+2,2),\"\")","v":"85"},140,"2",{"$f":"FIND(\" \"&U29, 'Data Input'!$A56,R29+1)","v":26},{"$f":"IFERROR(MID('Data Input'!$A56,V29+2,2),\"\")","v":"99"},{"v":0,"d":"0.00"},"2",{"$f":"FIND(\" \"&Y29, 'Data Input'!$A56,V29+1)","v":30},{"$f":"IFERROR(MID('Data Input'!$A56,Z29+2,2),\"\")","v":"99"},{"v":0,"d":"0.00"},"2",{"$f":"FIND(\" \"&AC29, 'Data Input'!$A56,Z29+1)","v":34},{"$f":"IFERROR(MID('Data Input'!$A56,AD29+2,2),\"\")","v":"55"},50,"3",{"$f":"FIND(\" \"&AG29, 'Data Input'!$A56,AD29+1)","v":38},{"$f":"IFERROR(MID('Data Input'!$A56,AH29+2,2),\"\")","v":"74"},{"v":3,"d":"3.0"},"3",{"$f":"FIND(\" \"&AK29, 'Data Input'!$A56,AH29+1)","v":42},{"$f":"IFERROR(MID('Data Input'!$A56,AL29+2,2),\"\")","v":"50"},{"v":5,"d":"5.0"},"3",{"$f":"FIND(\" \"&AO29, 'Data Input'!$A56,AL29+1)","v":46},{"$f":"IFERROR(MID('Data Input'!$A56,AP29+2,2),\"\")","v":"00"},{"v":0,"d":"0.00"},"3",{"$f":"FIND(\" \"&AS29, 'Data Input'!$A56,AP29+1)","v":50},{"$f":"IFERROR(MID('Data Input'!$A56,AT29+2,2),\"\")","v":"00"},95.8,"4",{"$f":"FIND(\" \"&AW29, 'Data Input'!$A56,AT29+1)","v":54},{"$f":"IFERROR(MID('Data Input'!$A56,AX29+2,2),\"\")","v":"41"},{"v":35.12,"d":"35.1"},"4",{"$f":"FIND(\" \"&BA29, 'Data Input'!$A56,AX29+1)","v":58},{"$f":"IFERROR(MID('Data Input'!$A56,BB29+2,2),\"\")","v":"00"},95.8,"4",{"$f":"FIND(\" \"&BE29, 'Data Input'!$A56,BB29+1)","v":62},{"$f":"IFERROR(MID('Data Input'!$A56,BF29+2,2),\"\")","v":"00"},95.8,"4",{"$f":"FIND(\" \"&BI29, 'Data Input'!$A56,BF29+1)","v":66},{"$f":"IFERROR(MID('Data Input'!$A56,BJ29+2,2),\"\")","v":"00"},95.8,"5",{"$f":"FIND(\" \"&BM29, 'Data Input'!$A56,BJ29+1)","v":70},{"$f":"IFERROR(MID('Data Input'!$A56,BN29+2,2),\"\")","v":"00"},95.8,"5",{"$f":"FIND(\" \"&BQ29, 'Data Input'!$A56,BN29+1)","v":74},{"$f":"IFERROR(MID('Data Input'!$A56,BR29+2,2),\"\")","v":"00"},{"v":0,"d":"0.0"},"5",{"$f":"FIND(\" \"&BU29, 'Data Input'!$A56,BR29+1)","v":78},{"$f":"IFERROR(MID('Data Input'!$A56,BV29+2,2),\"\")","v":"00"},95.8,"5",{"$f":"FIND(\" \"&BY29, 'Data Input'!$A56,BV29+1)","v":82},{"$f":"IFERROR(MID('Data Input'!$A56,BZ29+2,2),\"\")","v":"00"},11,"6",{"$f":"FIND(\" \"&CC29, 'Data Input'!$A56,BZ29+1)","v":86},{"$f":"IFERROR(MID('Data Input'!$A56,CD29+2,2),\"\")","v":"00"},0,"6",{"$f":"FIND(\" \"&CG29, 'Data Input'!$A56,CD29+1)","v":90},{"$f":"IFERROR(MID('Data Input'!$A56,CH29+2,2),\"\")","v":"00"},35,"6",{"$f":"FIND(\" \"&CK29, 'Data Input'!$A56,CH29+1)","v":94},{"$f":"IFERROR(MID('Data Input'!$A56,CL29+2,2),\"\")","v":"00"},0,"6",{"$f":"FIND(\" \"&CO29, 'Data Input'!$A56,CL29+1)","v":98},{"$f":"IFERROR(MID('Data Input'!$A56,CP29+2,2),\"\")","v":"49"},0.49]
["1",{"$f":"FIND(\" \"&A30, 'Data Input'!$A58)","v":6},{"$f":"IFERROR(MID('Data Input'!$A58,B30+2,2),\"\")","v":"00"},0,"1",{"$f":"FIND(\" \"&E30, 'Data Input'!$A58,B30+1)","v":10},{"$f":"IFERROR(MID('Data Input'!$A58,F30+2,2),\"\")","v":"99"},0,"1",{"$f":"FIND(\" \"&I30, 'Data Input'!$A58,F30+1)","v":14},{"$f":"IFERROR(MID('Data Input'!$A58,J30+2,2),\"\")","v":"94"},50,"1",{"$f":"FIND(\" \"&M30, 'Data Input'!$A58,J30+1)","v":18},{"$f":"IFERROR(MID('Data Input'!$A58,N30+2,2),\"\")","v":"99"},0,"2",{"$f":"FIND(\" \"&Q30, 'Data Input'!$A58,N30+1)","v":22},{"$f":"IFERROR(MID('Data Input'!$A58,R30+2,2),\"\")","v":"86"},130,"2",{"$f":"FIND(\" \"&U30, 'Data Input'!$A58,R30+1)","v":26},{"$f":"IFERROR(MID('Data Input'!$A58,V30+2,2),\"\")","v":"98"},{"v":10,"d":"10.00"},"2",{"$f":"FIND(\" \"&Y30, 'Data Input'!$A58,V30+1)","v":30},{"$f":"IFERROR(MID('Data Input'!$A58,Z30+2,2),\"\")","v":"99"},{"v":0,"d":"0.00"},"2",{"$f":"FIND(\" \"&AC30, 'Data Input'!$A58,Z30+1)","v":34},{"$f":"IFERROR(MID('Data Input'!$A58,AD30+2,2),\"\")","v":"55"},50,"3",{"$f":"FIND(\" \"&AG30, 'Data Input'!$A58,AD30+1)","v":38},{"$f":"IFERROR(MID('Data Input'!$A58,AH30+2,2),\"\")","v":"74"},{"v":3,"d":"3.0"},"3",{"$f":"FIND(\" \"&AK30, 'Data Input'!$A58,AH30+1)","v":42},{"$f":"IFERROR(MID('Data Input'!$A58,AL30+2,2),\"\")","v":"50"},{"v":5,"d":"5.0"},"3",{"$f":"FIND(\" \"&AO30, 'Data Input'!$A58,AL30+1)","v":46},{"$f":"IFERROR(MID('Data Input'!$A58,AP30+2,2),\"\")","v":"00"},{"v":0,"d":"0.00"},"3",{"$f":"FIND(\" \"&AS30, 'Data Input'!$A58,AP30+1)","v":50},{"$f":"IFERROR(MID('Data Input'!$A58,AT30+2,2),\"\")","v":"00"},95.8,"4",{"$f":"FIND(\" \"&AW30, 'Data Input'!$A58,AT30+1)","v":54},{"$f":"IFERROR(MID('Data Input'!$A58,AX30+2,2),\"\")","v":"40"},{"v":36.599999999999994,"d":"36.6"},"4",{"$f":"FIND(\" \"&BA30, 'Data Input'!$A58,AX30+1)","v":58},{"$f":"IFERROR(MID('Data Input'!$A58,BB30+2,2),\"\")","v":"00"},95.8,"4",{"$f":"FIND(\" \"&BE30, 'Data Input'!$A58,BB30+1)","v":62},{"$f":"IFERROR(MID('Data Input'!$A58,BF30+2,2),\"\")","v":"00"},95.8,"4",{"$f":"FIND(\" \"&BI30, 'Data Input'!$A58,BF30+1)","v":66},{"$f":"IFERROR(MID('Data Input'!$A58,BJ30+2,2),\"\")","v":"00"},95.8,"5",{"$f":"FIND(\" \"&BM30, 'Data Input'!$A58,BJ30+1)","v":70},{"$f":"IFERROR(MID('Data Input'!$A58,BN30+2,2),\"\")","v":"00"},95.8,"5",{"$f":"FIND(\" \"&BQ30, 'Data Input'!$A58,BN30+1)","v":74},{"$f":"IFERROR(MID('Data Input'!$A58,BR30+2,2),\"\")","v":"00"},{"v":0,"d":"0.0"},"5",{"$f":"FIND(\" \"&BU30, 'Data Input'!$A58,BR30+1)","v":78},{"$f":"IFERROR(MID('Data Input'!$A58,BV30+2,2),\"\")","v":"00"},95.8,"5",{"$f":"FIND(\" \"&BY30, 'Data Input'!$A58,BV30+1)","v":82},{"$f":"IFERROR(MID('Data Input'!$A58,BZ30+2,2),\"\")","v":"00"},11,"6",{"$f":"FIND(\" \"&CC30, 'Data Input'!$A58,BZ30+1)","v":86},{"$f":"IFERROR(MID('Data Input'!$A58,CD30+2,2),\"\")","v":"00"},0,"6",{"$f":"FIND(\" \"&CG30, 'Data Input'!$A58,CD30+1)","v":90},{"$f":"IFERROR(MID('Data Input'!$A58,CH30+2,2),\"\")","v":"00"},35,"6",{"$f":"FIND(\" \"&CK30, 'Data Input'!$A58,CH30+1)","v":94},{"$f":"IFERROR(MID('Data Input'!$A58,CL30+2,2),\"\")","v":"00"},0,"6",{"$f":"FIND(\" \"&CO30, 'Data Input'!$A58,CL30+1)","v":98},{"$f":"IFERROR(MID('Data Input'!$A58,CP30+2,2),\"\")","v":"50"},{"v":0.5,"d":"0.50"}]
["1",{"$f":"FIND(\" \"&A31, 'Data Input'!$A60)","v":6},{"$f":"IFERROR(MID('Data Input'!$A60,B31+2,2),\"\")","v":"00"},0,"1",{"$f":"FIND(\" \"&E31, 'Data Input'!$A60,B31+1)","v":10},{"$f":"IFERROR(MID('Data Input'!$A60,F31+2,2),\"\")","v":"99"},0,"1",{"$f":"FIND(\" \"&I31, 'Data Input'!$A60,F31+1)","v":14},{"$f":"IFERROR(MID('Data Input'!$A60,J31+2,2),\"\")","v":"86"},130,"1",{"$f":"FIND(\" \"&M31, 'Data Input'!$A60,J31+1)","v":18},{"$f":"IFERROR(MID('Data Input'!$A60,N31+2,2),\"\")","v":"99"},0,"2",{"$f":"FIND(\" \"&Q31, 'Data Input'!$A60,N31+1)","v":22},{"$f":"IFERROR(MID('Data Input'!$A60,R31+2,2),\"\")","v":"89"},100,"2",{"$f":"FIND(\" \"&U31, 'Data Input'!$A60,R31+1)","v":26},{"$f":"IFERROR(MID('Data Input'!$A60,V31+2,2),\"\")","v":"98"},{"v":10,"d":"10.00"},"2",{"$f":"FIND(\" \"&Y31, 'Data Input'!$A60,V31+1)","v":30},{"$f":"IFERROR(MID('Data Input'!$A60,Z31+2,2),\"\")","v":"99"},{"v":0,"d":"0.00"},"2",{"$f":"FIND(\" \"&AC31, 'Data Input'!$A60,Z31+1)","v":34},{"$f":"IFERROR(MID('Data Input'!$A60,AD31+2,2),\"\")","v":"55"},50,"3",{"$f":"FIND(\" \"&AG31, 'Data Input'!$A60,AD31+1)","v":38},{"$f":"IFERROR(MID('Data Input'!$A60,AH31+2,2),\"\")","v":"74"},{"v":3,"d":"3.0"},"3",{"$f":"FIND(\" \"&AK31, 'Data Input'!$A60,AH31+1)","v":42},{"$f":"IFERROR(MID('Data Input'!$A60,AL31+2,2),\"\")","v":"50"},{"v":5,"d":"5.0"},"3",{"$f":"FIND(\" \"&AO31, 'Data Input'!$A60,AL31+1)","v":46},{"$f":"IFERROR(MID('Data Input'!$A60,AP31+2,2),\"\")","v":"00"},{"v":0,"d":"0.00"},"3",{"$f":"FIND(\" \"&AS31, 'Data Input'!$A60,AP31+1)","v":50},{"$f":"IFERROR(MID('Data Input'!$A60,AT31+2,2),\"\")","v":"00"},95.8,"4",{"$f":"FIND(\" \"&AW31, 'Data Input'!$A60,AT31+1)","v":54},{"$f":"IFERROR(MID('Data Input'!$A60,AX31+2,2),\"\")","v":"40"},{"v":36.599999999999994,"d":"36.6"},"4",{"$f":"FIND(\" \"&BA31, 'Data Input'!$A60,AX31+1)","v":58},{"$f":"IFERROR(MID('Data Input'!$A60,BB31+2,2),\"\")","v":"00"},95.8,"4",{"$f":"FIND(\" \"&BE31, 'Data Input'!$A60,BB31+1)","v":62},{"$f":"IFERROR(MID('Data Input'!$A60,BF31+2,2),\"\")","v":"00"},95.8,"4",{"$f":"FIND(\" \"&BI31, 'Data Input'!$A60,BF31+1)","v":66},{"$f":"IFERROR(MID('Data Input'!$A60,BJ31+2,2),\"\")","v":"00"},95.8,"5",{"$f":"FIND(\" \"&BM31, 'Data Input'!$A60,BJ31+1)","v":70},{"$f":"IFERROR(MID('Data Input'!$A60,BN31+2,2),\"\")","v":"00"},95.8,"5",{"$f":"FIND(\" \"&BQ31, 'Data Input'!$A60,BN31+1)","v":74},{"$f":"IFERROR(MID('Data Input'!$A60,BR31+2,2),\"\")","v":"00"},{"v":0,"d":"0.0"},"5",{"$f":"FIND(\" \"&BU31, 'Data Input'!$A60,BR31+1)","v":78},{"$f":"IFERROR(MID('Data Input'!$A60,BV31+2,2),\"\")","v":"00"},95.8,"5",{"$f":"FIND(\" \"&BY31, 'Data Input'!$A60,BV31+1)","v":82},{"$f":"IFERROR(MID('Data Input'!$A60,BZ31+2,2),\"\")","v":"00"},11,"6",{"$f":"FIND(\" \"&CC31, 'Data Input'!$A60,BZ31+1)","v":86},{"$f":"IFERROR(MID('Data Input'!$A60,CD31+2,2),\"\")","v":"00"},0,"6",{"$f":"FIND(\" \"&CG31, 'Data Input'!$A60,CD31+1)","v":90},{"$f":"IFERROR(MID('Data Input'!$A60,CH31+2,2),\"\")","v":"00"},35,"6",{"$f":"FIND(\" \"&CK31, 'Data Input'!$A60,CH31+1)","v":94},{"$f":"IFERROR(MID('Data Input'!$A60,CL31+2,2),\"\")","v":"00"},0,"6",{"$f":"FIND(\" \"&CO31, 'Data Input'!$A60,CL31+1)","v":98},{"$f":"IFERROR(MID('Data Input'!$A60,CP31+2,2),\"\")","v":"49"},0.49]
["1",{"$f":"FIND(\" \"&A32, 'Data Input'!$A62)","v":6},{"$f":"IFERROR(MID('Data Input'!$A62,B32+2,2),\"\")","v":"00"},0,"1",{"$f":"FIND(\" \"&E32, 'Data Input'!$A62,B32+1)","v":10},{"$f":"IFERROR(MID('Data Input'!$A62,F32+2,2),\"\")","v":"99"},0,"1",{"$f":"FIND(\" \"&I32, 'Data Input'!$A62,F32+1)","v":14},{"$f":"IFERROR(MID('Data Input'!$A62,J32+2,2),\"\")","v":"81"},180,"1",{"$f":"FIND(\" \"&M32, 'Data Input'!$A62,J32+1)","v":18},{"$f":"IFERROR(MID('Data Input'!$A62,N32+2,2),\"\")","v":"99"},0,"2",{"$f":"FIND(\" \"&Q32, 'Data Input'!$A62,N32+1)","v":22},{"$f":"IFERROR(MID('Data Input'!$A62,R32+2,2),\"\")","v":"96"},30,"2",{"$f":"FIND(\" \"&U32, 'Data Input'!$A62,R32+1)","v":26},{"$f":"IFERROR(MID('Data Input'!$A62,V32+2,2),\"\")","v":"98"},{"v":10,"d":"10.00"},"2",{"$f":"FIND(\" \"&Y32, 'Data Input'!$A62,V32+1)","v":30},{"$f":"IFERROR(MID('Data Input'!$A62,Z32+2,2),\"\")","v":"99"},{"v":0,"d":"0.00"},"2",{"$f":"FIND(\" \"&AC32, 'Data Input'!$A62,Z32+1)","v":34},{"$f":"IFERROR(MID('Data Input'!$A62,AD32+2,2),\"\")","v":"54"},40,"3",{"$f":"FIND(\" \"&AG32, 'Data Input'!$A62,AD32+1)","v":38},{"$f":"IFERROR(MID('Data Input'!$A62,AH32+2,2),\"\")","v":"74"},{"v":3,"d":"3.0"},"3",{"$f":"FIND(\" \"&AK32, 'Data Input'!$A62,AH32+1)","v":42},{"$f":"IFERROR(MID('Data Input'!$A62,AL32+2,2),\"\")","v":"50"},{"v":5,"d":"5.0"},"3",{"$f":"FIND(\" \"&AO32, 'Data Input'!$A62,AL32+1)","v":46},{"$f":"IFERROR(MID('Data Input'!$A62,AP32+2,2),\"\")","v":"00"},{"v":0,"d":"0.00"},"3",{"$f":"FIND(\" \"&AS32, 'Data Input'!$A62,AP32+1)","v":50},{"$f":"IFERROR(MID('Data Input'!$A62,AT32+2,2),\"\")","v":"00"},95.8,"4",{"$f":"FIND(\" \"&AW32, 'Data Input'!$A62,AT32+1)","v":54},{"$f":"IFERROR(MID('Data Input'!$A62,AX32+2,2),\"\")","v":"41"},{"v":35.12,"d":"35.1"},"4",{"$f":"FIND(\" \"&BA32, 'Data Input'!$A62,AX32+1)","v":58},{"$f":"IFERROR(MID('Data Input'!$A62,BB32+2,2),\"\")","v":"00"},95.8,"4",{"$f":"FIND(\" \"&BE32, 'Data Input'!$A62,BB32+1)","v":62},{"$f":"IFERROR(MID('Data Input'!$A62,BF32+2,2),\"\")","v":"00"},95.8,"4",{"$f":"FIND(\" \"&BI32, 'Data Input'!$A62,BF32+1)","v":66},{"$f":"IFERROR(MID('Data Input'!$A62,BJ32+2,2),\"\")","v":"00"},95.8,"5",{"$f":"FIND(\" \"&BM32, 'Data Input'!$A62,BJ32+1)","v":70},{"$f":"IFERROR(MID('Data Input'!$A62,BN32+2,2),\"\")","v":"00"},95.8,"5",{"$f":"FIND(\" \"&BQ32, 'Data Input'!$A62,BN32+1)","v":74},{"$f":"IFERROR(MID('Data Input'!$A62,BR32+2,2),\"\")","v":"00"},{"v":0,"d":"0.0"},"5",{"$f":"FIND(\" \"&BU32, 'Data Input'!$A62,BR32+1)","v":78},{"$f":"IFERROR(MID('Data Input'!$A62,BV32+2,2),\"\")","v":"00"},95.8,"5",{"$f":"FIND(\" \"&BY32, 'Data Input'!$A62,BV32+1)","v":82},{"$f":"IFERROR(MID('Data Input'!$A62,BZ32+2,2),\"\")","v":"00"},11,"6",{"$f":"FIND(\" \"&CC32, 'Data Input'!$A62,BZ32+1)","v":86},{"$f":"IFERROR(MID('Data Input'!$A62,CD32+2,2),\"\")","v":"00"},0,"6",{"$f":"FIND(\" \"&CG32, 'Data Input'!$A62,CD32+1)","v":90},{"$f":"IFERROR(MID('Data Input'!$A62,CH32+2,2),\"\")","v":"00"},35,"6",{"$f":"FIND(\" \"&CK32, 'Data Input'!$A62,CH32+1)","v":94},{"$f":"IFERROR(MID('Data Input'!$A62,CL32+2,2),\"\")","v":"00"},0,"6",{"$f":"FIND(\" \"&CO32, 'Data Input'!$A62,CL32+1)","v":98},{"$f":"IFERROR(MID('Data Input'!$A62,CP32+2,2),\"\")","v":"50"},{"v":0.5,"d":"0.50"}]
["1",{"$f":"FIND(\" \"&A33, 'Data Input'!$A64)","v":6},{"$f":"IFERROR(MID('Data Input'!$A64,B33+2,2),\"\")","v":"00"},0,"1",{"$f":"FIND(\" \"&E33, 'Data Input'!$A64,B33+1)","v":10},{"$f":"IFERROR(MID('Data Input'!$A64,F33+2,2),\"\")","v":"99"},0,"1",{"$f":"FIND(\" \"&I33, 'Data Input'!$A64,F33+1)","v":14},{"$f":"IFERROR(MID('Data Input'!$A64,J33+2,2),\"\")","v":"82"},170,"1",{"$f":"FIND(\" \"&M33, 'Data Input'!$A64,J33+1)","v":18},{"$f":"IFERROR(MID('Data Input'!$A64,N33+2,2),\"\")","v":"95"},40,"2",{"$f":"FIND(\" \"&Q33, 'Data Input'!$A64,N33+1)","v":22},{"$f":"IFERROR(MID('Data Input'!$A64,R33+2,2),\"\")","v":"99"},0,"2",{"$f":"FIND(\" \"&U33, 'Data Input'!$A64,R33+1)","v":26},{"$f":"IFERROR(MID('Data Input'!$A64,V33+2,2),\"\")","v":"99"},{"v":0,"d":"0.00"},"2",{"$f":"FIND(\" \"&Y33, 'Data Input'!$A64,V33+1)","v":30},{"$f":"IFERROR(MID('Data Input'!$A64,Z33+2,2),\"\")","v":"99"},{"v":0,"d":"0.00"},"2",{"$f":"FIND(\" \"&AC33, 'Data Input'!$A64,Z33+1)","v":34},{"$f":"IFERROR(MID('Data Input'!$A64,AD33+2,2),\"\")","v":"55"},50,"3",{"$f":"FIND(\" \"&AG33, 'Data Input'!$A64,AD33+1)","v":38},{"$f":"IFERROR(MID('Data Input'!$A64,AH33+2,2),\"\")","v":"74"},{"v":3,"d":"3.0"},"3",{"$f":"FIND(\" \"&AK33, 'Data Input'!$A64,AH33+1)","v":42},{"$f":"IFERROR(MID('Data Input'!$A64,AL33+2,2),\"\")","v":"50"},{"v":5,"d":"5.0"},"3",{"$f":"FIND(\" \"&AO33, 'Data Input'!$A64,AL33+1)","v":46},{"$f":"IFERROR(MID('Data Input'!$A64,AP33+2,2),\"\")","v":"00"},{"v":0,"d":"0.00"},"3",{"$f":"FIND(\" \"&AS33, 'Data Input'!$A64,AP33+1)","v":50},{"$f":"IFERROR(MID('Data Input'!$A64,AT33+2,2),\"\")","v":"00"},95.8,"4",{"$f":"FIND(\" \"&AW33, 'Data Input'!$A64,AT33+1)","v":54},{"$f":"IFERROR(MID('Data Input'!$A64,AX33+2,2),\"\")","v":"41"},{"v":35.12,"d":"35.1"},"4",{"$f":"FIND(\" \"&BA33, 'Data Input'!$A64,AX33+1)","v":58},{"$f":"IFERROR(MID('Data Input'!$A64,BB33+2,2),\"\")","v":"00"},95.8,"4",{"$f":"FIND(\" \"&BE33, 'Data Input'!$A64,BB33+1)","v":62},{"$f":"IFERROR(MID('Data Input'!$A64,BF33+2,2),\"\")","v":"00"},95.8,"4",{"$f":"FIND(\" \"&BI33, 'Data Input'!$A64,BF33+1)","v":66},{"$f":"IFERROR(MID('Data Input'!$A64,BJ33+2,2),\"\")","v":"00"},95.8,"5",{"$f":"FIND(\" \"&BM33, 'Data Input'!$A64,BJ33+1)","v":70},{"$f":"IFERROR(MID('Data Input'!$A64,BN33+2,2),\"\")","v":"00"},95.8,"5",{"$f":"FIND(\" \"&BQ33, 'Data Input'!$A64,BN33+1)","v":74},{"$f":"IFERROR(MID('Data Input'!$A64,BR33+2,2),\"\")","v":"00"},{"v":0,"d":"0.0"},"5",{"$f":"FIND(\" \"&BU33, 'Data Input'!$A64,BR33+1)","v":78},{"$f":"IFERROR(MID('Data Input'!$A64,BV33+2,2),\"\")","v":"00"},95.8,"5",{"$f":"FIND(\" \"&BY33, 'Data Input'!$A64,BV33+1)","v":82},{"$f":"IFERROR(MID('Data Input'!$A64,BZ33+2,2),\"\")","v":"00"},11,"6",{"$f":"FIND(\" \"&CC33, 'Data Input'!$A64,BZ33+1)","v":86},{"$f":"IFERROR(MID('Data Input'!$A64,CD33+2,2),\"\")","v":"00"},0,"6",{"$f":"FIND(\" \"&CG33, 'Data Input'!$A64,CD33+1)","v":90},{"$f":"IFERROR(MID('Data Input'!$A64,CH33+2,2),\"\")","v":"00"},35,"6",{"$f":"FIND(\" \"&CK33, 'Data Input'!$A64,CH33+1)","v":94},{"$f":"IFERROR(MID('Data Input'!$A64,CL33+2,2),\"\")","v":"00"},0,"6",{"$f":"FIND(\" \"&CO33, 'Data Input'!$A64,CL33+1)","v":98},{"$f":"IFERROR(MID('Data Input'!$A64,CP33+2,2),\"\")","v":"51"},0.51]
["1",{"$f":"FIND(\" \"&A34, 'Data Input'!$A66)","v":6},{"$f":"IFERROR(MID('Data Input'!$A66,B34+2,2),\"\")","v":"00"},{"$f":"IFERROR(C34*15,\"\")","v":0},"1",{"$f":"FIND(\" \"&E34, 'Data Input'!$A66,B34+1)","v":10},{"$f":"IFERROR(MID('Data Input'!$A66,F34+2,2),\"\")","v":"99"},{"$f":"IFERROR(10*(99-G34),\"\")","v":0},"1",{"$f":"FIND(\" \"&I34, 'Data Input'!$A66,F34+1)","v":14},{"$f":"IFERROR(MID('Data Input'!$A66,J34+2,2),\"\")","v":"87"},{"$f":"IFERROR(10*(99-K34),\"\")","v":120},"1",{"$f":"FIND(\" \"&M34, 'Data Input'!$A66,J34+1)","v":18},{"$f":"IFERROR(MID('Data Input'!$A66,N34+2,2),\"\")","v":"88"},{"$f":"IFERROR(10*(99-O34),\"\")","v":110},"2",{"$f":"FIND(\" \"&Q34, 'Data Input'!$A66,N34+1)","v":22},{"$f":"IFERROR(MID('Data Input'!$A66,R34+2,2),\"\")","v":"99"},0,"2",{"$f":"FIND(\" \"&U34, 'Data Input'!$A66,R34+1)","v":26},{"$f":"IFERROR(MID('Data Input'!$A66,V34+2,2),\"\")","v":"99"},{"v":0,"d":"0.00"},"2",{"$f":"FIND(\" \"&Y34, 'Data Input'!$A66,V34+1)","v":30},{"$f":"IFERROR(MID('Data Input'!$A66,Z34+2,2),\"\")","v":"99"},{"v":0,"d":"0.00"},"2",{"$f":"FIND(\" \"&AC34, 'Data Input'!$A66,Z34+1)","v":34},{"$f":"IFERROR(MID('Data Input'!$A66,AD34+2,2),\"\")","v":"55"},{"$f":"IFERROR(10*(AE34-50),\"\")","v":50},"3",{"$f":"FIND(\" \"&AG34, 'Data Input'!$A66,AD34+1)","v":38},{"$f":"IFERROR(MID('Data Input'!$A66,AH34+2,2),\"\")","v":"74"},{"v":3,"d":"3.0"},"3",{"$f":"FIND(\" \"&AK34, 'Data Input'!$A66,AH34+1)","v":42},{"$f":"IFERROR(MID('Data Input'!$A66,AL34+2,2),\"\")","v":"50"},{"$f":"IFERROR(0.1*AM34,\"\")","v":{"v":5,"d":"5.0"}},"3",{"$f":"FIND(\" \"&AO34, 'Data Input'!$A66,AL34+1)","v":46},{"$f":"IFERROR(MID('Data Input'!$A66,AP34+2,2),\"\")","v":"00"},{"$f":"IFERROR(0.15*AQ34,\"\")","v":{"v":0,"d":"0.00"}},"3",{"$f":"FIND(\" \"&AS34, 'Data Input'!$A66,AP34+1)","v":50},{"$f":"IFERROR(MID('Data Input'!$A66,AT34+2,2),\"\")","v":"00"},{"$f":"IFERROR(95.8-1.48*AU34,\"\")","v":95.8},"4",{"$f":"FIND(\" \"&AW34, 'Data Input'!$A66,AT34+1)","v":54},{"$f":"IFERROR(MID('Data Input'!$A66,AX34+2,2),\"\")","v":"40"},{"$f":"IFERROR(95.8-1.48*AY34,\"\")","v":{"v":36.599999999999994,"d":"36.6"}},"4",{"$f":"FIND(\" \"&BA34, 'Data Input'!$A66,AX34+1)","v":58},{"$f":"IFERROR(MID('Data Input'!$A66,BB34+2,2),\"\")","v":"00"},{"$f":"IFERROR(95.8-1.48*BC34,\"\")","v":95.8},"4",{"$f":"FIND(\" \"&BE34, 'Data Input'!$A66,BB34+1)","v":62},{"$f":"IFERROR(MID('Data Input'!$A66,BF34+2,2),\"\")","v":"00"},{"$f":"IFERROR(95.8-1.48*BG34,\"\")","v":95.8},"4",{"$f":"FIND(\" \"&BI34, 'Data Input'!$A66,BF34+1)","v":66},{"$f":"IFERROR(MID('Data Input'!$A66,BJ34+2,2),\"\")","v":"00"},{"$f":"IFERROR(95.8-1.48*BK34,\"\")","v":95.8},"5",{"$f":"FIND(\" \"&BM34, 'Data Input'!$A66,BJ34+1)","v":70},{"$f":"IFERROR(MID('Data Input'!$A66,BN34+2,2),\"\")","v":"00"},{"$f":"IFERROR(95.8-1.48*BO34,\"\")","v":95.8},"5",{"$f":"FIND(\" \"&BQ34, 'Data Input'!$A66,BN34+1)","v":74},{"$f":"IFERROR(MID('Data Input'!$A66,BR34+2,2),\"\")","v":"00"},{"$f":"IFERROR(11.67*BS34,\"\")","v":{"v":0,"d":"0.0"}},"5",{"$f":"FIND(\" \"&BU34, 'Data Input'!$A66,BR34+1)","v":78},{"$f":"IFERROR(MID('Data Input'!$A66,BV34+2,2),\"\")","v":"00"},{"$f":"IFERROR(95.8-1.48*BW34,\"\")","v":95.8},"5",{"$f":"FIND(\" \"&BY34, 'Data Input'!$A66,BV34+1)","v":82},{"$f":"IFERROR(MID('Data Input'!$A66,BZ34+2,2),\"\")","v":"00"},{"$f":"IFERROR(11+0.82*CA34,\"\")","v":11},"6",{"$f":"FIND(\" \"&CC34, 'Data Input'!$A66,BZ34+1)","v":86},{"$f":"IFERROR(MID('Data Input'!$A66,CD34+2,2),\"\")","v":"00"},{"$f":"IFERROR(CE34^2/1.56,\"\")","v":0},"6",{"$f":"FIND(\" \"&CG34, 'Data Input'!$A66,CD34+1)","v":90},{"$f":"IFERROR(MID('Data Input'!$A66,CH34+2,2),\"\")","v":"00"},{"$f":"IFERROR(0.1*CI34^2+35,\"\")","v":35},"6",{"$f":"FIND(\" \"&CK34, 'Data Input'!$A66,CH34+1)","v":94},{"$f":"IFERROR(MID('Data Input'!$A66,CL34+2,2),\"\")","v":"00"},{"$f":"IFERROR(0.041*CM34^2,\"\")","v":0},"6",{"$f":"FIND(\" \"&CO34, 'Data Input'!$A66,CL34+1)","v":98},{"$f":"IFERROR(MID('Data Input'!$A66,CP34+2,2),\"\")","v":"49"},{"$f":"IFERROR(0.01*CQ34,\"\")","v":0.49}]
["1",{"$f":"FIND(\" \"&A35, 'Data Input'!$A68)","v":6},{"$f":"IFERROR(MID('Data Input'!$A68,B35+2,2),\"\")","v":"00"},0,"1",{"$f":"FIND(\" \"&E35, 'Data Input'!$A68,B35+1)","v":10},{"$f":"IFERROR(MID('Data Input'!$A68,F35+2,2),\"\")","v":"99"},0,"1",{"$f":"FIND(\" \"&I35, 'Data Input'!$A68,F35+1)","v":14},{"$f":"IFERROR(MID('Data Input'!$A68,J35+2,2),\"\")","v":"96"},30,"1",{"$f":"FIND(\" \"&M35, 'Data Input'!$A68,J35+1)","v":18},{"$f":"IFERROR(MID('Data Input'!$A68,N35+2,2),\"\")","v":"85"},140,"2",{"$f":"FIND(\" \"&Q35, 'Data Input'!$A68,N35+1)","v":22},{"$f":"IFERROR(MID('Data Input'!$A68,R35+2,2),\"\")","v":"99"},0,"2",{"$f":"FIND(\" \"&U35, 'Data Input'!$A68,R35+1)","v":26},{"$f":"IFERROR(MID('Data Input'!$A68,V35+2,2),\"\")","v":"99"},{"v":0,"d":"0.00"},"2",{"$f":"FIND(\" \"&Y35, 'Data Input'!$A68,V35+1)","v":30},{"$f":"IFERROR(MID('Data Input'!$A68,Z35+2,2),\"\")","v":"98"},{"v":10,"d":"10.00"},"2",{"$f":"FIND(\" \"&AC35, 'Data Input'!$A68,Z35+1)","v":34},{"$f":"IFERROR(MID('Data Input'!$A68,AD35+2,2),\"\")","v":"55"},50,"3",{"$f":"FIND(\" \"&AG35, 'Data Input'!$A68,AD35+1)","v":38},{"$f":"IFERROR(MID('Data Input'!$A68,AH35+2,2),\"\")","v":"74"},{"v":3,"d":"3.0"},"3",{"$f":"FIND(\" \"&AK35, 'Data Input'!$A68,AH35+1)","v":42},{"$f":"IFERROR(MID('Data Input'!$A68,AL35+2,2),\"\")","v":"50"},{"v":5,"d":"5.0"},"3",{"$f":"FIND(\" \"&AO35, 'Data Input'!$A68,AL35+1)","v":46},{"$f":"IFERROR(MID('Data Input'!$A68,AP35+2,2),\"\")","v":"00"},{"v":0,"d":"0.00"},"3",{"$f":"FIND(\" \"&AS35, 'Data Input'!$A68,AP35+1)","v":50},{"$f":"IFERROR(MID('Data Input'!$A68,AT35+2,2),\"\")","v":"00"},95.8,"4",{"$f":"FIND(\" \"&AW35, 'Data Input'!$A68,AT35+1)","v":54},{"$f":"IFERROR(MID('Data Input'!$A68,AX35+2,2),\"\")","v":"39"},{"v":38.08,"d":"38.1"},"4",{"$f":"FIND(\" \"&BA35, 'Data Input'!$A68,AX35+1)","v":58},{"$f":"IFERROR(MID('Data Input'!$A68,BB35+2,2),\"\")","v":"00"},95.8,"4",{"$f":"FIND(\" \"&BE35, 'Data Input'!$A68,BB35+1)","v":62},{"$f":"IFERROR(MID('Data Input'!$A68,BF35+2,2),\"\")","v":"00"},95.8,"4",{"$f":"FIND(\" \"&BI35, 'Data Input'!$A68,BF35+1)","v":66},{"$f":"IFERROR(MID('Data Input'!$A68,BJ35+2,2),\"\")","v":"00"},95.8,"5",{"$f":"FIND(\" \"&BM35, 'Data Input'!$A68,BJ35+1)","v":70},{"$f":"IFERROR(MID('Data Input'!$A68,BN35+2,2),\"\")","v":"00"},95.8,"5",{"$f":"FIND(\" \"&BQ35, 'Data Input'!$A68,BN35+1)","v":74},{"$f":"IFERROR(MID('Data Input'!$A68,BR35+2,2),\"\")","v":"00"},{"v":0,"d":"0.0"},"5",{"$f":"FIND(\" \"&BU35, 'Data Input'!$A68,BR35+1)","v":78},{"$f":"IFERROR(MID('Data Input'!$A68,BV35+2,2),\"\")","v":"00"},95.8,"5",{"$f":"FIND(\" \"&BY35, 'Data Input'!$A68,BV35+1)","v":82},{"$f":"IFERROR(MID('Data Input'!$A68,BZ35+2,2),\"\")","v":"00"},11,"6",{"$f":"FIND(\" \"&CC35, 'Data Input'!$A68,BZ35+1)","v":86},{"$f":"IFERROR(MID('Data Input'!$A68,CD35+2,2),\"\")","v":"00"},0,"6",{"$f":"FIND(\" \"&CG35, 'Data Input'!$A68,CD35+1)","v":90},{"$f":"IFERROR(MID('Data Input'!$A68,CH35+2,2),\"\")","v":"00"},35,"6",{"$f":"FIND(\" \"&CK35, 'Data Input'!$A68,CH35+1)","v":94},{"$f":"IFERROR(MID('Data Input'!$A68,CL35+2,2),\"\")","v":"00"},0,"6",{"$f":"FIND(\" \"&CO35, 'Data Input'!$A68,CL35+1)","v":98},{"$f":"IFERROR(MID('Data Input'!$A68,CP35+2,2),\"\")","v":"49"},0.49]
["1",{"$f":"FIND(\" \"&A36, 'Data Input'!$A70)","v":6},{"$f":"IFERROR(MID('Data Input'!$A70,B36+2,2),\"\")","v":"00"},0,"1",{"$f":"FIND(\" \"&E36, 'Data Input'!$A70,B36+1)","v":10},{"$f":"IFERROR(MID('Data Input'!$A70,F36+2,2),\"\")","v":"93"},60,"1",{"$f":"FIND(\" \"&I36, 'Data Input'!$A70,F36+1)","v":14},{"$f":"IFERROR(MID('Data Input'!$A70,J36+2,2),\"\")","v":"99"},0,"1",{"$f":"FIND(\" \"&M36, 'Data Input'!$A70,J36+1)","v":18},{"$f":"IFERROR(MID('Data Input'!$A70,N36+2,2),\"\")","v":"86"},130,"2",{"$f":"FIND(\" \"&Q36, 'Data Input'!$A70,N36+1)","v":22},{"$f":"IFERROR(MID('Data Input'!$A70,R36+2,2),\"\")","v":"99"},0,"2",{"$f":"FIND(\" \"&U36, 'Data Input'!$A70,R36+1)","v":26},{"$f":"IFERROR(MID('Data Input'!$A70,V36+2,2),\"\")","v":"99"},{"v":0,"d":"0.00"},"2",{"$f":"FIND(\" \"&Y36, 'Data Input'!$A70,V36+1)","v":30},{"$f":"IFERROR(MID('Data Input'!$A70,Z36+2,2),\"\")","v":"99"},{"v":0,"d":"0.00"},"2",{"$f":"FIND(\" \"&AC36, 'Data Input'!$A70,Z36+1)","v":34},{"$f":"IFERROR(MID('Data Input'!$A70,AD36+2,2),\"\")","v":"54"},40,"3",{"$f":"FIND(\" \"&AG36, 'Data Input'!$A70,AD36+1)","v":38},{"$f":"IFERROR(MID('Data Input'!$A70,AH36+2,2),\"\")","v":"74"},{"v":3,"d":"3.0"},"3",{"$f":"FIND(\" \"&AK36, 'Data Input'!$A70,AH36+1)","v":42},{"$f":"IFERROR(MID('Data Input'!$A70,AL36+2,2),\"\")","v":"50"},{"v":5,"d":"5.0"},"3",{"$f":"FIND(\" \"&AO36, 'Data Input'!$A70,AL36+1)","v":46},{"$f":"IFERROR(MID('Data Input'!$A70,AP36+2,2),\"\")","v":"00"},{"v":0,"d":"0.00"},"3",{"$f":"FIND(\" \"&AS36, 'Data Input'!$A70,AP36+1)","v":50},{"$f":"IFERROR(MID('Data Input'!$A70,AT36+2,2),\"\")","v":"00"},95.8,"4",{"$f":"FIND(\" \"&AW36, 'Data Input'!$A70,AT36+1)","v":54},{"$f":"IFERROR(MID('Data Input'!$A70,AX36+2,2),\"\")","v":"39"},{"v":38.08,"d":"38.1"},"4",{"$f":"FIND(\" \"&BA36, 'Data Input'!$A70,AX36+1)","v":58},{"$f":"IFERROR(MID('Data Input'!$A70,BB36+2,2),\"\")","v":"00"},95.8,"4",{"$f":"FIND(\" \"&BE36, 'Data Input'!$A70,BB36+1)","v":62},{"$f":"IFERROR(MID('Data Input'!$A70,BF36+2,2),\"\")","v":"00"},95.8,"4",{"$f":"FIND(\" \"&BI36, 'Data Input'!$A70,BF36+1)","v":66},{"$f":"IFERROR(MID('Data Input'!$A70,BJ36+2,2),\"\")","v":"00"},95.8,"5",{"$f":"FIND(\" \"&BM36, 'Data Input'!$A70,BJ36+1)","v":70},{"$f":"IFERROR(MID('Data Input'!$A70,BN36+2,2),\"\")","v":"00"},95.8,"5",{"$f":"FIND(\" \"&BQ36, 'Data Input'!$A70,BN36+1)","v":74},{"$f":"IFERROR(MID('Data Input'!$A70,BR36+2,2),\"\")","v":"00"},{"v":0,"d":"0.0"},"5",{"$f":"FIND(\" \"&BU36, 'Data Input'!$A70,BR36+1)","v":78},{"$f":"IFERROR(MID('Data Input'!$A70,BV36+2,2),\"\")","v":"00"},95.8,"5",{"$f":"FIND(\" \"&BY36, 'Data Input'!$A70,BV36+1)","v":82},{"$f":"IFERROR(MID('Data Input'!$A70,BZ36+2,2),\"\")","v":"00"},11,"6",{"$f":"FIND(\" \"&CC36, 'Data Input'!$A70,BZ36+1)","v":86},{"$f":"IFERROR(MID('Data Input'!$A70,CD36+2,2),\"\")","v":"00"},0,"6",{"$f":"FIND(\" \"&CG36, 'Data Input'!$A70,CD36+1)","v":90},{"$f":"IFERROR(MID('Data Input'!$A70,CH36+2,2),\"\")","v":"00"},35,"6",{"$f":"FIND(\" \"&CK36, 'Data Input'!$A70,CH36+1)","v":94},{"$f":"IFERROR(MID('Data Input'!$A70,CL36+2,2),\"\")","v":"00"},0,"6",{"$f":"FIND(\" \"&CO36, 'Data Input'!$A70,CL36+1)","v":98},{"$f":"IFERROR(MID('Data Input'!$A70,CP36+2,2),\"\")","v":"49"},0.49]
["1",{"$f":"FIND(\" \"&A37, 'Data Input'!$A72)","v":6},{"$f":"IFERROR(MID('Data Input'!$A72,B37+2,2),\"\")","v":"00"},0,"1",{"$f":"FIND(\" \"&E37, 'Data Input'!$A72,B37+1)","v":10},{"$f":"IFERROR(MID('Data Input'!$A72,F37+2,2),\"\")","v":"85"},140,"1",{"$f":"FIND(\" \"&I37, 'Data Input'!$A72,F37+1)","v":14},{"$f":"IFERROR(MID('Data Input'!$A72,J37+2,2),\"\")","v":"99"},0,"1",{"$f":"FIND(\" \"&M37, 'Data Input'!$A72,J37+1)","v":18},{"$f":"IFERROR(MID('Data Input'!$A72,N37+2,2),\"\")","v":"90"},90,"2",{"$f":"FIND(\" \"&Q37, 'Data Input'!$A72,N37+1)","v":22},{"$f":"IFERROR(MID('Data Input'!$A72,R37+2,2),\"\")","v":"99"},0,"2",{"$f":"FIND(\" \"&U37, 'Data Input'!$A72,R37+1)","v":26},{"$f":"IFERROR(MID('Data Input'!$A72,V37+2,2),\"\")","v":"99"},{"v":0,"d":"0.00"},"2",{"$f":"FIND(\" \"&Y37, 'Data Input'!$A72,V37+1)","v":30},{"$f":"IFERROR(MID('Data Input'!$A72,Z37+2,2),\"\")","v":"98"},{"v":10,"d":"10.00"},"2",{"$f":"FIND(\" \"&AC37, 'Data Input'!$A72,Z37+1)","v":34},{"$f":"IFERROR(MID('Data Input'!$A72,AD37+2,2),\"\")","v":"54"},40,"3",{"$f":"FIND(\" \"&AG37, 'Data Input'!$A72,AD37+1)","v":38},{"$f":"IFERROR(MID('Data Input'!$A72,AH37+2,2),\"\")","v":"74"},{"v":3,"d":"3.0"},"3",{"$f":"FIND(\" \"&AK37, 'Data Input'!$A72,AH37+1)","v":42},{"$f":"IFERROR(MID('Data Input'!$A72,AL37+2,2),\"\")","v":"50"},{"v":5,"d":"5.0"},"3",{"$f":"FIND(\" \"&AO37, 'Data Input'!$A72,AL37+1)","v":46},{"$f":"IFERROR(MID('Data Input'!$A72,AP37+2,2),\"\")","v":"00"},{"v":0,"d":"0.00"},"3",{"$f":"FIND(\" \"&AS37, 'Data Input'!$A72,AP37+1)","v":50},{"$f":"IFERROR(MID('Data Input'!$A72,AT37+2,2),\"\")","v":"00"},95.8,"4",{"$f":"FIND(\" \"&AW37, 'Data Input'!$A72,AT37+1)","v":54},{"$f":"IFERROR(MID('Data Input'!$A72,AX37+2,2),\"\")","v":"38"},{"v":39.559999999999995,"d":"39.6"},"4",{"$f":"FIND(\" \"&BA37, 'Data Input'!$A72,AX37+1)","v":58},{"$f":"IFERROR(MID('Data Input'!$A72,BB37+2,2),\"\")","v":"00"},95.8,"4",{"$f":"FIND(\" \"&BE37, 'Data Input'!$A72,BB37+1)","v":62},{"$f":"IFERROR(MID('Data Input'!$A72,BF37+2,2),\"\")","v":"00"},95.8,"4",{"$f":"FIND(\" \"&BI37, 'Data Input'!$A72,BF37+1)","v":66},{"$f":"IFERROR(MID('Data Input'!$A72,BJ37+2,2),\"\")","v":"00"},95.8,"5",{"$f":"FIND(\" \"&BM37, 'Data Input'!$A72,BJ37+1)","v":70},{"$f":"IFERROR(MID('Data Input'!$A72,BN37+2,2),\"\")","v":"00"},95.8,"5",{"$f":"FIND(\" \"&BQ37, 'Data Input'!$A72,BN37+1)","v":74},{"$f":"IFERROR(MID('Data Input'!$A72,BR37+2,2),\"\")","v":"00"},{"v":0,"d":"0.0"},"5",{"$f":"FIND(\" \"&BU37, 'Data Input'!$A72,BR37+1)","v":78},{"$f":"IFERROR(MID('Data Input'!$A72,BV37+2,2),\"\")","v":"00"},95.8,"5",{"$f":"FIND(\" \"&BY37, 'Data Input'!$A72,BV37+1)","v":82},{"$f":"IFERROR(MID('Data Input'!$A72,BZ37+2,2),\"\")","v":"00"},11,"6",{"$f":"FIND(\" \"&CC37, 'Data Input'!$A72,BZ37+1)","v":86},{"$f":"IFERROR(MID('Data Input'!$A72,CD37+2,2),\"\")","v":"00"},0,"6",{"$f":"FIND(\" \"&CG37, 'Data Input'!$A72,CD37+1)","v":90},{"$f":"IFERROR(MID('Data Input'!$A72,CH37+2,2),\"\")","v":"00"},35,"6",{"$f":"FIND(\" \"&CK37, 'Data Input'!$A72,CH37+1)","v":94},{"$f":"IFERROR(MID('Data Input'!$A72,CL37+2,2),\"\")","v":"00"},0,"6",{"$f":"FIND(\" \"&CO37, 'Data Input'!$A72,CL37+1)","v":98},{"$f":"IFERROR(MID('Data Input'!$A72,CP37+2,2),\"\")","v":"50"},{"v":0.5,"d":"0.50"}]
["1",{"$f":"FIND(\" \"&A38, 'Data Input'!$A74)","v":{"$error":"#VALUE!"}},{"$f":"IFERROR(MID('Data Input'!$A74,B38+2,2),\"\")","v":""},"","1",{"$f":"FIND(\" \"&E38, 'Data Input'!$A74,B38+1)","v":{"$error":"#VALUE!"}},{"$f":"IFERROR(MID('Data Input'!$A74,F38+2,2),\"\")","v":""},"","1",{"$f":"FIND(\" \"&I38, 'Data Input'!$A74,F38+1)","v":{"$error":"#VALUE!"}},{"$f":"IFERROR(MID('Data Input'!$A74,J38+2,2),\"\")","v":""},"","1",{"$f":"FIND(\" \"&M38, 'Data Input'!$A74,J38+1)","v":{"$error":"#VALUE!"}},{"$f":"IFERROR(MID('Data Input'!$A74,N38+2,2),\"\")","v":""},"","2",{"$f":"FIND(\" \"&Q38, 'Data Input'!$A74,N38+1)","v":{"$error":"#VALUE!"}},{"$f":"IFERROR(MID('Data Input'!$A74,R38+2,2),\"\")","v":""},"","2",{"$f":"FIND(\" \"&U38, 'Data Input'!$A74,R38+1)","v":{"$error":"#VALUE!"}},{"$f":"IFERROR(MID('Data Input'!$A74,V38+2,2),\"\")","v":""},"","2",{"$f":"FIND(\" \"&Y38, 'Data Input'!$A74,V38+1)","v":{"$error":"#VALUE!"}},{"$f":"IFERROR(MID('Data Input'!$A74,Z38+2,2),\"\")","v":""},"","2",{"$f":"FIND(\" \"&AC38, 'Data Input'!$A74,Z38+1)","v":{"$error":"#VALUE!"}},{"$f":"IFERROR(MID('Data Input'!$A74,AD38+2,2),\"\")","v":""},"","3",{"$f":"FIND(\" \"&AG38, 'Data Input'!$A74,AD38+1)","v":{"$error":"#VALUE!"}},{"$f":"IFERROR(MID('Data Input'!$A74,AH38+2,2),\"\")","v":""},"","3",{"$f":"FIND(\" \"&AK38, 'Data Input'!$A74,AH38+1)","v":{"$error":"#VALUE!"}},{"$f":"IFERROR(MID('Data Input'!$A74,AL38+2,2),\"\")","v":""},"","3",{"$f":"FIND(\" \"&AO38, 'Data Input'!$A74,AL38+1)","v":{"$error":"#VALUE!"}},{"$f":"IFERROR(MID('Data Input'!$A74,AP38+2,2),\"\")","v":""},"","3",{"$f":"FIND(\" \"&AS38, 'Data Input'!$A74,AP38+1)","v":{"$error":"#VALUE!"}},{"$f":"IFERROR(MID('Data Input'!$A74,AT38+2,2),\"\")","v":""},"","4",{"$f":"FIND(\" \"&AW38, 'Data Input'!$A74,AT38+1)","v":{"$error":"#VALUE!"}},{"$f":"IFERROR(MID('Data Input'!$A74,AX38+2,2),\"\")","v":""},"","4",{"$f":"FIND(\" \"&BA38, 'Data Input'!$A74,AX38+1)","v":{"$error":"#VALUE!"}},{"$f":"IFERROR(MID('Data Input'!$A74,BB38+2,2),\"\")","v":""},"","4",{"$f":"FIND(\" \"&BE38, 'Data Input'!$A74,BB38+1)","v":{"$error":"#VALUE!"}},{"$f":"IFERROR(MID('Data Input'!$A74,BF38+2,2),\"\")","v":""},"","4",{"$f":"FIND(\" \"&BI38, 'Data Input'!$A74,BF38+1)","v":{"$error":"#VALUE!"}},{"$f":"IFERROR(MID('Data Input'!$A74,BJ38+2,2),\"\")","v":""},"","5",{"$f":"FIND(\" \"&BM38, 'Data Input'!$A74,BJ38+1)","v":{"$error":"#VALUE!"}},{"$f":"IFERROR(MID('Data Input'!$A74,BN38+2,2),\"\")","v":""},"","5",{"$f":"FIND(\" \"&BQ38, 'Data Input'!$A74,BN38+1)","v":{"$error":"#VALUE!"}},{"$f":"IFERROR(MID('Data Input'!$A74,BR38+2,2),\"\")","v":""},"","5",{"$f":"FIND(\" \"&BU38, 'Data Input'!$A74,BR38+1)","v":{"$error":"#VALUE!"}},{"$f":"IFERROR(MID('Data Input'!$A74,BV38+2,2),\"\")","v":""},"","5",{"$f":"FIND(\" \"&BY38, 'Data Input'!$A74,BV38+1)","v":{"$error":"#VALUE!"}},{"$f":"IFERROR(MID('Data Input'!$A74,BZ38+2,2),\"\")","v":""},"","6",{"$f":"FIND(\" \"&CC38, 'Data Input'!$A74,BZ38+1)","v":{"$error":"#VALUE!"}},{"$f":"IFERROR(MID('Data Input'!$A74,CD38+2,2),\"\")","v":""},"","6",{"$f":"FIND(\" \"&CG38, 'Data Input'!$A74,CD38+1)","v":{"$error":"#VALUE!"}},{"$f":"IFERROR(MID('Data Input'!$A74,CH38+2,2),\"\")","v":""},"","6",{"$f":"FIND(\" \"&CK38, 'Data Input'!$A74,CH38+1)","v":{"$error":"#VALUE!"}},{"$f":"IFERROR(MID('Data Input'!$A74,CL38+2,2),\"\")","v":""},"","6",{"$f":"FIND(\" \"&CO38, 'Data Input'!$A74,CL38+1)","v":{"$error":"#VALUE!"}},{"$f":"IFERROR(MID('Data Input'!$A74,CP38+2,2),\"\")","v":""},""]
["1",{"$f":"FIND(\" \"&A39, 'Data Input'!$A76)","v":{"$error":"#VALUE!"}},{"$f":"IFERROR(MID('Data Input'!$A76,B39+2,2),\"\")","v":""},"","1",{"$f":"FIND(\" \"&E39, 'Data Input'!$A76,B39+1)","v":{"$error":"#VALUE!"}},{"$f":"IFERROR(MID('Data Input'!$A76,F39+2,2),\"\")","v":""},"","1",{"$f":"FIND(\" \"&I39, 'Data Input'!$A76,F39+1)","v":{"$error":"#VALUE!"}},{"$f":"IFERROR(MID('Data Input'!$A76,J39+2,2),\"\")","v":""},"","1",{"$f":"FIND(\" \"&M39, 'Data Input'!$A76,J39+1)","v":{"$error":"#VALUE!"}},{"$f":"IFERROR(MID('Data Input'!$A76,N39+2,2),\"\")","v":""},"","2",{"$f":"FIND(\" \"&Q39, 'Data Input'!$A76,N39+1)","v":{"$error":"#VALUE!"}},{"$f":"IFERROR(MID('Data Input'!$A76,R39+2,2),\"\")","v":""},"","2",{"$f":"FIND(\" \"&U39, 'Data Input'!$A76,R39+1)","v":{"$error":"#VALUE!"}},{"$f":"IFERROR(MID('Data Input'!$A76,V39+2,2),\"\")","v":""},"","2",{"$f":"FIND(\" \"&Y39, 'Data Input'!$A76,V39+1)","v":{"$error":"#VALUE!"}},{"$f":"IFERROR(MID('Data Input'!$A76,Z39+2,2),\"\")","v":""},"","2",{"$f":"FIND(\" \"&AC39, 'Data Input'!$A76,Z39+1)","v":{"$error":"#VALUE!"}},{"$f":"IFERROR(MID('Data Input'!$A76,AD39+2,2),\"\")","v":""},"","3",{"$f":"FIND(\" \"&AG39, 'Data Input'!$A76,AD39+1)","v":{"$error":"#VALUE!"}},{"$f":"IFERROR(MID('Data Input'!$A76,AH39+2,2),\"\")","v":""},"","3",{"$f":"FIND(\" \"&AK39, 'Data Input'!$A76,AH39+1)","v":{"$error":"#VALUE!"}},{"$f":"IFERROR(MID('Data Input'!$A76,AL39+2,2),\"\")","v":""},"","3",{"$f":"FIND(\" \"&AO39, 'Data Input'!$A76,AL39+1)","v":{"$error":"#VALUE!"}},{"$f":"IFERROR(MID('Data Input'!$A76,AP39+2,2),\"\")","v":""},"","3",{"$f":"FIND(\" \"&AS39, 'Data Input'!$A76,AP39+1)","v":{"$error":"#VALUE!"}},{"$f":"IFERROR(MID('Data Input'!$A76,AT39+2,2),\"\")","v":""},"","4",{"$f":"FIND(\" \"&AW39, 'Data Input'!$A76,AT39+1)","v":{"$error":"#VALUE!"}},{"$f":"IFERROR(MID('Data Input'!$A76,AX39+2,2),\"\")","v":""},"","4",{"$f":"FIND(\" \"&BA39, 'Data Input'!$A76,AX39+1)","v":{"$error":"#VALUE!"}},{"$f":"IFERROR(MID('Data Input'!$A76,BB39+2,2),\"\")","v":""},"","4",{"$f":"FIND(\" \"&BE39, 'Data Input'!$A76,BB39+1)","v":{"$error":"#VALUE!"}},{"$f":"IFERROR(MID('Data Input'!$A76,BF39+2,2),\"\")","v":""},"","4",{"$f":"FIND(\" \"&BI39, 'Data Input'!$A76,BF39+1)","v":{"$error":"#VALUE!"}},{"$f":"IFERROR(MID('Data Input'!$A76,BJ39+2,2),\"\")","v":""},"","5",{"$f":"FIND(\" \"&BM39, 'Data Input'!$A76,BJ39+1)","v":{"$error":"#VALUE!"}},{"$f":"IFERROR(MID('Data Input'!$A76,BN39+2,2),\"\")","v":""},"","5",{"$f":"FIND(\" \"&BQ39, 'Data Input'!$A76,BN39+1)","v":{"$error":"#VALUE!"}},{"$f":"IFERROR(MID('Data Input'!$A76,BR39+2,2),\"\")","v":""},"","5",{"$f":"FIND(\" \"&BU39, 'Data Input'!$A76,BR39+1)","v":{"$error":"#VALUE!"}},{"$f":"IFERROR(MID('Data Input'!$A76,BV39+2,2),\"\")","v":""},"","5",{"$f":"FIND(\" \"&BY39, 'Data Input'!$A76,BV39+1)","v":{"$error":"#VALUE!"}},{"$f":"IFERROR(MID('Data Input'!$A76,BZ39+2,2),\"\")","v":""},"","6",{"$f":"FIND(\" \"&CC39, 'Data Input'!$A76,BZ39+1)","v":{"$error":"#VALUE!"}},{"$f":"IFERROR(MID('Data Input'!$A76,CD39+2,2),\"\")","v":""},"","6",{"$f":"FIND(\" \"&CG39, 'Data Input'!$A76,CD39+1)","v":{"$error":"#VALUE!"}},{"$f":"IFERROR(MID('Data Input'!$A76,CH39+2,2),\"\")","v":""},"","6",{"$f":"FIND(\" \"&CK39, 'Data Input'!$A76,CH39+1)","v":{"$error":"#VALUE!"}},{"$f":"IFERROR(MID('Data Input'!$A76,CL39+2,2),\"\")","v":""},"","6",{"$f":"FIND(\" \"&CO39, 'Data Input'!$A76,CL39+1)","v":{"$error":"#VALUE!"}},{"$f":"IFERROR(MID('Data Input'!$A76,CP39+2,2),\"\")","v":""},""]
["1",{"$f":"FIND(\" \"&A40, 'Data Input'!$A78)","v":{"$error":"#VALUE!"}},{"$f":"IFERROR(MID('Data Input'!$A78,B40+2,2),\"\")","v":""},"","1",{"$f":"FIND(\" \"&E40, 'Data Input'!$A78,B40+1)","v":{"$error":"#VALUE!"}},{"$f":"IFERROR(MID('Data Input'!$A78,F40+2,2),\"\")","v":""},"","1",{"$f":"FIND(\" \"&I40, 'Data Input'!$A78,F40+1)","v":{"$error":"#VALUE!"}},{"$f":"IFERROR(MID('Data Input'!$A78,J40+2,2),\"\")","v":""},"","1",{"$f":"FIND(\" \"&M40, 'Data Input'!$A78,J40+1)","v":{"$error":"#VALUE!"}},{"$f":"IFERROR(MID('Data Input'!$A78,N40+2,2),\"\")","v":""},"","2",{"$f":"FIND(\" \"&Q40, 'Data Input'!$A78,N40+1)","v":{"$error":"#VALUE!"}},{"$f":"IFERROR(MID('Data Input'!$A78,R40+2,2),\"\")","v":""},"","2",{"$f":"FIND(\" \"&U40, 'Data Input'!$A78,R40+1)","v":{"$error":"#VALUE!"}},{"$f":"IFERROR(MID('Data Input'!$A78,V40+2,2),\"\")","v":""},"","2",{"$f":"FIND(\" \"&Y40, 'Data Input'!$A78,V40+1)","v":{"$error":"#VALUE!"}},{"$f":"IFERROR(MID('Data Input'!$A78,Z40+2,2),\"\")","v":""},"","2",{"$f":"FIND(\" \"&AC40, 'Data Input'!$A78,Z40+1)","v":{"$error":"#VALUE!"}},{"$f":"IFERROR(MID('Data Input'!$A78,AD40+2,2),\"\")","v":""},"","3",{"$f":"FIND(\" \"&AG40, 'Data Input'!$A78,AD40+1)","v":{"$error":"#VALUE!"}},{"$f":"IFERROR(MID('Data Input'!$A78,AH40+2,2),\"\")","v":""},"","3",{"$f":"FIND(\" \"&AK40, 'Data Input'!$A78,AH40+1)","v":{"$error":"#VALUE!"}},{"$f":"IFERROR(MID('Data Input'!$A78,AL40+2,2),\"\")","v":""},"","3",{"$f":"FIND(\" \"&AO40, 'Data Input'!$A78,AL40+1)","v":{"$error":"#VALUE!"}},{"$f":"IFERROR(MID('Data Input'!$A78,AP40+2,2),\"\")","v":""},"","3",{"$f":"FIND(\" \"&AS40, 'Data Input'!$A78,AP40+1)","v":{"$error":"#VALUE!"}},{"$f":"IFERROR(MID('Data Input'!$A78,AT40+2,2),\"\")","v":""},"","4",{"$f":"FIND(\" \"&AW40, 'Data Input'!$A78,AT40+1)","v":{"$error":"#VALUE!"}},{"$f":"IFERROR(MID('Data Input'!$A78,AX40+2,2),\"\")","v":""},"","4",{"$f":"FIND(\" \"&BA40, 'Data Input'!$A78,AX40+1)","v":{"$error":"#VALUE!"}},{"$f":"IFERROR(MID('Data Input'!$A78,BB40+2,2),\"\")","v":""},"","4",{"$f":"FIND(\" \"&BE40, 'Data Input'!$A78,BB40+1)","v":{"$error":"#VALUE!"}},{"$f":"IFERROR(MID('Data Input'!$A78,BF40+2,2),\"\")","v":""},"","4",{"$f":"FIND(\" \"&BI40, 'Data Input'!$A78,BF40+1)","v":{"$error":"#VALUE!"}},{"$f":"IFERROR(MID('Data Input'!$A78,BJ40+2,2),\"\")","v":""},"","5",{"$f":"FIND(\" \"&BM40, 'Data Input'!$A78,BJ40+1)","v":{"$error":"#VALUE!"}},{"$f":"IFERROR(MID('Data Input'!$A78,BN40+2,2),\"\")","v":""},"","5",{"$f":"FIND(\" \"&BQ40, 'Data Input'!$A78,BN40+1)","v":{"$error":"#VALUE!"}},{"$f":"IFERROR(MID('Data Input'!$A78,BR40+2,2),\"\")","v":""},"","5",{"$f":"FIND(\" \"&BU40, 'Data Input'!$A78,BR40+1)","v":{"$error":"#VALUE!"}},{"$f":"IFERROR(MID('Data Input'!$A78,BV40+2,2),\"\")","v":""},"","5",{"$f":"FIND(\" \"&BY40, 'Data Input'!$A78,BV40+1)","v":{"$error":"#VALUE!"}},{"$f":"IFERROR(MID('Data Input'!$A78,BZ40+2,2),\"\")","v":""},"","6",{"$f":"FIND(\" \"&CC40, 'Data Input'!$A78,BZ40+1)","v":{"$error":"#VALUE!"}},{"$f":"IFERROR(MID('Data Input'!$A78,CD40+2,2),\"\")","v":""},"","6",{"$f":"FIND(\" \"&CG40, 'Data Input'!$A78,CD40+1)","v":{"$error":"#VALUE!"}},{"$f":"IFERROR(MID('Data Input'!$A78,CH40+2,2),\"\")","v":""},"","6",{"$f":"FIND(\" \"&CK40, 'Data Input'!$A78,CH40+1)","v":{"$error":"#VALUE!"}},{"$f":"IFERROR(MID('Data Input'!$A78,CL40+2,2),\"\")","v":""},"","6",{"$f":"FIND(\" \"&CO40, 'Data Input'!$A78,CL40+1)","v":{"$error":"#VALUE!"}},{"$f":"IFERROR(MID('Data Input'!$A78,CP40+2,2),\"\")","v":""},""]
["1",{"$f":"FIND(\" \"&A41, 'Data Input'!$A80)","v":{"$error":"#VALUE!"}},{"$f":"IFERROR(MID('Data Input'!$A80,B41+2,2),\"\")","v":""},"","1",{"$f":"FIND(\" \"&E41, 'Data Input'!$A80,B41+1)","v":{"$error":"#VALUE!"}},{"$f":"IFERROR(MID('Data Input'!$A80,F41+2,2),\"\")","v":""},"","1",{"$f":"FIND(\" \"&I41, 'Data Input'!$A80,F41+1)","v":{"$error":"#VALUE!"}},{"$f":"IFERROR(MID('Data Input'!$A80,J41+2,2),\"\")","v":""},"","1",{"$f":"FIND(\" \"&M41, 'Data Input'!$A80,J41+1)","v":{"$error":"#VALUE!"}},{"$f":"IFERROR(MID('Data Input'!$A80,N41+2,2),\"\")","v":""},"","2",{"$f":"FIND(\" \"&Q41, 'Data Input'!$A80,N41+1)","v":{"$error":"#VALUE!"}},{"$f":"IFERROR(MID('Data Input'!$A80,R41+2,2),\"\")","v":""},"","2",{"$f":"FIND(\" \"&U41, 'Data Input'!$A80,R41+1)","v":{"$error":"#VALUE!"}},{"$f":"IFERROR(MID('Data Input'!$A80,V41+2,2),\"\")","v":""},"","2",{"$f":"FIND(\" \"&Y41, 'Data Input'!$A80,V41+1)","v":{"$error":"#VALUE!"}},{"$f":"IFERROR(MID('Data Input'!$A80,Z41+2,2),\"\")","v":""},"","2",{"$f":"FIND(\" \"&AC41, 'Data Input'!$A80,Z41+1)","v":{"$error":"#VALUE!"}},{"$f":"IFERROR(MID('Data Input'!$A80,AD41+2,2),\"\")","v":""},"","3",{"$f":"FIND(\" \"&AG41, 'Data Input'!$A80,AD41+1)","v":{"$error":"#VALUE!"}},{"$f":"IFERROR(MID('Data Input'!$A80,AH41+2,2),\"\")","v":""},"","3",{"$f":"FIND(\" \"&AK41, 'Data Input'!$A80,AH41+1)","v":{"$error":"#VALUE!"}},{"$f":"IFERROR(MID('Data Input'!$A80,AL41+2,2),\"\")","v":""},"","3",{"$f":"FIND(\" \"&AO41, 'Data Input'!$A80,AL41+1)","v":{"$error":"#VALUE!"}},{"$f":"IFERROR(MID('Data Input'!$A80,AP41+2,2),\"\")","v":""},"","3",{"$f":"FIND(\" \"&AS41, 'Data Input'!$A80,AP41+1)","v":{"$error":"#VALUE!"}},{"$f":"IFERROR(MID('Data Input'!$A80,AT41+2,2),\"\")","v":""},"","4",{"$f":"FIND(\" \"&AW41, 'Data Input'!$A80,AT41+1)","v":{"$error":"#VALUE!"}},{"$f":"IFERROR(MID('Data Input'!$A80,AX41+2,2),\"\")","v":""},"","4",{"$f":"FIND(\" \"&BA41, 'Data Input'!$A80,AX41+1)","v":{"$error":"#VALUE!"}},{"$f":"IFERROR(MID('Data Input'!$A80,BB41+2,2),\"\")","v":""},"","4",{"$f":"FIND(\" \"&BE41, 'Data Input'!$A80,BB41+1)","v":{"$error":"#VALUE!"}},{"$f":"IFERROR(MID('Data Input'!$A80,BF41+2,2),\"\")","v":""},"","4",{"$f":"FIND(\" \"&BI41, 'Data Input'!$A80,BF41+1)","v":{"$error":"#VALUE!"}},{"$f":"IFERROR(MID('Data Input'!$A80,BJ41+2,2),\"\")","v":""},"","5",{"$f":"FIND(\" \"&BM41, 'Data Input'!$A80,BJ41+1)","v":{"$error":"#VALUE!"}},{"$f":"IFERROR(MID('Data Input'!$A80,BN41+2,2),\"\")","v":""},"","5",{"$f":"FIND(\" \"&BQ41, 'Data Input'!$A80,BN41+1)","v":{"$error":"#VALUE!"}},{"$f":"IFERROR(MID('Data Input'!$A80,BR41+2,2),\"\")","v":""},"","5",{"$f":"FIND(\" \"&BU41, 'Data Input'!$A80,BR41+1)","v":{"$error":"#VALUE!"}},{"$f":"IFERROR(MID('Data Input'!$A80,BV41+2,2),\"\")","v":""},"","5",{"$f":"FIND(\" \"&BY41, 'Data Input'!$A80,BV41+1)","v":{"$error":"#VALUE!"}},{"$f":"IFERROR(MID('Data Input'!$A80,BZ41+2,2),\"\")","v":""},"","6",{"$f":"FIND(\" \"&CC41, 'Data Input'!$A80,BZ41+1)","v":{"$error":"#VALUE!"}},{"$f":"IFERROR(MID('Data Input'!$A80,CD41+2,2),\"\")","v":""},"","6",{"$f":"FIND(\" \"&CG41, 'Data Input'!$A80,CD41+1)","v":{"$error":"#VALUE!"}},{"$f":"IFERROR(MID('Data Input'!$A80,CH41+2,2),\"\")","v":""},"","6",{"$f":"FIND(\" \"&CK41, 'Data Input'!$A80,CH41+1)","v":{"$error":"#VALUE!"}},{"$f":"IFERROR(MID('Data Input'!$A80,CL41+2,2),\"\")","v":""},"","6",{"$f":"FIND(\" \"&CO41, 'Data Input'!$A80,CL41+1)","v":{"$error":"#VALUE!"}},{"$f":"IFERROR(MID('Data Input'!$A80,CP41+2,2),\"\")","v":""},""]
["1",{"$f":"FIND(\" \"&A42, 'Data Input'!$A82)","v":{"$error":"#VALUE!"}},{"$f":"IFERROR(MID('Data Input'!$A82,B42+2,2),\"\")","v":""},"","1",{"$f":"FIND(\" \"&E42, 'Data Input'!$A82,B42+1)","v":{"$error":"#VALUE!"}},{"$f":"IFERROR(MID('Data Input'!$A82,F42+2,2),\"\")","v":""},"","1",{"$f":"FIND(\" \"&I42, 'Data Input'!$A82,F42+1)","v":{"$error":"#VALUE!"}},{"$f":"IFERROR(MID('Data Input'!$A82,J42+2,2),\"\")","v":""},"","1",{"$f":"FIND(\" \"&M42, 'Data Input'!$A82,J42+1)","v":{"$error":"#VALUE!"}},{"$f":"IFERROR(MID('Data Input'!$A82,N42+2,2),\"\")","v":""},"","2",{"$f":"FIND(\" \"&Q42, 'Data Input'!$A82,N42+1)","v":{"$error":"#VALUE!"}},{"$f":"IFERROR(MID('Data Input'!$A82,R42+2,2),\"\")","v":""},"","2",{"$f":"FIND(\" \"&U42, 'Data Input'!$A82,R42+1)","v":{"$error":"#VALUE!"}},{"$f":"IFERROR(MID('Data Input'!$A82,V42+2,2),\"\")","v":""},"","2",{"$f":"FIND(\" \"&Y42, 'Data Input'!$A82,V42+1)","v":{"$error":"#VALUE!"}},{"$f":"IFERROR(MID('Data Input'!$A82,Z42+2,2),\"\")","v":""},"","2",{"$f":"FIND(\" \"&AC42, 'Data Input'!$A82,Z42+1)","v":{"$error":"#VALUE!"}},{"$f":"IFERROR(MID('Data Input'!$A82,AD42+2,2),\"\")","v":""},"","3",{"$f":"FIND(\" \"&AG42, 'Data Input'!$A82,AD42+1)","v":{"$error":"#VALUE!"}},{"$f":"IFERROR(MID('Data Input'!$A82,AH42+2,2),\"\")","v":""},"","3",{"$f":"FIND(\" \"&AK42, 'Data Input'!$A82,AH42+1)","v":{"$error":"#VALUE!"}},{"$f":"IFERROR(MID('Data Input'!$A82,AL42+2,2),\"\")","v":""},"","3",{"$f":"FIND(\" \"&AO42, 'Data Input'!$A82,AL42+1)","v":{"$error":"#VALUE!"}},{"$f":"IFERROR(MID('Data Input'!$A82,AP42+2,2),\"\")","v":""},"","3",{"$f":"FIND(\" \"&AS42, 'Data Input'!$A82,AP42+1)","v":{"$error":"#VALUE!"}},{"$f":"IFERROR(MID('Data Input'!$A82,AT42+2,2),\"\")","v":""},"","4",{"$f":"FIND(\" \"&AW42, 'Data Input'!$A82,AT42+1)","v":{"$error":"#VALUE!"}},{"$f":"IFERROR(MID('Data Input'!$A82,AX42+2,2),\"\")","v":""},"","4",{"$f":"FIND(\" \"&BA42, 'Data Input'!$A82,AX42+1)","v":{"$error":"#VALUE!"}},{"$f":"IFERROR(MID('Data Input'!$A82,BB42+2,2),\"\")","v":""},"","4",{"$f":"FIND(\" \"&BE42, 'Data Input'!$A82,BB42+1)","v":{"$error":"#VALUE!"}},{"$f":"IFERROR(MID('Data Input'!$A82,BF42+2,2),\"\")","v":""},"","4",{"$f":"FIND(\" \"&BI42, 'Data Input'!$A82,BF42+1)","v":{"$error":"#VALUE!"}},{"$f":"IFERROR(MID('Data Input'!$A82,BJ42+2,2),\"\")","v":""},"","5",{"$f":"FIND(\" \"&BM42, 'Data Input'!$A82,BJ42+1)","v":{"$error":"#VALUE!"}},{"$f":"IFERROR(MID('Data Input'!$A82,BN42+2,2),\"\")","v":""},"","5",{"$f":"FIND(\" \"&BQ42, 'Data Input'!$A82,BN42+1)","v":{"$error":"#VALUE!"}},{"$f":"IFERROR(MID('Data Input'!$A82,BR42+2,2),\"\")","v":""},"","5",{"$f":"FIND(\" \"&BU42, 'Data Input'!$A82,BR42+1)","v":{"$error":"#VALUE!"}},{"$f":"IFERROR(MID('Data Input'!$A82,BV42+2,2),\"\")","v":""},"","5",{"$f":"FIND(\" \"&BY42, 'Data Input'!$A82,BV42+1)","v":{"$error":"#VALUE!"}},{"$f":"IFERROR(MID('Data Input'!$A82,BZ42+2,2),\"\")","v":""},"","6",{"$f":"FIND(\" \"&CC42, 'Data Input'!$A82,BZ42+1)","v":{"$error":"#VALUE!"}},{"$f":"IFERROR(MID('Data Input'!$A82,CD42+2,2),\"\")","v":""},"","6",{"$f":"FIND(\" \"&CG42, 'Data Input'!$A82,CD42+1)","v":{"$error":"#VALUE!"}},{"$f":"IFERROR(MID('Data Input'!$A82,CH42+2,2),\"\")","v":""},"","6",{"$f":"FIND(\" \"&CK42, 'Data Input'!$A82,CH42+1)","v":{"$error":"#VALUE!"}},{"$f":"IFERROR(MID('Data Input'!$A82,CL42+2,2),\"\")","v":""},"","6",{"$f":"FIND(\" \"&CO42, 'Data Input'!$A82,CL42+1)","v":{"$error":"#VALUE!"}},{"$f":"IFERROR(MID('Data Input'!$A82,CP42+2,2),\"\")","v":""},""]
["1",{"$f":"FIND(\" \"&A43, 'Data Input'!$A84)","v":{"$error":"#VALUE!"}},{"$f":"IFERROR(MID('Data Input'!$A84,B43+2,2),\"\")","v":""},"","1",{"$f":"FIND(\" \"&E43, 'Data Input'!$A84,B43+1)","v":{"$error":"#VALUE!"}},{"$f":"IFERROR(MID('Data Input'!$A84,F43+2,2),\"\")","v":""},"","1",{"$f":"FIND(\" \"&I43, 'Data Input'!$A84,F43+1)","v":{"$error":"#VALUE!"}},{"$f":"IFERROR(MID('Data Input'!$A84,J43+2,2),\"\")","v":""},"","1",{"$f":"FIND(\" \"&M43, 'Data Input'!$A84,J43+1)","v":{"$error":"#VALUE!"}},{"$f":"IFERROR(MID('Data Input'!$A84,N43+2,2),\"\")","v":""},"","2",{"$f":"FIND(\" \"&Q43, 'Data Input'!$A84,N43+1)","v":{"$error":"#VALUE!"}},{"$f":"IFERROR(MID('Data Input'!$A84,R43+2,2),\"\")","v":""},"","2",{"$f":"FIND(\" \"&U43, 'Data Input'!$A84,R43+1)","v":{"$error":"#VALUE!"}},{"$f":"IFERROR(MID('Data Input'!$A84,V43+2,2),\"\")","v":""},"","2",{"$f":"FIND(\" \"&Y43, 'Data Input'!$A84,V43+1)","v":{"$error":"#VALUE!"}},{"$f":"IFERROR(MID('Data Input'!$A84,Z43+2,2),\"\")","v":""},"","2",{"$f":"FIND(\" \"&AC43, 'Data Input'!$A84,Z43+1)","v":{"$error":"#VALUE!"}},{"$f":"IFERROR(MID('Data Input'!$A84,AD43+2,2),\"\")","v":""},"","3",{"$f":"FIND(\" \"&AG43, 'Data Input'!$A84,AD43+1)","v":{"$error":"#VALUE!"}},{"$f":"IFERROR(MID('Data Input'!$A84,AH43+2,2),\"\")","v":""},"","3",{"$f":"FIND(\" \"&AK43, 'Data Input'!$A84,AH43+1)","v":{"$error":"#VALUE!"}},{"$f":"IFERROR(MID('Data Input'!$A84,AL43+2,2),\"\")","v":""},"","3",{"$f":"FIND(\" \"&AO43, 'Data Input'!$A84,AL43+1)","v":{"$error":"#VALUE!"}},{"$f":"IFERROR(MID('Data Input'!$A84,AP43+2,2),\"\")","v":""},"","3",{"$f":"FIND(\" \"&AS43, 'Data Input'!$A84,AP43+1)","v":{"$error":"#VALUE!"}},{"$f":"IFERROR(MID('Data Input'!$A84,AT43+2,2),\"\")","v":""},"","4",{"$f":"FIND(\" \"&AW43, 'Data Input'!$A84,AT43+1)","v":{"$error":"#VALUE!"}},{"$f":"IFERROR(MID('Data Input'!$A84,AX43+2,2),\"\")","v":""},"","4",{"$f":"FIND(\" \"&BA43, 'Data Input'!$A84,AX43+1)","v":{"$error":"#VALUE!"}},{"$f":"IFERROR(MID('Data Input'!$A84,BB43+2,2),\"\")","v":""},"","4",{"$f":"FIND(\" \"&BE43, 'Data Input'!$A84,BB43+1)","v":{"$error":"#VALUE!"}},{"$f":"IFERROR(MID('Data Input'!$A84,BF43+2,2),\"\")","v":""},"","4",{"$f":"FIND(\" \"&BI43, 'Data Input'!$A84,BF43+1)","v":{"$error":"#VALUE!"}},{"$f":"IFERROR(MID('Data Input'!$A84,BJ43+2,2),\"\")","v":""},"","5",{"$f":"FIND(\" \"&BM43, 'Data Input'!$A84,BJ43+1)","v":{"$error":"#VALUE!"}},{"$f":"IFERROR(MID('Data Input'!$A84,BN43+2,2),\"\")","v":""},"","5",{"$f":"FIND(\" \"&BQ43, 'Data Input'!$A84,BN43+1)","v":{"$error":"#VALUE!"}},{"$f":"IFERROR(MID('Data Input'!$A84,BR43+2,2),\"\")","v":""},"","5",{"$f":"FIND(\" \"&BU43, 'Data Input'!$A84,BR43+1)","v":{"$error":"#VALUE!"}},{"$f":"IFERROR(MID('Data Input'!$A84,BV43+2,2),\"\")","v":""},"","5",{"$f":"FIND(\" \"&BY43, 'Data Input'!$A84,BV43+1)","v":{"$error":"#VALUE!"}},{"$f":"IFERROR(MID('Data Input'!$A84,BZ43+2,2),\"\")","v":""},"","6",{"$f":"FIND(\" \"&CC43, 'Data Input'!$A84,BZ43+1)","v":{"$error":"#VALUE!"}},{"$f":"IFERROR(MID('Data Input'!$A84,CD43+2,2),\"\")","v":""},"","6",{"$f":"FIND(\" \"&CG43, 'Data Input'!$A84,CD43+1)","v":{"$error":"#VALUE!"}},{"$f":"IFERROR(MID('Data Input'!$A84,CH43+2,2),\"\")","v":""},"","6",{"$f":"FIND(\" \"&CK43, 'Data Input'!$A84,CH43+1)","v":{"$error":"#VALUE!"}},{"$f":"IFERROR(MID('Data Input'!$A84,CL43+2,2),\"\")","v":""},"","6",{"$f":"FIND(\" \"&CO43, 'Data Input'!$A84,CL43+1)","v":{"$error":"#VALUE!"}},{"$f":"IFERROR(MID('Data Input'!$A84,CP43+2,2),\"\")","v":""},""]
["1",{"$f":"FIND(\" \"&A44, 'Data Input'!$A86)","v":{"$error":"#VALUE!"}},{"$f":"IFERROR(MID('Data Input'!$A86,B44+2,2),\"\")","v":""},"","1",{"$f":"FIND(\" \"&E44, 'Data Input'!$A86,B44+1)","v":{"$error":"#VALUE!"}},{"$f":"IFERROR(MID('Data Input'!$A86,F44+2,2),\"\")","v":""},"","1",{"$f":"FIND(\" \"&I44, 'Data Input'!$A86,F44+1)","v":{"$error":"#VALUE!"}},{"$f":"IFERROR(MID('Data Input'!$A86,J44+2,2),\"\")","v":""},"","1",{"$f":"FIND(\" \"&M44, 'Data Input'!$A86,J44+1)","v":{"$error":"#VALUE!"}},{"$f":"IFERROR(MID('Data Input'!$A86,N44+2,2),\"\")","v":""},"","2",{"$f":"FIND(\" \"&Q44, 'Data Input'!$A86,N44+1)","v":{"$error":"#VALUE!"}},{"$f":"IFERROR(MID('Data Input'!$A86,R44+2,2),\"\")","v":""},"","2",{"$f":"FIND(\" \"&U44, 'Data Input'!$A86,R44+1)","v":{"$error":"#VALUE!"}},{"$f":"IFERROR(MID('Data Input'!$A86,V44+2,2),\"\")","v":""},"","2",{"$f":"FIND(\" \"&Y44, 'Data Input'!$A86,V44+1)","v":{"$error":"#VALUE!"}},{"$f":"IFERROR(MID('Data Input'!$A86,Z44+2,2),\"\")","v":""},"","2",{"$f":"FIND(\" \"&AC44, 'Data Input'!$A86,Z44+1)","v":{"$error":"#VALUE!"}},{"$f":"IFERROR(MID('Data Input'!$A86,AD44+2,2),\"\")","v":""},"","3",{"$f":"FIND(\" \"&AG44, 'Data Input'!$A86,AD44+1)","v":{"$error":"#VALUE!"}},{"$f":"IFERROR(MID('Data Input'!$A86,AH44+2,2),\"\")","v":""},"","3",{"$f":"FIND(\" \"&AK44, 'Data Input'!$A86,AH44+1)","v":{"$error":"#VALUE!"}},{"$f":"IFERROR(MID('Data Input'!$A86,AL44+2,2),\"\")","v":""},"","3",{"$f":"FIND(\" \"&AO44, 'Data Input'!$A86,AL44+1)","v":{"$error":"#VALUE!"}},{"$f":"IFERROR(MID('Data Input'!$A86,AP44+2,2),\"\")","v":""},"","3",{"$f":"FIND(\" \"&AS44, 'Data Input'!$A86,AP44+1)","v":{"$error":"#VALUE!"}},{"$f":"IFERROR(MID('Data Input'!$A86,AT44+2,2),\"\")","v":""},"","4",{"$f":"FIND(\" \"&AW44, 'Data Input'!$A86,AT44+1)","v":{"$error":"#VALUE!"}},{"$f":"IFERROR(MID('Data Input'!$A86,AX44+2,2),\"\")","v":""},"","4",{"$f":"FIND(\" \"&BA44, 'Data Input'!$A86,AX44+1)","v":{"$error":"#VALUE!"}},{"$f":"IFERROR(MID('Data Input'!$A86,BB44+2,2),\"\")","v":""},"","4",{"$f":"FIND(\" \"&BE44, 'Data Input'!$A86,BB44+1)","v":{"$error":"#VALUE!"}},{"$f":"IFERROR(MID('Data Input'!$A86,BF44+2,2),\"\")","v":""},"","4",{"$f":"FIND(\" \"&BI44, 'Data Input'!$A86,BF44+1)","v":{"$error":"#VALUE!"}},{"$f":"IFERROR(MID('Data Input'!$A86,BJ44+2,2),\"\")","v":""},"","5",{"$f":"FIND(\" \"&BM44, 'Data Input'!$A86,BJ44+1)","v":{"$error":"#VALUE!"}},{"$f":"IFERROR(MID('Data Input'!$A86,BN44+2,2),\"\")","v":""},"","5",{"$f":"FIND(\" \"&BQ44, 'Data Input'!$A86,BN44+1)","v":{"$error":"#VALUE!"}},{"$f":"IFERROR(MID('Data Input'!$A86,BR44+2,2),\"\")","v":""},"","5",{"$f":"FIND(\" \"&BU44, 'Data Input'!$A86,BR44+1)","v":{"$error":"#VALUE!"}},{"$f":"IFERROR(MID('Data Input'!$A86,BV44+2,2),\"\")","v":""},"","5",{"$f":"FIND(\" \"&BY44, 'Data Input'!$A86,BV44+1)","v":{"$error":"#VALUE!"}},{"$f":"IFERROR(MID('Data Input'!$A86,BZ44+2,2),\"\")","v":""},"","6",{"$f":"FIND(\" \"&CC44, 'Data Input'!$A86,BZ44+1)","v":{"$error":"#VALUE!"}},{"$f":"IFERROR(MID('Data Input'!$A86,CD44+2,2),\"\")","v":""},"","6",{"$f":"FIND(\" \"&CG44, 'Data Input'!$A86,CD44+1)","v":{"$error":"#VALUE!"}},{"$f":"IFERROR(MID('Data Input'!$A86,CH44+2,2),\"\")","v":""},"","6",{"$f":"FIND(\" \"&CK44, 'Data Input'!$A86,CH44+1)","v":{"$error":"#VALUE!"}},{"$f":"IFERROR(MID('Data Input'!$A86,CL44+2,2),\"\")","v":""},"","6",{"$f":"FIND(\" \"&CO44, 'Data Input'!$A86,CL44+1)","v":{"$error":"#VALUE!"}},{"$f":"IFERROR(MID('Data Input'!$A86,CP44+2,2),\"\")","v":""},""]
["1",{"$f":"FIND(\" \"&A45, 'Data Input'!$A88)","v":{"$error":"#VALUE!"}},{"$f":"IFERROR(MID('Data Input'!$A88,B45+2,2),\"\")","v":""},"","1",{"$f":"FIND(\" \"&E45, 'Data Input'!$A88,B45+1)","v":{"$error":"#VALUE!"}},{"$f":"IFERROR(MID('Data Input'!$A88,F45+2,2),\"\")","v":""},"","1",{"$f":"FIND(\" \"&I45, 'Data Input'!$A88,F45+1)","v":{"$error":"#VALUE!"}},{"$f":"IFERROR(MID('Data Input'!$A88,J45+2,2),\"\")","v":""},"","1",{"$f":"FIND(\" \"&M45, 'Data Input'!$A88,J45+1)","v":{"$error":"#VALUE!"}},{"$f":"IFERROR(MID('Data Input'!$A88,N45+2,2),\"\")","v":""},"","2",{"$f":"FIND(\" \"&Q45, 'Data Input'!$A88,N45+1)","v":{"$error":"#VALUE!"}},{"$f":"IFERROR(MID('Data Input'!$A88,R45+2,2),\"\")","v":""},"","2",{"$f":"FIND(\" \"&U45, 'Data Input'!$A88,R45+1)","v":{"$error":"#VALUE!"}},{"$f":"IFERROR(MID('Data Input'!$A88,V45+2,2),\"\")","v":""},"","2",{"$f":"FIND(\" \"&Y45, 'Data Input'!$A88,V45+1)","v":{"$error":"#VALUE!"}},{"$f":"IFERROR(MID('Data Input'!$A88,Z45+2,2),\"\")","v":""},"","2",{"$f":"FIND(\" \"&AC45, 'Data Input'!$A88,Z45+1)","v":{"$error":"#VALUE!"}},{"$f":"IFERROR(MID('Data Input'!$A88,AD45+2,2),\"\")","v":""},"","3",{"$f":"FIND(\" \"&AG45, 'Data Input'!$A88,AD45+1)","v":{"$error":"#VALUE!"}},{"$f":"IFERROR(MID('Data Input'!$A88,AH45+2,2),\"\")","v":""},"","3",{"$f":"FIND(\" \"&AK45, 'Data Input'!$A88,AH45+1)","v":{"$error":"#VALUE!"}},{"$f":"IFERROR(MID('Data Input'!$A88,AL45+2,2),\"\")","v":""},"","3",{"$f":"FIND(\" \"&AO45, 'Data Input'!$A88,AL45+1)","v":{"$error":"#VALUE!"}},{"$f":"IFERROR(MID('Data Input'!$A88,AP45+2,2),\"\")","v":""},"","3",{"$f":"FIND(\" \"&AS45, 'Data Input'!$A88,AP45+1)","v":{"$error":"#VALUE!"}},{"$f":"IFERROR(MID('Data Input'!$A88,AT45+2,2),\"\")","v":""},"","4",{"$f":"FIND(\" \"&AW45, 'Data Input'!$A88,AT45+1)","v":{"$error":"#VALUE!"}},{"$f":"IFERROR(MID('Data Input'!$A88,AX45+2,2),\"\")","v":""},"","4",{"$f":"FIND(\" \"&BA45, 'Data Input'!$A88,AX45+1)","v":{"$error":"#VALUE!"}},{"$f":"IFERROR(MID('Data Input'!$A88,BB45+2,2),\"\")","v":""},"","4",{"$f":"FIND(\" \"&BE45, 'Data Input'!$A88,BB45+1)","v":{"$error":"#VALUE!"}},{"$f":"IFERROR(MID('Data Input'!$A88,BF45+2,2),\"\")","v":""},"","4",{"$f":"FIND(\" \"&BI45, 'Data Input'!$A88,BF45+1)","v":{"$error":"#VALUE!"}},{"$f":"IFERROR(MID('Data Input'!$A88,BJ45+2,2),\"\")","v":""},"","5",{"$f":"FIND(\" \"&BM45, 'Data Input'!$A88,BJ45+1)","v":{"$error":"#VALUE!"}},{"$f":"IFERROR(MID('Data Input'!$A88,BN45+2,2),\"\")","v":""},"","5",{"$f":"FIND(\" \"&BQ45, 'Data Input'!$A88,BN45+1)","v":{"$error":"#VALUE!"}},{"$f":"IFERROR(MID('Data Input'!$A88,BR45+2,2),\"\")","v":""},"","5",{"$f":"FIND(\" \"&BU45, 'Data Input'!$A88,BR45+1)","v":{"$error":"#VALUE!"}},{"$f":"IFERROR(MID('Data Input'!$A88,BV45+2,2),\"\")","v":""},"","5",{"$f":"FIND(\" \"&BY45, 'Data Input'!$A88,BV45+1)","v":{"$error":"#VALUE!"}},{"$f":"IFERROR(MID('Data Input'!$A88,BZ45+2,2),\"\")","v":""},"","6",{"$f":"FIND(\" \"&CC45, 'Data Input'!$A88,BZ45+1)","v":{"$error":"#VALUE!"}},{"$f":"IFERROR(MID('Data Input'!$A88,CD45+2,2),\"\")","v":""},"","6",{"$f":"FIND(\" \"&CG45, 'Data Input'!$A88,CD45+1)","v":{"$error":"#VALUE!"}},{"$f":"IFERROR(MID('Data Input'!$A88,CH45+2,2),\"\")","v":""},"","6",{"$f":"FIND(\" \"&CK45, 'Data Input'!$A88,CH45+1)","v":{"$error":"#VALUE!"}},{"$f":"IFERROR(MID('Data Input'!$A88,CL45+2,2),\"\")","v":""},"","6",{"$f":"FIND(\" \"&CO45, 'Data Input'!$A88,CL45+1)","v":{"$error":"#VALUE!"}},{"$f":"IFERROR(MID('Data Input'!$A88,CP45+2,2),\"\")","v":""},""]
["1",{"$f":"FIND(\" \"&A46, 'Data Input'!$A90)","v":{"$error":"#VALUE!"}},{"$f":"IFERROR(MID('Data Input'!$A90,B46+2,2),\"\")","v":""},"","1",{"$f":"FIND(\" \"&E46, 'Data Input'!$A90,B46+1)","v":{"$error":"#VALUE!"}},{"$f":"IFERROR(MID('Data Input'!$A90,F46+2,2),\"\")","v":""},"","1",{"$f":"FIND(\" \"&I46, 'Data Input'!$A90,F46+1)","v":{"$error":"#VALUE!"}},{"$f":"IFERROR(MID('Data Input'!$A90,J46+2,2),\"\")","v":""},"","1",{"$f":"FIND(\" \"&M46, 'Data Input'!$A90,J46+1)","v":{"$error":"#VALUE!"}},{"$f":"IFERROR(MID('Data Input'!$A90,N46+2,2),\"\")","v":""},"","2",{"$f":"FIND(\" \"&Q46, 'Data Input'!$A90,N46+1)","v":{"$error":"#VALUE!"}},{"$f":"IFERROR(MID('Data Input'!$A90,R46+2,2),\"\")","v":""},"","2",{"$f":"FIND(\" \"&U46, 'Data Input'!$A90,R46+1)","v":{"$error":"#VALUE!"}},{"$f":"IFERROR(MID('Data Input'!$A90,V46+2,2),\"\")","v":""},"","2",{"$f":"FIND(\" \"&Y46, 'Data Input'!$A90,V46+1)","v":{"$error":"#VALUE!"}},{"$f":"IFERROR(MID('Data Input'!$A90,Z46+2,2),\"\")","v":""},"","2",{"$f":"FIND(\" \"&AC46, 'Data Input'!$A90,Z46+1)","v":{"$error":"#VALUE!"}},{"$f":"IFERROR(MID('Data Input'!$A90,AD46+2,2),\"\")","v":""},"","3",{"$f":"FIND(\" \"&AG46, 'Data Input'!$A90,AD46+1)","v":{"$error":"#VALUE!"}},{"$f":"IFERROR(MID('Data Input'!$A90,AH46+2,2),\"\")","v":""},"","3",{"$f":"FIND(\" \"&AK46, 'Data Input'!$A90,AH46+1)","v":{"$error":"#VALUE!"}},{"$f":"IFERROR(MID('Data Input'!$A90,AL46+2,2),\"\")","v":""},"","3",{"$f":"FIND(\" \"&AO46, 'Data Input'!$A90,AL46+1)","v":{"$error":"#VALUE!"}},{"$f":"IFERROR(MID('Data Input'!$A90,AP46+2,2),\"\")","v":""},"","3",{"$f":"FIND(\" \"&AS46, 'Data Input'!$A90,AP46+1)","v":{"$error":"#VALUE!"}},{"$f":"IFERROR(MID('Data Input'!$A90,AT46+2,2),\"\")","v":""},"","4",{"$f":"FIND(\" \"&AW46, 'Data Input'!$A90,AT46+1)","v":{"$error":"#VALUE!"}},{"$f":"IFERROR(MID('Data Input'!$A90,AX46+2,2),\"\")","v":""},"","4",{"$f":"FIND(\" \"&BA46, 'Data Input'!$A90,AX46+1)","v":{"$error":"#VALUE!"}},{"$f":"IFERROR(MID('Data Input'!$A90,BB46+2,2),\"\")","v":""},"","4",{"$f":"FIND(\" \"&BE46, 'Data Input'!$A90,BB46+1)","v":{"$error":"#VALUE!"}},{"$f":"IFERROR(MID('Data Input'!$A90,BF46+2,2),\"\")","v":""},"","4",{"$f":"FIND(\" \"&BI46, 'Data Input'!$A90,BF46+1)","v":{"$error":"#VALUE!"}},{"$f":"IFERROR(MID('Data Input'!$A90,BJ46+2,2),\"\")","v":""},"","5",{"$f":"FIND(\" \"&BM46, 'Data Input'!$A90,BJ46+1)","v":{"$error":"#VALUE!"}},{"$f":"IFERROR(MID('Data Input'!$A90,BN46+2,2),\"\")","v":""},"","5",{"$f":"FIND(\" \"&BQ46, 'Data Input'!$A90,BN46+1)","v":{"$error":"#VALUE!"}},{"$f":"IFERROR(MID('Data Input'!$A90,BR46+2,2),\"\")","v":""},"","5",{"$f":"FIND(\" \"&BU46, 'Data Input'!$A90,BR46+1)","v":{"$error":"#VALUE!"}},{"$f":"IFERROR(MID('Data Input'!$A90,BV46+2,2),\"\")","v":""},"","5",{"$f":"FIND(\" \"&BY46, 'Data Input'!$A90,BV46+1)","v":{"$error":"#VALUE!"}},{"$f":"IFERROR(MID('Data Input'!$A90,BZ46+2,2),\"\")","v":""},"","6",{"$f":"FIND(\" \"&CC46, 'Data Input'!$A90,BZ46+1)","v":{"$error":"#VALUE!"}},{"$f":"IFERROR(MID('Data Input'!$A90,CD46+2,2),\"\")","v":""},"","6",{"$f":"FIND(\" \"&CG46, 'Data Input'!$A90,CD46+1)","v":{"$error":"#VALUE!"}},{"$f":"IFERROR(MID('Data Input'!$A90,CH46+2,2),\"\")","v":""},"","6",{"$f":"FIND(\" \"&CK46, 'Data Input'!$A90,CH46+1)","v":{"$error":"#VALUE!"}},{"$f":"IFERROR(MID('Data Input'!$A90,CL46+2,2),\"\")","v":""},"","6",{"$f":"FIND(\" \"&CO46, 'Data Input'!$A90,CL46+1)","v":{"$error":"#VALUE!"}},{"$f":"IFERROR(MID('Data Input'!$A90,CP46+2,2),\"\")","v":""},""]
["1",{"$f":"FIND(\" \"&A47, 'Data Input'!$A92)","v":{"$error":"#VALUE!"}},{"$f":"IFERROR(MID('Data Input'!$A92,B47+2,2),\"\")","v":""},"","1",{"$f":"FIND(\" \"&E47, 'Data Input'!$A92,B47+1)","v":{"$error":"#VALUE!"}},{"$f":"IFERROR(MID('Data Input'!$A92,F47+2,2),\"\")","v":""},"","1",{"$f":"FIND(\" \"&I47, 'Data Input'!$A92,F47+1)","v":{"$error":"#VALUE!"}},{"$f":"IFERROR(MID('Data Input'!$A92,J47+2,2),\"\")","v":""},"","1",{"$f":"FIND(\" \"&M47, 'Data Input'!$A92,J47+1)","v":{"$error":"#VALUE!"}},{"$f":"IFERROR(MID('Data Input'!$A92,N47+2,2),\"\")","v":""},"","2",{"$f":"FIND(\" \"&Q47, 'Data Input'!$A92,N47+1)","v":{"$error":"#VALUE!"}},{"$f":"IFERROR(MID('Data Input'!$A92,R47+2,2),\"\")","v":""},"","2",{"$f":"FIND(\" \"&U47, 'Data Input'!$A92,R47+1)","v":{"$error":"#VALUE!"}},{"$f":"IFERROR(MID('Data Input'!$A92,V47+2,2),\"\")","v":""},"","2",{"$f":"FIND(\" \"&Y47, 'Data Input'!$A92,V47+1)","v":{"$error":"#VALUE!"}},{"$f":"IFERROR(MID('Data Input'!$A92,Z47+2,2),\"\")","v":""},"","2",{"$f":"FIND(\" \"&AC47, 'Data Input'!$A92,Z47+1)","v":{"$error":"#VALUE!"}},{"$f":"IFERROR(MID('Data Input'!$A92,AD47+2,2),\"\")","v":""},"","3",{"$f":"FIND(\" \"&AG47, 'Data Input'!$A92,AD47+1)","v":{"$error":"#VALUE!"}},{"$f":"IFERROR(MID('Data Input'!$A92,AH47+2,2),\"\")","v":""},"","3",{"$f":"FIND(\" \"&AK47, 'Data Input'!$A92,AH47+1)","v":{"$error":"#VALUE!"}},{"$f":"IFERROR(MID('Data Input'!$A92,AL47+2,2),\"\")","v":""},"","3",{"$f":"FIND(\" \"&AO47, 'Data Input'!$A92,AL47+1)","v":{"$error":"#VALUE!"}},{"$f":"IFERROR(MID('Data Input'!$A92,AP47+2,2),\"\")","v":""},"","3",{"$f":"FIND(\" \"&AS47, 'Data Input'!$A92,AP47+1)","v":{"$error":"#VALUE!"}},{"$f":"IFERROR(MID('Data Input'!$A92,AT47+2,2),\"\")","v":""},"","4",{"$f":"FIND(\" \"&AW47, 'Data Input'!$A92,AT47+1)","v":{"$error":"#VALUE!"}},{"$f":"IFERROR(MID('Data Input'!$A92,AX47+2,2),\"\")","v":""},"","4",{"$f":"FIND(\" \"&BA47, 'Data Input'!$A92,AX47+1)","v":{"$error":"#VALUE!"}},{"$f":"IFERROR(MID('Data Input'!$A92,BB47+2,2),\"\")","v":""},"","4",{"$f":"FIND(\" \"&BE47, 'Data Input'!$A92,BB47+1)","v":{"$error":"#VALUE!"}},{"$f":"IFERROR(MID('Data Input'!$A92,BF47+2,2),\"\")","v":""},"","4",{"$f":"FIND(\" \"&BI47, 'Data Input'!$A92,BF47+1)","v":{"$error":"#VALUE!"}},{"$f":"IFERROR(MID('Data Input'!$A92,BJ47+2,2),\"\")","v":""},"","5",{"$f":"FIND(\" \"&BM47, 'Data Input'!$A92,BJ47+1)","v":{"$error":"#VALUE!"}},{"$f":"IFERROR(MID('Data Input'!$A92,BN47+2,2),\"\")","v":""},"","5",{"$f":"FIND(\" \"&BQ47, 'Data Input'!$A92,BN47+1)","v":{"$error":"#VALUE!"}},{"$f":"IFERROR(MID('Data Input'!$A92,BR47+2,2),\"\")","v":""},"","5",{"$f":"FIND(\" \"&BU47, 'Data Input'!$A92,BR47+1)","v":{"$error":"#VALUE!"}},{"$f":"IFERROR(MID('Data Input'!$A92,BV47+2,2),\"\")","v":""},"","5",{"$f":"FIND(\" \"&BY47, 'Data Input'!$A92,BV47+1)","v":{"$error":"#VALUE!"}},{"$f":"IFERROR(MID('Data Input'!$A92,BZ47+2,2),\"\")","v":""},"","6",{"$f":"FIND(\" \"&CC47, 'Data Input'!$A92,BZ47+1)","v":{"$error":"#VALUE!"}},{"$f":"IFERROR(MID('Data Input'!$A92,CD47+2,2),\"\")","v":""},"","6",{"$f":"FIND(\" \"&CG47, 'Data Input'!$A92,CD47+1)","v":{"$error":"#VALUE!"}},{"$f":"IFERROR(MID('Data Input'!$A92,CH47+2,2),\"\")","v":""},"","6",{"$f":"FIND(\" \"&CK47, 'Data Input'!$A92,CH47+1)","v":{"$error":"#VALUE!"}},{"$f":"IFERROR(MID('Data Input'!$A92,CL47+2,2),\"\")","v":""},"","6",{"$f":"FIND(\" \"&CO47, 'Data Input'!$A92,CL47+1)","v":{"$error":"#VALUE!"}},{"$f":"IFERROR(MID('Data Input'!$A92,CP47+2,2),\"\")","v":""},""]
["1",{"$f":"FIND(\" \"&A48, 'Data Input'!$A94)","v":{"$error":"#VALUE!"}},{"$f":"IFERROR(MID('Data Input'!$A94,B48+2,2),\"\")","v":""},"","1",{"$f":"FIND(\" \"&E48, 'Data Input'!$A94,B48+1)","v":{"$error":"#VALUE!"}},{"$f":"IFERROR(MID('Data Input'!$A94,F48+2,2),\"\")","v":""},"","1",{"$f":"FIND(\" \"&I48, 'Data Input'!$A94,F48+1)","v":{"$error":"#VALUE!"}},{"$f":"IFERROR(MID('Data Input'!$A94,J48+2,2),\"\")","v":""},"","1",{"$f":"FIND(\" \"&M48, 'Data Input'!$A94,J48+1)","v":{"$error":"#VALUE!"}},{"$f":"IFERROR(MID('Data Input'!$A94,N48+2,2),\"\")","v":""},"","2",{"$f":"FIND(\" \"&Q48, 'Data Input'!$A94,N48+1)","v":{"$error":"#VALUE!"}},{"$f":"IFERROR(MID('Data Input'!$A94,R48+2,2),\"\")","v":""},"","2",{"$f":"FIND(\" \"&U48, 'Data Input'!$A94,R48+1)","v":{"$error":"#VALUE!"}},{"$f":"IFERROR(MID('Data Input'!$A94,V48+2,2),\"\")","v":""},"","2",{"$f":"FIND(\" \"&Y48, 'Data Input'!$A94,V48+1)","v":{"$error":"#VALUE!"}},{"$f":"IFERROR(MID('Data Input'!$A94,Z48+2,2),\"\")","v":""},"","2",{"$f":"FIND(\" \"&AC48, 'Data Input'!$A94,Z48+1)","v":{"$error":"#VALUE!"}},{"$f":"IFERROR(MID('Data Input'!$A94,AD48+2,2),\"\")","v":""},"","3",{"$f":"FIND(\" \"&AG48, 'Data Input'!$A94,AD48+1)","v":{"$error":"#VALUE!"}},{"$f":"IFERROR(MID('Data Input'!$A94,AH48+2,2),\"\")","v":""},"","3",{"$f":"FIND(\" \"&AK48, 'Data Input'!$A94,AH48+1)","v":{"$error":"#VALUE!"}},{"$f":"IFERROR(MID('Data Input'!$A94,AL48+2,2),\"\")","v":""},"","3",{"$f":"FIND(\" \"&AO48, 'Data Input'!$A94,AL48+1)","v":{"$error":"#VALUE!"}},{"$f":"IFERROR(MID('Data Input'!$A94,AP48+2,2),\"\")","v":""},"","3",{"$f":"FIND(\" \"&AS48, 'Data Input'!$A94,AP48+1)","v":{"$error":"#VALUE!"}},{"$f":"IFERROR(MID('Data Input'!$A94,AT48+2,2),\"\")","v":""},"","4",{"$f":"FIND(\" \"&AW48, 'Data Input'!$A94,AT48+1)","v":{"$error":"#VALUE!"}},{"$f":"IFERROR(MID('Data Input'!$A94,AX48+2,2),\"\")","v":""},"","4",{"$f":"FIND(\" \"&BA48, 'Data Input'!$A94,AX48+1)","v":{"$error":"#VALUE!"}},{"$f":"IFERROR(MID('Data Input'!$A94,BB48+2,2),\"\")","v":""},"","4",{"$f":"FIND(\" \"&BE48, 'Data Input'!$A94,BB48+1)","v":{"$error":"#VALUE!"}},{"$f":"IFERROR(MID('Data Input'!$A94,BF48+2,2),\"\")","v":""},"","4",{"$f":"FIND(\" \"&BI48, 'Data Input'!$A94,BF48+1)","v":{"$error":"#VALUE!"}},{"$f":"IFERROR(MID('Data Input'!$A94,BJ48+2,2),\"\")","v":""},"","5",{"$f":"FIND(\" \"&BM48, 'Data Input'!$A94,BJ48+1)","v":{"$error":"#VALUE!"}},{"$f":"IFERROR(MID('Data Input'!$A94,BN48+2,2),\"\")","v":""},"","5",{"$f":"FIND(\" \"&BQ48, 'Data Input'!$A94,BN48+1)","v":{"$error":"#VALUE!"}},{"$f":"IFERROR(MID('Data Input'!$A94,BR48+2,2),\"\")","v":""},"","5",{"$f":"FIND(\" \"&BU48, 'Data Input'!$A94,BR48+1)","v":{"$error":"#VALUE!"}},{"$f":"IFERROR(MID('Data Input'!$A94,BV48+2,2),\"\")","v":""},"","5",{"$f":"FIND(\" \"&BY48, 'Data Input'!$A94,BV48+1)","v":{"$error":"#VALUE!"}},{"$f":"IFERROR(MID('Data Input'!$A94,BZ48+2,2),\"\")","v":""},"","6",{"$f":"FIND(\" \"&CC48, 'Data Input'!$A94,BZ48+1)","v":{"$error":"#VALUE!"}},{"$f":"IFERROR(MID('Data Input'!$A94,CD48+2,2),\"\")","v":""},"","6",{"$f":"FIND(\" \"&CG48, 'Data Input'!$A94,CD48+1)","v":{"$error":"#VALUE!"}},{"$f":"IFERROR(MID('Data Input'!$A94,CH48+2,2),\"\")","v":""},"","6",{"$f":"FIND(\" \"&CK48, 'Data Input'!$A94,CH48+1)","v":{"$error":"#VALUE!"}},{"$f":"IFERROR(MID('Data Input'!$A94,CL48+2,2),\"\")","v":""},"","6",{"$f":"FIND(\" \"&CO48, 'Data Input'!$A94,CL48+1)","v":{"$error":"#VALUE!"}},{"$f":"IFERROR(MID('Data Input'!$A94,CP48+2,2),\"\")","v":""},""]
["1",{"$f":"FIND(\" \"&A49, 'Data Input'!$A96)","v":{"$error":"#VALUE!"}},{"$f":"IFERROR(MID('Data Input'!$A96,B49+2,2),\"\")","v":""},"","1",{"$f":"FIND(\" \"&E49, 'Data Input'!$A96,B49+1)","v":{"$error":"#VALUE!"}},{"$f":"IFERROR(MID('Data Input'!$A96,F49+2,2),\"\")","v":""},"","1",{"$f":"FIND(\" \"&I49, 'Data Input'!$A96,F49+1)","v":{"$error":"#VALUE!"}},{"$f":"IFERROR(MID('Data Input'!$A96,J49+2,2),\"\")","v":""},"","1",{"$f":"FIND(\" \"&M49, 'Data Input'!$A96,J49+1)","v":{"$error":"#VALUE!"}},{"$f":"IFERROR(MID('Data Input'!$A96,N49+2,2),\"\")","v":""},"","2",{"$f":"FIND(\" \"&Q49, 'Data Input'!$A96,N49+1)","v":{"$error":"#VALUE!"}},{"$f":"IFERROR(MID('Data Input'!$A96,R49+2,2),\"\")","v":""},"","2",{"$f":"FIND(\" \"&U49, 'Data Input'!$A96,R49+1)","v":{"$error":"#VALUE!"}},{"$f":"IFERROR(MID('Data Input'!$A96,V49+2,2),\"\")","v":""},"","2",{"$f":"FIND(\" \"&Y49, 'Data Input'!$A96,V49+1)","v":{"$error":"#VALUE!"}},{"$f":"IFERROR(MID('Data Input'!$A96,Z49+2,2),\"\")","v":""},"","2",{"$f":"FIND(\" \"&AC49, 'Data Input'!$A96,Z49+1)","v":{"$error":"#VALUE!"}},{"$f":"IFERROR(MID('Data Input'!$A96,AD49+2,2),\"\")","v":""},"","3",{"$f":"FIND(\" \"&AG49, 'Data Input'!$A96,AD49+1)","v":{"$error":"#VALUE!"}},{"$f":"IFERROR(MID('Data Input'!$A96,AH49+2,2),\"\")","v":""},"","3",{"$f":"FIND(\" \"&AK49, 'Data Input'!$A96,AH49+1)","v":{"$error":"#VALUE!"}},{"$f":"IFERROR(MID('Data Input'!$A96,AL49+2,2),\"\")","v":""},"","3",{"$f":"FIND(\" \"&AO49, 'Data Input'!$A96,AL49+1)","v":{"$error":"#VALUE!"}},{"$f":"IFERROR(MID('Data Input'!$A96,AP49+2,2),\"\")","v":""},"","3",{"$f":"FIND(\" \"&AS49, 'Data Input'!$A96,AP49+1)","v":{"$error":"#VALUE!"}},{"$f":"IFERROR(MID('Data Input'!$A96,AT49+2,2),\"\")","v":""},"","4",{"$f":"FIND(\" \"&AW49, 'Data Input'!$A96,AT49+1)","v":{"$error":"#VALUE!"}},{"$f":"IFERROR(MID('Data Input'!$A96,AX49+2,2),\"\")","v":""},"","4",{"$f":"FIND(\" \"&BA49, 'Data Input'!$A96,AX49+1)","v":{"$error":"#VALUE!"}},{"$f":"IFERROR(MID('Data Input'!$A96,BB49+2,2),\"\")","v":""},"","4",{"$f":"FIND(\" \"&BE49, 'Data Input'!$A96,BB49+1)","v":{"$error":"#VALUE!"}},{"$f":"IFERROR(MID('Data Input'!$A96,BF49+2,2),\"\")","v":""},"","4",{"$f":"FIND(\" \"&BI49, 'Data Input'!$A96,BF49+1)","v":{"$error":"#VALUE!"}},{"$f":"IFERROR(MID('Data Input'!$A96,BJ49+2,2),\"\")","v":""},"","5",{"$f":"FIND(\" \"&BM49, 'Data Input'!$A96,BJ49+1)","v":{"$error":"#VALUE!"}},{"$f":"IFERROR(MID('Data Input'!$A96,BN49+2,2),\"\")","v":""},"","5",{"$f":"FIND(\" \"&BQ49, 'Data Input'!$A96,BN49+1)","v":{"$error":"#VALUE!"}},{"$f":"IFERROR(MID('Data Input'!$A96,BR49+2,2),\"\")","v":""},"","5",{"$f":"FIND(\" \"&BU49, 'Data Input'!$A96,BR49+1)","v":{"$error":"#VALUE!"}},{"$f":"IFERROR(MID('Data Input'!$A96,BV49+2,2),\"\")","v":""},"","5",{"$f":"FIND(\" \"&BY49, 'Data Input'!$A96,BV49+1)","v":{"$error":"#VALUE!"}},{"$f":"IFERROR(MID('Data Input'!$A96,BZ49+2,2),\"\")","v":""},"","6",{"$f":"FIND(\" \"&CC49, 'Data Input'!$A96,BZ49+1)","v":{"$error":"#VALUE!"}},{"$f":"IFERROR(MID('Data Input'!$A96,CD49+2,2),\"\")","v":""},"","6",{"$f":"FIND(\" \"&CG49, 'Data Input'!$A96,CD49+1)","v":{"$error":"#VALUE!"}},{"$f":"IFERROR(MID('Data Input'!$A96,CH49+2,2),\"\")","v":""},"","6",{"$f":"FIND(\" \"&CK49, 'Data Input'!$A96,CH49+1)","v":{"$error":"#VALUE!"}},{"$f":"IFERROR(MID('Data Input'!$A96,CL49+2,2),\"\")","v":""},"","6",{"$f":"FIND(\" \"&CO49, 'Data Input'!$A96,CL49+1)","v":{"$error":"#VALUE!"}},{"$f":"IFERROR(MID('Data Input'!$A96,CP49+2,2),\"\")","v":""},""]
["1",{"$f":"FIND(\" \"&A50, 'Data Input'!$A98)","v":{"$error":"#VALUE!"}},{"$f":"IFERROR(MID('Data Input'!$A98,B50+2,2),\"\")","v":""},"","1",{"$f":"FIND(\" \"&E50, 'Data Input'!$A98,B50+1)","v":{"$error":"#VALUE!"}},{"$f":"IFERROR(MID('Data Input'!$A98,F50+2,2),\"\")","v":""},"","1",{"$f":"FIND(\" \"&I50, 'Data Input'!$A98,F50+1)","v":{"$error":"#VALUE!"}},{"$f":"IFERROR(MID('Data Input'!$A98,J50+2,2),\"\")","v":""},"","1",{"$f":"FIND(\" \"&M50, 'Data Input'!$A98,J50+1)","v":{"$error":"#VALUE!"}},{"$f":"IFERROR(MID('Data Input'!$A98,N50+2,2),\"\")","v":""},"","2",{"$f":"FIND(\" \"&Q50, 'Data Input'!$A98,N50+1)","v":{"$error":"#VALUE!"}},{"$f":"IFERROR(MID('Data Input'!$A98,R50+2,2),\"\")","v":""},"","2",{"$f":"FIND(\" \"&U50, 'Data Input'!$A98,R50+1)","v":{"$error":"#VALUE!"}},{"$f":"IFERROR(MID('Data Input'!$A98,V50+2,2),\"\")","v":""},"","2",{"$f":"FIND(\" \"&Y50, 'Data Input'!$A98,V50+1)","v":{"$error":"#VALUE!"}},{"$f":"IFERROR(MID('Data Input'!$A98,Z50+2,2),\"\")","v":""},"","2",{"$f":"FIND(\" \"&AC50, 'Data Input'!$A98,Z50+1)","v":{"$error":"#VALUE!"}},{"$f":"IFERROR(MID('Data Input'!$A98,AD50+2,2),\"\")","v":""},"","3",{"$f":"FIND(\" \"&AG50, 'Data Input'!$A98,AD50+1)","v":{"$error":"#VALUE!"}},{"$f":"IFERROR(MID('Data Input'!$A98,AH50+2,2),\"\")","v":""},"","3",{"$f":"FIND(\" \"&AK50, 'Data Input'!$A98,AH50+1)","v":{"$error":"#VALUE!"}},{"$f":"IFERROR(MID('Data Input'!$A98,AL50+2,2),\"\")","v":""},"","3",{"$f":"FIND(\" \"&AO50, 'Data Input'!$A98,AL50+1)","v":{"$error":"#VALUE!"}},{"$f":"IFERROR(MID('Data Input'!$A98,AP50+2,2),\"\")","v":""},"","3",{"$f":"FIND(\" \"&AS50, 'Data Input'!$A98,AP50+1)","v":{"$error":"#VALUE!"}},{"$f":"IFERROR(MID('Data Input'!$A98,AT50+2,2),\"\")","v":""},"","4",{"$f":"FIND(\" \"&AW50, 'Data Input'!$A98,AT50+1)","v":{"$error":"#VALUE!"}},{"$f":"IFERROR(MID('Data Input'!$A98,AX50+2,2),\"\")","v":""},"","4",{"$f":"FIND(\" \"&BA50, 'Data Input'!$A98,AX50+1)","v":{"$error":"#VALUE!"}},{"$f":"IFERROR(MID('Data Input'!$A98,BB50+2,2),\"\")","v":""},"","4",{"$f":"FIND(\" \"&BE50, 'Data Input'!$A98,BB50+1)","v":{"$error":"#VALUE!"}},{"$f":"IFERROR(MID('Data Input'!$A98,BF50+2,2),\"\")","v":""},"","4",{"$f":"FIND(\" \"&BI50, 'Data Input'!$A98,BF50+1)","v":{"$error":"#VALUE!"}},{"$f":"IFERROR(MID('Data Input'!$A98,BJ50+2,2),\"\")","v":""},"","5",{"$f":"FIND(\" \"&BM50, 'Data Input'!$A98,BJ50+1)","v":{"$error":"#VALUE!"}},{"$f":"IFERROR(MID('Data Input'!$A98,BN50+2,2),\"\")","v":""},"","5",{"$f":"FIND(\" \"&BQ50, 'Data Input'!$A98,BN50+1)","v":{"$error":"#VALUE!"}},{"$f":"IFERROR(MID('Data Input'!$A98,BR50+2,2),\"\")","v":""},"","5",{"$f":"FIND(\" \"&BU50, 'Data Input'!$A98,BR50+1)","v":{"$error":"#VALUE!"}},{"$f":"IFERROR(MID('Data Input'!$A98,BV50+2,2),\"\")","v":""},"","5",{"$f":"FIND(\" \"&BY50, 'Data Input'!$A98,BV50+1)","v":{"$error":"#VALUE!"}},{"$f":"IFERROR(MID('Data Input'!$A98,BZ50+2,2),\"\")","v":""},"","6",{"$f":"FIND(\" \"&CC50, 'Data Input'!$A98,BZ50+1)","v":{"$error":"#VALUE!"}},{"$f":"IFERROR(MID('Data Input'!$A98,CD50+2,2),\"\")","v":""},"","6",{"$f":"FIND(\" \"&CG50, 'Data Input'!$A98,CD50+1)","v":{"$error":"#VALUE!"}},{"$f":"IFERROR(MID('Data Input'!$A98,CH50+2,2),\"\")","v":""},"","6",{"$f":"FIND(\" \"&CK50, 'Data Input'!$A98,CH50+1)","v":{"$error":"#VALUE!"}},{"$f":"IFERROR(MID('Data Input'!$A98,CL50+2,2),\"\")","v":""},"","6",{"$f":"FIND(\" \"&CO50, 'Data Input'!$A98,CL50+1)","v":{"$error":"#VALUE!"}},{"$f":"IFERROR(MID('Data Input'!$A98,CP50+2,2),\"\")","v":""},""]
["1",{"$f":"FIND(\" \"&A51, 'Data Input'!$A100)","v":{"$error":"#VALUE!"}},{"$f":"IFERROR(MID('Data Input'!$A100,B51+2,2),\"\")","v":""},"","1",{"$f":"FIND(\" \"&E51, 'Data Input'!$A100,B51+1)","v":{"$error":"#VALUE!"}},{"$f":"IFERROR(MID('Data Input'!$A100,F51+2,2),\"\")","v":""},"","1",{"$f":"FIND(\" \"&I51, 'Data Input'!$A100,F51+1)","v":{"$error":"#VALUE!"}},{"$f":"IFERROR(MID('Data Input'!$A100,J51+2,2),\"\")","v":""},"","1",{"$f":"FIND(\" \"&M51, 'Data Input'!$A100,J51+1)","v":{"$error":"#VALUE!"}},{"$f":"IFERROR(MID('Data Input'!$A100,N51+2,2),\"\")","v":""},"","2",{"$f":"FIND(\" \"&Q51, 'Data Input'!$A100,N51+1)","v":{"$error":"#VALUE!"}},{"$f":"IFERROR(MID('Data Input'!$A100,R51+2,2),\"\")","v":""},"","2",{"$f":"FIND(\" \"&U51, 'Data Input'!$A100,R51+1)","v":{"$error":"#VALUE!"}},{"$f":"IFERROR(MID('Data Input'!$A100,V51+2,2),\"\")","v":""},"","2",{"$f":"FIND(\" \"&Y51, 'Data Input'!$A100,V51+1)","v":{"$error":"#VALUE!"}},{"$f":"IFERROR(MID('Data Input'!$A100,Z51+2,2),\"\")","v":""},"","2",{"$f":"FIND(\" \"&AC51, 'Data Input'!$A100,Z51+1)","v":{"$error":"#VALUE!"}},{"$f":"IFERROR(MID('Data Input'!$A100,AD51+2,2),\"\")","v":""},"","3",{"$f":"FIND(\" \"&AG51, 'Data Input'!$A100,AD51+1)","v":{"$error":"#VALUE!"}},{"$f":"IFERROR(MID('Data Input'!$A100,AH51+2,2),\"\")","v":""},"","3",{"$f":"FIND(\" \"&AK51, 'Data Input'!$A100,AH51+1)","v":{"$error":"#VALUE!"}},{"$f":"IFERROR(MID('Data Input'!$A100,AL51+2,2),\"\")","v":""},"","3",{"$f":"FIND(\" \"&AO51, 'Data Input'!$A100,AL51+1)","v":{"$error":"#VALUE!"}},{"$f":"IFERROR(MID('Data Input'!$A100,AP51+2,2),\"\")","v":""},"","3",{"$f":"FIND(\" \"&AS51, 'Data Input'!$A100,AP51+1)","v":{"$error":"#VALUE!"}},{"$f":"IFERROR(MID('Data Input'!$A100,AT51+2,2),\"\")","v":""},"","4",{"$f":"FIND(\" \"&AW51, 'Data Input'!$A100,AT51+1)","v":{"$error":"#VALUE!"}},{"$f":"IFERROR(MID('Data Input'!$A100,AX51+2,2),\"\")","v":""},"","4",{"$f":"FIND(\" \"&BA51, 'Data Input'!$A100,AX51+1)","v":{"$error":"#VALUE!"}},{"$f":"IFERROR(MID('Data Input'!$A100,BB51+2,2),\"\")","v":""},"","4",{"$f":"FIND(\" \"&BE51, 'Data Input'!$A100,BB51+1)","v":{"$error":"#VALUE!"}},{"$f":"IFERROR(MID('Data Input'!$A100,BF51+2,2),\"\")","v":""},"","4",{"$f":"FIND(\" \"&BI51, 'Data Input'!$A100,BF51+1)","v":{"$error":"#VALUE!"}},{"$f":"IFERROR(MID('Data Input'!$A100,BJ51+2,2),\"\")","v":""},"","5",{"$f":"FIND(\" \"&BM51, 'Data Input'!$A100,BJ51+1)","v":{"$error":"#VALUE!"}},{"$f":"IFERROR(MID('Data Input'!$A100,BN51+2,2),\"\")","v":""},"","5",{"$f":"FIND(\" \"&BQ51, 'Data Input'!$A100,BN51+1)","v":{"$error":"#VALUE!"}},{"$f":"IFERROR(MID('Data Input'!$A100,BR51+2,2),\"\")","v":""},"","5",{"$f":"FIND(\" \"&BU51, 'Data Input'!$A100,BR51+1)","v":{"$error":"#VALUE!"}},{"$f":"IFERROR(MID('Data Input'!$A100,BV51+2,2),\"\")","v":""},"","5",{"$f":"FIND(\" \"&BY51, 'Data Input'!$A100,BV51+1)","v":{"$error":"#VALUE!"}},{"$f":"IFERROR(MID('Data Input'!$A100,BZ51+2,2),\"\")","v":""},"","6",{"$f":"FIND(\" \"&CC51, 'Data Input'!$A100,BZ51+1)","v":{"$error":"#VALUE!"}},{"$f":"IFERROR(MID('Data Input'!$A100,CD51+2,2),\"\")","v":""},"","6",{"$f":"FIND(\" \"&CG51, 'Data Input'!$A100,CD51+1)","v":{"$error":"#VALUE!"}},{"$f":"IFERROR(MID('Data Input'!$A100,CH51+2,2),\"\")","v":""},"","6",{"$f":"FIND(\" \"&CK51, 'Data Input'!$A100,CH51+1)","v":{"$error":"#VALUE!"}},{"$f":"IFERROR(MID('Data Input'!$A100,CL51+2,2),\"\")","v":""},"","6",{"$f":"FIND(\" \"&CO51, 'Data Input'!$A100,CL51+1)","v":{"$error":"#VALUE!"}},{"$f":"IFERROR(MID('Data Input'!$A100,CP51+2,2),\"\")","v":""},""]
["1",{"$f":"FIND(\" \"&A52, 'Data Input'!$A102)","v":{"$error":"#VALUE!"}},{"$f":"IFERROR(MID('Data Input'!$A102,B52+2,2),\"\")","v":""},"","1",{"$f":"FIND(\" \"&E52, 'Data Input'!$A102,B52+1)","v":{"$error":"#VALUE!"}},{"$f":"IFERROR(MID('Data Input'!$A102,F52+2,2),\"\")","v":""},"","1",{"$f":"FIND(\" \"&I52, 'Data Input'!$A102,F52+1)","v":{"$error":"#VALUE!"}},{"$f":"IFERROR(MID('Data Input'!$A102,J52+2,2),\"\")","v":""},"","1",{"$f":"FIND(\" \"&M52, 'Data Input'!$A102,J52+1)","v":{"$error":"#VALUE!"}},{"$f":"IFERROR(MID('Data Input'!$A102,N52+2,2),\"\")","v":""},"","2",{"$f":"FIND(\" \"&Q52, 'Data Input'!$A102,N52+1)","v":{"$error":"#VALUE!"}},{"$f":"IFERROR(MID('Data Input'!$A102,R52+2,2),\"\")","v":""},"","2",{"$f":"FIND(\" \"&U52, 'Data Input'!$A102,R52+1)","v":{"$error":"#VALUE!"}},{"$f":"IFERROR(MID('Data Input'!$A102,V52+2,2),\"\")","v":""},"","2",{"$f":"FIND(\" \"&Y52, 'Data Input'!$A102,V52+1)","v":{"$error":"#VALUE!"}},{"$f":"IFERROR(MID('Data Input'!$A102,Z52+2,2),\"\")","v":""},"","2",{"$f":"FIND(\" \"&AC52, 'Data Input'!$A102,Z52+1)","v":{"$error":"#VALUE!"}},{"$f":"IFERROR(MID('Data Input'!$A102,AD52+2,2),\"\")","v":""},"","3",{"$f":"FIND(\" \"&AG52, 'Data Input'!$A102,AD52+1)","v":{"$error":"#VALUE!"}},{"$f":"IFERROR(MID('Data Input'!$A102,AH52+2,2),\"\")","v":""},"","3",{"$f":"FIND(\" \"&AK52, 'Data Input'!$A102,AH52+1)","v":{"$error":"#VALUE!"}},{"$f":"IFERROR(MID('Data Input'!$A102,AL52+2,2),\"\")","v":""},"","3",{"$f":"FIND(\" \"&AO52, 'Data Input'!$A102,AL52+1)","v":{"$error":"#VALUE!"}},{"$f":"IFERROR(MID('Data Input'!$A102,AP52+2,2),\"\")","v":""},"","3",{"$f":"FIND(\" \"&AS52, 'Data Input'!$A102,AP52+1)","v":{"$error":"#VALUE!"}},{"$f":"IFERROR(MID('Data Input'!$A102,AT52+2,2),\"\")","v":""},"","4",{"$f":"FIND(\" \"&AW52, 'Data Input'!$A102,AT52+1)","v":{"$error":"#VALUE!"}},{"$f":"IFERROR(MID('Data Input'!$A102,AX52+2,2),\"\")","v":""},"","4",{"$f":"FIND(\" \"&BA52, 'Data Input'!$A102,AX52+1)","v":{"$error":"#VALUE!"}},{"$f":"IFERROR(MID('Data Input'!$A102,BB52+2,2),\"\")","v":""},"","4",{"$f":"FIND(\" \"&BE52, 'Data Input'!$A102,BB52+1)","v":{"$error":"#VALUE!"}},{"$f":"IFERROR(MID('Data Input'!$A102,BF52+2,2),\"\")","v":""},"","4",{"$f":"FIND(\" \"&BI52, 'Data Input'!$A102,BF52+1)","v":{"$error":"#VALUE!"}},{"$f":"IFERROR(MID('Data Input'!$A102,BJ52+2,2),\"\")","v":""},"","5",{"$f":"FIND(\" \"&BM52, 'Data Input'!$A102,BJ52+1)","v":{"$error":"#VALUE!"}},{"$f":"IFERROR(MID('Data Input'!$A102,BN52+2,2),\"\")","v":""},"","5",{"$f":"FIND(\" \"&BQ52, 'Data Input'!$A102,BN52+1)","v":{"$error":"#VALUE!"}},{"$f":"IFERROR(MID('Data Input'!$A102,BR52+2,2),\"\")","v":""},"","5",{"$f":"FIND(\" \"&BU52, 'Data Input'!$A102,BR52+1)","v":{"$error":"#VALUE!"}},{"$f":"IFERROR(MID('Data Input'!$A102,BV52+2,2),\"\")","v":""},"","5",{"$f":"FIND(\" \"&BY52, 'Data Input'!$A102,BV52+1)","v":{"$error":"#VALUE!"}},{"$f":"IFERROR(MID('Data Input'!$A102,BZ52+2,2),\"\")","v":""},"","6",{"$f":"FIND(\" \"&CC52, 'Data Input'!$A102,BZ52+1)","v":{"$error":"#VALUE!"}},{"$f":"IFERROR(MID('Data Input'!$A102,CD52+2,2),\"\")","v":""},"","6",{"$f":"FIND(\" \"&CG52, 'Data Input'!$A102,CD52+1)","v":{"$error":"#VALUE!"}},{"$f":"IFERROR(MID('Data Input'!$A102,CH52+2,2),\"\")","v":""},"","6",{"$f":"FIND(\" \"&CK52, 'Data Input'!$A102,CH52+1)","v":{"$error":"#VALUE!"}},{"$f":"IFERROR(MID('Data Input'!$A102,CL52+2,2),\"\")","v":""},"","6",{"$f":"FIND(\" \"&CO52, 'Data Input'!$A102,CL52+1)","v":{"$error":"#VALUE!"}},{"$f":"IFERROR(MID('Data Input'!$A102,CP52+2,2),\"\")","v":""},""]
["1",{"$f":"FIND(\" \"&A53, 'Data Input'!$A104)","v":{"$error":"#VALUE!"}},{"$f":"IFERROR(MID('Data Input'!$A104,B53+2,2),\"\")","v":""},"","1",{"$f":"FIND(\" \"&E53, 'Data Input'!$A104,B53+1)","v":{"$error":"#VALUE!"}},{"$f":"IFERROR(MID('Data Input'!$A104,F53+2,2),\"\")","v":""},"","1",{"$f":"FIND(\" \"&I53, 'Data Input'!$A104,F53+1)","v":{"$error":"#VALUE!"}},{"$f":"IFERROR(MID('Data Input'!$A104,J53+2,2),\"\")","v":""},"","1",{"$f":"FIND(\" \"&M53, 'Data Input'!$A104,J53+1)","v":{"$error":"#VALUE!"}},{"$f":"IFERROR(MID('Data Input'!$A104,N53+2,2),\"\")","v":""},"","2",{"$f":"FIND(\" \"&Q53, 'Data Input'!$A104,N53+1)","v":{"$error":"#VALUE!"}},{"$f":"IFERROR(MID('Data Input'!$A104,R53+2,2),\"\")","v":""},"","2",{"$f":"FIND(\" \"&U53, 'Data Input'!$A104,R53+1)","v":{"$error":"#VALUE!"}},{"$f":"IFERROR(MID('Data Input'!$A104,V53+2,2),\"\")","v":""},"","2",{"$f":"FIND(\" \"&Y53, 'Data Input'!$A104,V53+1)","v":{"$error":"#VALUE!"}},{"$f":"IFERROR(MID('Data Input'!$A104,Z53+2,2),\"\")","v":""},"","2",{"$f":"FIND(\" \"&AC53, 'Data Input'!$A104,Z53+1)","v":{"$error":"#VALUE!"}},{"$f":"IFERROR(MID('Data Input'!$A104,AD53+2,2),\"\")","v":""},"","3",{"$f":"FIND(\" \"&AG53, 'Data Input'!$A104,AD53+1)","v":{"$error":"#VALUE!"}},{"$f":"IFERROR(MID('Data Input'!$A104,AH53+2,2),\"\")","v":""},"","3",{"$f":"FIND(\" \"&AK53, 'Data Input'!$A104,AH53+1)","v":{"$error":"#VALUE!"}},{"$f":"IFERROR(MID('Data Input'!$A104,AL53+2,2),\"\")","v":""},"","3",{"$f":"FIND(\" \"&AO53, 'Data Input'!$A104,AL53+1)","v":{"$error":"#VALUE!"}},{"$f":"IFERROR(MID('Data Input'!$A104,AP53+2,2),\"\")","v":""},"","3",{"$f":"FIND(\" \"&AS53, 'Data Input'!$A104,AP53+1)","v":{"$error":"#VALUE!"}},{"$f":"IFERROR(MID('Data Input'!$A104,AT53+2,2),\"\")","v":""},"","4",{"$f":"FIND(\" \"&AW53, 'Data Input'!$A104,AT53+1)","v":{"$error":"#VALUE!"}},{"$f":"IFERROR(MID('Data Input'!$A104,AX53+2,2),\"\")","v":""},"","4",{"$f":"FIND(\" \"&BA53, 'Data Input'!$A104,AX53+1)","v":{"$error":"#VALUE!"}},{"$f":"IFERROR(MID('Data Input'!$A104,BB53+2,2),\"\")","v":""},"","4",{"$f":"FIND(\" \"&BE53, 'Data Input'!$A104,BB53+1)","v":{"$error":"#VALUE!"}},{"$f":"IFERROR(MID('Data Input'!$A104,BF53+2,2),\"\")","v":""},"","4",{"$f":"FIND(\" \"&BI53, 'Data Input'!$A104,BF53+1)","v":{"$error":"#VALUE!"}},{"$f":"IFERROR(MID('Data Input'!$A104,BJ53+2,2),\"\")","v":""},"","5",{"$f":"FIND(\" \"&BM53, 'Data Input'!$A104,BJ53+1)","v":{"$error":"#VALUE!"}},{"$f":"IFERROR(MID('Data Input'!$A104,BN53+2,2),\"\")","v":""},"","5",{"$f":"FIND(\" \"&BQ53, 'Data Input'!$A104,BN53+1)","v":{"$error":"#VALUE!"}},{"$f":"IFERROR(MID('Data Input'!$A104,BR53+2,2),\"\")","v":""},"","5",{"$f":"FIND(\" \"&BU53, 'Data Input'!$A104,BR53+1)","v":{"$error":"#VALUE!"}},{"$f":"IFERROR(MID('Data Input'!$A104,BV53+2,2),\"\")","v":""},"","5",{"$f":"FIND(\" \"&BY53, 'Data Input'!$A104,BV53+1)","v":{"$error":"#VALUE!"}},{"$f":"IFERROR(MID('Data Input'!$A104,BZ53+2,2),\"\")","v":""},"","6",{"$f":"FIND(\" \"&CC53, 'Data Input'!$A104,BZ53+1)","v":{"$error":"#VALUE!"}},{"$f":"IFERROR(MID('Data Input'!$A104,CD53+2,2),\"\")","v":""},"","6",{"$f":"FIND(\" \"&CG53, 'Data Input'!$A104,CD53+1)","v":{"$error":"#VALUE!"}},{"$f":"IFERROR(MID('Data Input'!$A104,CH53+2,2),\"\")","v":""},"","6",{"$f":"FIND(\" \"&CK53, 'Data Input'!$A104,CH53+1)","v":{"$error":"#VALUE!"}},{"$f":"IFERROR(MID('Data Input'!$A104,CL53+2,2),\"\")","v":""},"","6",{"$f":"FIND(\" \"&CO53, 'Data Input'!$A104,CL53+1)","v":{"$error":"#VALUE!"}},{"$f":"IFERROR(MID('Data Input'!$A104,CP53+2,2),\"\")","v":""},""]
["1",{"$f":"FIND(\" \"&A54, 'Data Input'!$A106)","v":{"$error":"#VALUE!"}},{"$f":"IFERROR(MID('Data Input'!$A106,B54+2,2),\"\")","v":""},"","1",{"$f":"FIND(\" \"&E54, 'Data Input'!$A106,B54+1)","v":{"$error":"#VALUE!"}},{"$f":"IFERROR(MID('Data Input'!$A106,F54+2,2),\"\")","v":""},"","1",{"$f":"FIND(\" \"&I54, 'Data Input'!$A106,F54+1)","v":{"$error":"#VALUE!"}},{"$f":"IFERROR(MID('Data Input'!$A106,J54+2,2),\"\")","v":""},"","1",{"$f":"FIND(\" \"&M54, 'Data Input'!$A106,J54+1)","v":{"$error":"#VALUE!"}},{"$f":"IFERROR(MID('Data Input'!$A106,N54+2,2),\"\")","v":""},"","2",{"$f":"FIND(\" \"&Q54, 'Data Input'!$A106,N54+1)","v":{"$error":"#VALUE!"}},{"$f":"IFERROR(MID('Data Input'!$A106,R54+2,2),\"\")","v":""},"","2",{"$f":"FIND(\" \"&U54, 'Data Input'!$A106,R54+1)","v":{"$error":"#VALUE!"}},{"$f":"IFERROR(MID('Data Input'!$A106,V54+2,2),\"\")","v":""},"","2",{"$f":"FIND(\" \"&Y54, 'Data Input'!$A106,V54+1)","v":{"$error":"#VALUE!"}},{"$f":"IFERROR(MID('Data Input'!$A106,Z54+2,2),\"\")","v":""},"","2",{"$f":"FIND(\" \"&AC54, 'Data Input'!$A106,Z54+1)","v":{"$error":"#VALUE!"}},{"$f":"IFERROR(MID('Data Input'!$A106,AD54+2,2),\"\")","v":""},"","3",{"$f":"FIND(\" \"&AG54, 'Data Input'!$A106,AD54+1)","v":{"$error":"#VALUE!"}},{"$f":"IFERROR(MID('Data Input'!$A106,AH54+2,2),\"\")","v":""},"","3",{"$f":"FIND(\" \"&AK54, 'Data Input'!$A106,AH54+1)","v":{"$error":"#VALUE!"}},{"$f":"IFERROR(MID('Data Input'!$A106,AL54+2,2),\"\")","v":""},"","3",{"$f":"FIND(\" \"&AO54, 'Data Input'!$A106,AL54+1)","v":{"$error":"#VALUE!"}},{"$f":"IFERROR(MID('Data Input'!$A106,AP54+2,2),\"\")","v":""},"","3",{"$f":"FIND(\" \"&AS54, 'Data Input'!$A106,AP54+1)","v":{"$error":"#VALUE!"}},{"$f":"IFERROR(MID('Data Input'!$A106,AT54+2,2),\"\")","v":""},"","4",{"$f":"FIND(\" \"&AW54, 'Data Input'!$A106,AT54+1)","v":{"$error":"#VALUE!"}},{"$f":"IFERROR(MID('Data Input'!$A106,AX54+2,2),\"\")","v":""},"","4",{"$f":"FIND(\" \"&BA54, 'Data Input'!$A106,AX54+1)","v":{"$error":"#VALUE!"}},{"$f":"IFERROR(MID('Data Input'!$A106,BB54+2,2),\"\")","v":""},"","4",{"$f":"FIND(\" \"&BE54, 'Data Input'!$A106,BB54+1)","v":{"$error":"#VALUE!"}},{"$f":"IFERROR(MID('Data Input'!$A106,BF54+2,2),\"\")","v":""},"","4",{"$f":"FIND(\" \"&BI54, 'Data Input'!$A106,BF54+1)","v":{"$error":"#VALUE!"}},{"$f":"IFERROR(MID('Data Input'!$A106,BJ54+2,2),\"\")","v":""},"","5",{"$f":"FIND(\" \"&BM54, 'Data Input'!$A106,BJ54+1)","v":{"$error":"#VALUE!"}},{"$f":"IFERROR(MID('Data Input'!$A106,BN54+2,2),\"\")","v":""},"","5",{"$f":"FIND(\" \"&BQ54, 'Data Input'!$A106,BN54+1)","v":{"$error":"#VALUE!"}},{"$f":"IFERROR(MID('Data Input'!$A106,BR54+2,2),\"\")","v":""},"","5",{"$f":"FIND(\" \"&BU54, 'Data Input'!$A106,BR54+1)","v":{"$error":"#VALUE!"}},{"$f":"IFERROR(MID('Data Input'!$A106,BV54+2,2),\"\")","v":""},"","5",{"$f":"FIND(\" \"&BY54, 'Data Input'!$A106,BV54+1)","v":{"$error":"#VALUE!"}},{"$f":"IFERROR(MID('Data Input'!$A106,BZ54+2,2),\"\")","v":""},"","6",{"$f":"FIND(\" \"&CC54, 'Data Input'!$A106,BZ54+1)","v":{"$error":"#VALUE!"}},{"$f":"IFERROR(MID('Data Input'!$A106,CD54+2,2),\"\")","v":""},"","6",{"$f":"FIND(\" \"&CG54, 'Data Input'!$A106,CD54+1)","v":{"$error":"#VALUE!"}},{"$f":"IFERROR(MID('Data Input'!$A106,CH54+2,2),\"\")","v":""},"","6",{"$f":"FIND(\" \"&CK54, 'Data Input'!$A106,CH54+1)","v":{"$error":"#VALUE!"}},{"$f":"IFERROR(MID('Data Input'!$A106,CL54+2,2),\"\")","v":""},"","6",{"$f":"FIND(\" \"&CO54, 'Data Input'!$A106,CL54+1)","v":{"$error":"#VALUE!"}},{"$f":"IFERROR(MID('Data Input'!$A106,CP54+2,2),\"\")","v":""},""]
["1",{"$f":"FIND(\" \"&A55, 'Data Input'!$A108)","v":{"$error":"#VALUE!"}},{"$f":"IFERROR(MID('Data Input'!$A108,B55+2,2),\"\")","v":""},"","1",{"$f":"FIND(\" \"&E55, 'Data Input'!$A108,B55+1)","v":{"$error":"#VALUE!"}},{"$f":"IFERROR(MID('Data Input'!$A108,F55+2,2),\"\")","v":""},"","1",{"$f":"FIND(\" \"&I55, 'Data Input'!$A108,F55+1)","v":{"$error":"#VALUE!"}},{"$f":"IFERROR(MID('Data Input'!$A108,J55+2,2),\"\")","v":""},"","1",{"$f":"FIND(\" \"&M55, 'Data Input'!$A108,J55+1)","v":{"$error":"#VALUE!"}},{"$f":"IFERROR(MID('Data Input'!$A108,N55+2,2),\"\")","v":""},"","2",{"$f":"FIND(\" \"&Q55, 'Data Input'!$A108,N55+1)","v":{"$error":"#VALUE!"}},{"$f":"IFERROR(MID('Data Input'!$A108,R55+2,2),\"\")","v":""},"","2",{"$f":"FIND(\" \"&U55, 'Data Input'!$A108,R55+1)","v":{"$error":"#VALUE!"}},{"$f":"IFERROR(MID('Data Input'!$A108,V55+2,2),\"\")","v":""},"","2",{"$f":"FIND(\" \"&Y55, 'Data Input'!$A108,V55+1)","v":{"$error":"#VALUE!"}},{"$f":"IFERROR(MID('Data Input'!$A108,Z55+2,2),\"\")","v":""},"","2",{"$f":"FIND(\" \"&AC55, 'Data Input'!$A108,Z55+1)","v":{"$error":"#VALUE!"}},{"$f":"IFERROR(MID('Data Input'!$A108,AD55+2,2),\"\")","v":""},"","3",{"$f":"FIND(\" \"&AG55, 'Data Input'!$A108,AD55+1)","v":{"$error":"#VALUE!"}},{"$f":"IFERROR(MID('Data Input'!$A108,AH55+2,2),\"\")","v":""},"","3",{"$f":"FIND(\" \"&AK55, 'Data Input'!$A108,AH55+1)","v":{"$error":"#VALUE!"}},{"$f":"IFERROR(MID('Data Input'!$A108,AL55+2,2),\"\")","v":""},"","3",{"$f":"FIND(\" \"&AO55, 'Data Input'!$A108,AL55+1)","v":{"$error":"#VALUE!"}},{"$f":"IFERROR(MID('Data Input'!$A108,AP55+2,2),\"\")","v":""},"","3",{"$f":"FIND(\" \"&AS55, 'Data Input'!$A108,AP55+1)","v":{"$error":"#VALUE!"}},{"$f":"IFERROR(MID('Data Input'!$A108,AT55+2,2),\"\")","v":""},"","4",{"$f":"FIND(\" \"&AW55, 'Data Input'!$A108,AT55+1)","v":{"$error":"#VALUE!"}},{"$f":"IFERROR(MID('Data Input'!$A108,AX55+2,2),\"\")","v":""},"","4",{"$f":"FIND(\" \"&BA55, 'Data Input'!$A108,AX55+1)","v":{"$error":"#VALUE!"}},{"$f":"IFERROR(MID('Data Input'!$A108,BB55+2,2),\"\")","v":""},"","4",{"$f":"FIND(\" \"&BE55, 'Data Input'!$A108,BB55+1)","v":{"$error":"#VALUE!"}},{"$f":"IFERROR(MID('Data Input'!$A108,BF55+2,2),\"\")","v":""},"","4",{"$f":"FIND(\" \"&BI55, 'Data Input'!$A108,BF55+1)","v":{"$error":"#VALUE!"}},{"$f":"IFERROR(MID('Data Input'!$A108,BJ55+2,2),\"\")","v":""},"","5",{"$f":"FIND(\" \"&BM55, 'Data Input'!$A108,BJ55+1)","v":{"$error":"#VALUE!"}},{"$f":"IFERROR(MID('Data Input'!$A108,BN55+2,2),\"\")","v":""},"","5",{"$f":"FIND(\" \"&BQ55, 'Data Input'!$A108,BN55+1)","v":{"$error":"#VALUE!"}},{"$f":"IFERROR(MID('Data Input'!$A108,BR55+2,2),\"\")","v":""},"","5",{"$f":"FIND(\" \"&BU55, 'Data Input'!$A108,BR55+1)","v":{"$error":"#VALUE!"}},{"$f":"IFERROR(MID('Data Input'!$A108,BV55+2,2),\"\")","v":""},"","5",{"$f":"FIND(\" \"&BY55, 'Data Input'!$A108,BV55+1)","v":{"$error":"#VALUE!"}},{"$f":"IFERROR(MID('Data Input'!$A108,BZ55+2,2),\"\")","v":""},"","6",{"$f":"FIND(\" \"&CC55, 'Data Input'!$A108,BZ55+1)","v":{"$error":"#VALUE!"}},{"$f":"IFERROR(MID('Data Input'!$A108,CD55+2,2),\"\")","v":""},"","6",{"$f":"FIND(\" \"&CG55, 'Data Input'!$A108,CD55+1)","v":{"$error":"#VALUE!"}},{"$f":"IFERROR(MID('Data Input'!$A108,CH55+2,2),\"\")","v":""},"","6",{"$f":"FIND(\" \"&CK55, 'Data Input'!$A108,CH55+1)","v":{"$error":"#VALUE!"}},{"$f":"IFERROR(MID('Data Input'!$A108,CL55+2,2),\"\")","v":""},"","6",{"$f":"FIND(\" \"&CO55, 'Data Input'!$A108,CL55+1)","v":{"$error":"#VALUE!"}},{"$f":"IFERROR(MID('Data Input'!$A108,CP55+2,2),\"\")","v":""},""]
["1",{"$f":"FIND(\" \"&A56, 'Data Input'!$A110)","v":{"$error":"#VALUE!"}},{"$f":"IFERROR(MID('Data Input'!$A110,B56+2,2),\"\")","v":""},"","1",{"$f":"FIND(\" \"&E56, 'Data Input'!$A110,B56+1)","v":{"$error":"#VALUE!"}},{"$f":"IFERROR(MID('Data Input'!$A110,F56+2,2),\"\")","v":""},"","1",{"$f":"FIND(\" \"&I56, 'Data Input'!$A110,F56+1)","v":{"$error":"#VALUE!"}},{"$f":"IFERROR(MID('Data Input'!$A110,J56+2,2),\"\")","v":""},"","1",{"$f":"FIND(\" \"&M56, 'Data Input'!$A110,J56+1)","v":{"$error":"#VALUE!"}},{"$f":"IFERROR(MID('Data Input'!$A110,N56+2,2),\"\")","v":""},"","2",{"$f":"FIND(\" \"&Q56, 'Data Input'!$A110,N56+1)","v":{"$error":"#VALUE!"}},{"$f":"IFERROR(MID('Data Input'!$A110,R56+2,2),\"\")","v":""},"","2",{"$f":"FIND(\" \"&U56, 'Data Input'!$A110,R56+1)","v":{"$error":"#VALUE!"}},{"$f":"IFERROR(MID('Data Input'!$A110,V56+2,2),\"\")","v":""},"","2",{"$f":"FIND(\" \"&Y56, 'Data Input'!$A110,V56+1)","v":{"$error":"#VALUE!"}},{"$f":"IFERROR(MID('Data Input'!$A110,Z56+2,2),\"\")","v":""},"","2",{"$f":"FIND(\" \"&AC56, 'Data Input'!$A110,Z56+1)","v":{"$error":"#VALUE!"}},{"$f":"IFERROR(MID('Data Input'!$A110,AD56+2,2),\"\")","v":""},"","3",{"$f":"FIND(\" \"&AG56, 'Data Input'!$A110,AD56+1)","v":{"$error":"#VALUE!"}},{"$f":"IFERROR(MID('Data Input'!$A110,AH56+2,2),\"\")","v":""},"","3",{"$f":"FIND(\" \"&AK56, 'Data Input'!$A110,AH56+1)","v":{"$error":"#VALUE!"}},{"$f":"IFERROR(MID('Data Input'!$A110,AL56+2,2),\"\")","v":""},"","3",{"$f":"FIND(\" \"&AO56, 'Data Input'!$A110,AL56+1)","v":{"$error":"#VALUE!"}},{"$f":"IFERROR(MID('Data Input'!$A110,AP56+2,2),\"\")","v":""},"","3",{"$f":"FIND(\" \"&AS56, 'Data Input'!$A110,AP56+1)","v":{"$error":"#VALUE!"}},{"$f":"IFERROR(MID('Data Input'!$A110,AT56+2,2),\"\")","v":""},"","4",{"$f":"FIND(\" \"&AW56, 'Data Input'!$A110,AT56+1)","v":{"$error":"#VALUE!"}},{"$f":"IFERROR(MID('Data Input'!$A110,AX56+2,2),\"\")","v":""},"","4",{"$f":"FIND(\" \"&BA56, 'Data Input'!$A110,AX56+1)","v":{"$error":"#VALUE!"}},{"$f":"IFERROR(MID('Data Input'!$A110,BB56+2,2),\"\")","v":""},"","4",{"$f":"FIND(\" \"&BE56, 'Data Input'!$A110,BB56+1)","v":{"$error":"#VALUE!"}},{"$f":"IFERROR(MID('Data Input'!$A110,BF56+2,2),\"\")","v":""},"","4",{"$f":"FIND(\" \"&BI56, 'Data Input'!$A110,BF56+1)","v":{"$error":"#VALUE!"}},{"$f":"IFERROR(MID('Data Input'!$A110,BJ56+2,2),\"\")","v":""},"","5",{"$f":"FIND(\" \"&BM56, 'Data Input'!$A110,BJ56+1)","v":{"$error":"#VALUE!"}},{"$f":"IFERROR(MID('Data Input'!$A110,BN56+2,2),\"\")","v":""},"","5",{"$f":"FIND(\" \"&BQ56, 'Data Input'!$A110,BN56+1)","v":{"$error":"#VALUE!"}},{"$f":"IFERROR(MID('Data Input'!$A110,BR56+2,2),\"\")","v":""},"","5",{"$f":"FIND(\" \"&BU56, 'Data Input'!$A110,BR56+1)","v":{"$error":"#VALUE!"}},{"$f":"IFERROR(MID('Data Input'!$A110,BV56+2,2),\"\")","v":""},"","5",{"$f":"FIND(\" \"&BY56, 'Data Input'!$A110,BV56+1)","v":{"$error":"#VALUE!"}},{"$f":"IFERROR(MID('Data Input'!$A110,BZ56+2,2),\"\")","v":""},"","6",{"$f":"FIND(\" \"&CC56, 'Data Input'!$A110,BZ56+1)","v":{"$error":"#VALUE!"}},{"$f":"IFERROR(MID('Data Input'!$A110,CD56+2,2),\"\")","v":""},"","6",{"$f":"FIND(\" \"&CG56, 'Data Input'!$A110,CD56+1)","v":{"$error":"#VALUE!"}},{"$f":"IFERROR(MID('Data Input'!$A110,CH56+2,2),\"\")","v":""},"","6",{"$f":"FIND(\" \"&CK56, 'Data Input'!$A110,CH56+1)","v":{"$error":"#VALUE!"}},{"$f":"IFERROR(MID('Data Input'!$A110,CL56+2,2),\"\")","v":""},"","6",{"$f":"FIND(\" \"&CO56, 'Data Input'!$A110,CL56+1)","v":{"$error":"#VALUE!"}},{"$f":"IFERROR(MID('Data Input'!$A110,CP56+2,2),\"\")","v":""},""]
["1",{"$f":"FIND(\" \"&A57, 'Data Input'!$A112)","v":{"$error":"#VALUE!"}},{"$f":"IFERROR(MID('Data Input'!$A112,B57+2,2),\"\")","v":""},"","1",{"$f":"FIND(\" \"&E57, 'Data Input'!$A112,B57+1)","v":{"$error":"#VALUE!"}},{"$f":"IFERROR(MID('Data Input'!$A112,F57+2,2),\"\")","v":""},"","1",{"$f":"FIND(\" \"&I57, 'Data Input'!$A112,F57+1)","v":{"$error":"#VALUE!"}},{"$f":"IFERROR(MID('Data Input'!$A112,J57+2,2),\"\")","v":""},"","1",{"$f":"FIND(\" \"&M57, 'Data Input'!$A112,J57+1)","v":{"$error":"#VALUE!"}},{"$f":"IFERROR(MID('Data Input'!$A112,N57+2,2),\"\")","v":""},"","2",{"$f":"FIND(\" \"&Q57, 'Data Input'!$A112,N57+1)","v":{"$error":"#VALUE!"}},{"$f":"IFERROR(MID('Data Input'!$A112,R57+2,2),\"\")","v":""},"","2",{"$f":"FIND(\" \"&U57, 'Data Input'!$A112,R57+1)","v":{"$error":"#VALUE!"}},{"$f":"IFERROR(MID('Data Input'!$A112,V57+2,2),\"\")","v":""},"","2",{"$f":"FIND(\" \"&Y57, 'Data Input'!$A112,V57+1)","v":{"$error":"#VALUE!"}},{"$f":"IFERROR(MID('Data Input'!$A112,Z57+2,2),\"\")","v":""},"","2",{"$f":"FIND(\" \"&AC57, 'Data Input'!$A112,Z57+1)","v":{"$error":"#VALUE!"}},{"$f":"IFERROR(MID('Data Input'!$A112,AD57+2,2),\"\")","v":""},"","3",{"$f":"FIND(\" \"&AG57, 'Data Input'!$A112,AD57+1)","v":{"$error":"#VALUE!"}},{"$f":"IFERROR(MID('Data Input'!$A112,AH57+2,2),\"\")","v":""},"","3",{"$f":"FIND(\" \"&AK57, 'Data Input'!$A112,AH57+1)","v":{"$error":"#VALUE!"}},{"$f":"IFERROR(MID('Data Input'!$A112,AL57+2,2),\"\")","v":""},"","3",{"$f":"FIND(\" \"&AO57, 'Data Input'!$A112,AL57+1)","v":{"$error":"#VALUE!"}},{"$f":"IFERROR(MID('Data Input'!$A112,AP57+2,2),\"\")","v":""},"","3",{"$f":"FIND(\" \"&AS57, 'Data Input'!$A112,AP57+1)","v":{"$error":"#VALUE!"}},{"$f":"IFERROR(MID('Data Input'!$A112,AT57+2,2),\"\")","v":""},"","4",{"$f":"FIND(\" \"&AW57, 'Data Input'!$A112,AT57+1)","v":{"$error":"#VALUE!"}},{"$f":"IFERROR(MID('Data Input'!$A112,AX57+2,2),\"\")","v":""},"","4",{"$f":"FIND(\" \"&BA57, 'Data Input'!$A112,AX57+1)","v":{"$error":"#VALUE!"}},{"$f":"IFERROR(MID('Data Input'!$A112,BB57+2,2),\"\")","v":""},"","4",{"$f":"FIND(\" \"&BE57, 'Data Input'!$A112,BB57+1)","v":{"$error":"#VALUE!"}},{"$f":"IFERROR(MID('Data Input'!$A112,BF57+2,2),\"\")","v":""},"","4",{"$f":"FIND(\" \"&BI57, 'Data Input'!$A112,BF57+1)","v":{"$error":"#VALUE!"}},{"$f":"IFERROR(MID('Data Input'!$A112,BJ57+2,2),\"\")","v":""},"","5",{"$f":"FIND(\" \"&BM57, 'Data Input'!$A112,BJ57+1)","v":{"$error":"#VALUE!"}},{"$f":"IFERROR(MID('Data Input'!$A112,BN57+2,2),\"\")","v":""},"","5",{"$f":"FIND(\" \"&BQ57, 'Data Input'!$A112,BN57+1)","v":{"$error":"#VALUE!"}},{"$f":"IFERROR(MID('Data Input'!$A112,BR57+2,2),\"\")","v":""},"","5",{"$f":"FIND(\" \"&BU57, 'Data Input'!$A112,BR57+1)","v":{"$error":"#VALUE!"}},{"$f":"IFERROR(MID('Data Input'!$A112,BV57+2,2),\"\")","v":""},"","5",{"$f":"FIND(\" \"&BY57, 'Data Input'!$A112,BV57+1)","v":{"$error":"#VALUE!"}},{"$f":"IFERROR(MID('Data Input'!$A112,BZ57+2,2),\"\")","v":""},"","6",{"$f":"FIND(\" \"&CC57, 'Data Input'!$A112,BZ57+1)","v":{"$error":"#VALUE!"}},{"$f":"IFERROR(MID('Data Input'!$A112,CD57+2,2),\"\")","v":""},"","6",{"$f":"FIND(\" \"&CG57, 'Data Input'!$A112,CD57+1)","v":{"$error":"#VALUE!"}},{"$f":"IFERROR(MID('Data Input'!$A112,CH57+2,2),\"\")","v":""},"","6",{"$f":"FIND(\" \"&CK57, 'Data Input'!$A112,CH57+1)","v":{"$error":"#VALUE!"}},{"$f":"IFERROR(MID('Data Input'!$A112,CL57+2,2),\"\")","v":""},"","6",{"$f":"FIND(\" \"&CO57, 'Data Input'!$A112,CL57+1)","v":{"$error":"#VALUE!"}},{"$f":"IFERROR(MID('Data Input'!$A112,CP57+2,2),\"\")","v":""},""]
["1",{"$f":"FIND(\" \"&A58, 'Data Input'!$A114)","v":{"$error":"#VALUE!"}},{"$f":"IFERROR(MID('Data Input'!$A114,B58+2,2),\"\")","v":""},"","1",{"$f":"FIND(\" \"&E58, 'Data Input'!$A114,B58+1)","v":{"$error":"#VALUE!"}},{"$f":"IFERROR(MID('Data Input'!$A114,F58+2,2),\"\")","v":""},"","1",{"$f":"FIND(\" \"&I58, 'Data Input'!$A114,F58+1)","v":{"$error":"#VALUE!"}},{"$f":"IFERROR(MID('Data Input'!$A114,J58+2,2),\"\")","v":""},"","1",{"$f":"FIND(\" \"&M58, 'Data Input'!$A114,J58+1)","v":{"$error":"#VALUE!"}},{"$f":"IFERROR(MID('Data Input'!$A114,N58+2,2),\"\")","v":""},"","2",{"$f":"FIND(\" \"&Q58, 'Data Input'!$A114,N58+1)","v":{"$error":"#VALUE!"}},{"$f":"IFERROR(MID('Data Input'!$A114,R58+2,2),\"\")","v":""},"","2",{"$f":"FIND(\" \"&U58, 'Data Input'!$A114,R58+1)","v":{"$error":"#VALUE!"}},{"$f":"IFERROR(MID('Data Input'!$A114,V58+2,2),\"\")","v":""},"","2",{"$f":"FIND(\" \"&Y58, 'Data Input'!$A114,V58+1)","v":{"$error":"#VALUE!"}},{"$f":"IFERROR(MID('Data Input'!$A114,Z58+2,2),\"\")","v":""},"","2",{"$f":"FIND(\" \"&AC58, 'Data Input'!$A114,Z58+1)","v":{"$error":"#VALUE!"}},{"$f":"IFERROR(MID('Data Input'!$A114,AD58+2,2),\"\")","v":""},"","3",{"$f":"FIND(\" \"&AG58, 'Data Input'!$A114,AD58+1)","v":{"$error":"#VALUE!"}},{"$f":"IFERROR(MID('Data Input'!$A114,AH58+2,2),\"\")","v":""},"","3",{"$f":"FIND(\" \"&AK58, 'Data Input'!$A114,AH58+1)","v":{"$error":"#VALUE!"}},{"$f":"IFERROR(MID('Data Input'!$A114,AL58+2,2),\"\")","v":""},"","3",{"$f":"FIND(\" \"&AO58, 'Data Input'!$A114,AL58+1)","v":{"$error":"#VALUE!"}},{"$f":"IFERROR(MID('Data Input'!$A114,AP58+2,2),\"\")","v":""},"","3",{"$f":"FIND(\" \"&AS58, 'Data Input'!$A114,AP58+1)","v":{"$error":"#VALUE!"}},{"$f":"IFERROR(MID('Data Input'!$A114,AT58+2,2),\"\")","v":""},"","4",{"$f":"FIND(\" \"&AW58, 'Data Input'!$A114,AT58+1)","v":{"$error":"#VALUE!"}},{"$f":"IFERROR(MID('Data Input'!$A114,AX58+2,2),\"\")","v":""},"","4",{"$f":"FIND(\" \"&BA58, 'Data Input'!$A114,AX58+1)","v":{"$error":"#VALUE!"}},{"$f":"IFERROR(MID('Data Input'!$A114,BB58+2,2),\"\")","v":""},"","4",{"$f":"FIND(\" \"&BE58, 'Data Input'!$A114,BB58+1)","v":{"$error":"#VALUE!"}},{"$f":"IFERROR(MID('Data Input'!$A114,BF58+2,2),\"\")","v":""},"","4",{"$f":"FIND(\" \"&BI58, 'Data Input'!$A114,BF58+1)","v":{"$error":"#VALUE!"}},{"$f":"IFERROR(MID('Data Input'!$A114,BJ58+2,2),\"\")","v":""},"","5",{"$f":"FIND(\" \"&BM58, 'Data Input'!$A114,BJ58+1)","v":{"$error":"#VALUE!"}},{"$f":"IFERROR(MID('Data Input'!$A114,BN58+2,2),\"\")","v":""},"","5",{"$f":"FIND(\" \"&BQ58, 'Data Input'!$A114,BN58+1)","v":{"$error":"#VALUE!"}},{"$f":"IFERROR(MID('Data Input'!$A114,BR58+2,2),\"\")","v":""},"","5",{"$f":"FIND(\" \"&BU58, 'Data Input'!$A114,BR58+1)","v":{"$error":"#VALUE!"}},{"$f":"IFERROR(MID('Data Input'!$A114,BV58+2,2),\"\")","v":""},"","5",{"$f":"FIND(\" \"&BY58, 'Data Input'!$A114,BV58+1)","v":{"$error":"#VALUE!"}},{"$f":"IFERROR(MID('Data Input'!$A114,BZ58+2,2),\"\")","v":""},"","6",{"$f":"FIND(\" \"&CC58, 'Data Input'!$A114,BZ58+1)","v":{"$error":"#VALUE!"}},{"$f":"IFERROR(MID('Data Input'!$A114,CD58+2,2),\"\")","v":""},"","6",{"$f":"FIND(\" \"&CG58, 'Data Input'!$A114,CD58+1)","v":{"$error":"#VALUE!"}},{"$f":"IFERROR(MID('Data Input'!$A114,CH58+2,2),\"\")","v":""},"","6",{"$f":"FIND(\" \"&CK58, 'Data Input'!$A114,CH58+1)","v":{"$error":"#VALUE!"}},{"$f":"IFERROR(MID('Data Input'!$A114,CL58+2,2),\"\")","v":""},"","6",{"$f":"FIND(\" \"&CO58, 'Data Input'!$A114,CL58+1)","v":{"$error":"#VALUE!"}},{"$f":"IFERROR(MID('Data Input'!$A114,CP58+2,2),\"\")","v":""},""]
["1",{"$f":"FIND(\" \"&A59, 'Data Input'!$A116)","v":{"$error":"#VALUE!"}},{"$f":"IFERROR(MID('Data Input'!$A116,B59+2,2),\"\")","v":""},"","1",{"$f":"FIND(\" \"&E59, 'Data Input'!$A116,B59+1)","v":{"$error":"#VALUE!"}},{"$f":"IFERROR(MID('Data Input'!$A116,F59+2,2),\"\")","v":""},"","1",{"$f":"FIND(\" \"&I59, 'Data Input'!$A116,F59+1)","v":{"$error":"#VALUE!"}},{"$f":"IFERROR(MID('Data Input'!$A116,J59+2,2),\"\")","v":""},"","1",{"$f":"FIND(\" \"&M59, 'Data Input'!$A116,J59+1)","v":{"$error":"#VALUE!"}},{"$f":"IFERROR(MID('Data Input'!$A116,N59+2,2),\"\")","v":""},"","2",{"$f":"FIND(\" \"&Q59, 'Data Input'!$A116,N59+1)","v":{"$error":"#VALUE!"}},{"$f":"IFERROR(MID('Data Input'!$A116,R59+2,2),\"\")","v":""},"","2",{"$f":"FIND(\" \"&U59, 'Data Input'!$A116,R59+1)","v":{"$error":"#VALUE!"}},{"$f":"IFERROR(MID('Data Input'!$A116,V59+2,2),\"\")","v":""},"","2",{"$f":"FIND(\" \"&Y59, 'Data Input'!$A116,V59+1)","v":{"$error":"#VALUE!"}},{"$f":"IFERROR(MID('Data Input'!$A116,Z59+2,2),\"\")","v":""},"","2",{"$f":"FIND(\" \"&AC59, 'Data Input'!$A116,Z59+1)","v":{"$error":"#VALUE!"}},{"$f":"IFERROR(MID('Data Input'!$A116,AD59+2,2),\"\")","v":""},"","3",{"$f":"FIND(\" \"&AG59, 'Data Input'!$A116,AD59+1)","v":{"$error":"#VALUE!"}},{"$f":"IFERROR(MID('Data Input'!$A116,AH59+2,2),\"\")","v":""},"","3",{"$f":"FIND(\" \"&AK59, 'Data Input'!$A116,AH59+1)","v":{"$error":"#VALUE!"}},{"$f":"IFERROR(MID('Data Input'!$A116,AL59+2,2),\"\")","v":""},"","3",{"$f":"FIND(\" \"&AO59, 'Data Input'!$A116,AL59+1)","v":{"$error":"#VALUE!"}},{"$f":"IFERROR(MID('Data Input'!$A116,AP59+2,2),\"\")","v":""},"","3",{"$f":"FIND(\" \"&AS59, 'Data Input'!$A116,AP59+1)","v":{"$error":"#VALUE!"}},{"$f":"IFERROR(MID('Data Input'!$A116,AT59+2,2),\"\")","v":""},"","4",{"$f":"FIND(\" \"&AW59, 'Data Input'!$A116,AT59+1)","v":{"$error":"#VALUE!"}},{"$f":"IFERROR(MID('Data Input'!$A116,AX59+2,2),\"\")","v":""},"","4",{"$f":"FIND(\" \"&BA59, 'Data Input'!$A116,AX59+1)","v":{"$error":"#VALUE!"}},{"$f":"IFERROR(MID('Data Input'!$A116,BB59+2,2),\"\")","v":""},"","4",{"$f":"FIND(\" \"&BE59, 'Data Input'!$A116,BB59+1)","v":{"$error":"#VALUE!"}},{"$f":"IFERROR(MID('Data Input'!$A116,BF59+2,2),\"\")","v":""},"","4",{"$f":"FIND(\" \"&BI59, 'Data Input'!$A116,BF59+1)","v":{"$error":"#VALUE!"}},{"$f":"IFERROR(MID('Data Input'!$A116,BJ59+2,2),\"\")","v":""},"","5",{"$f":"FIND(\" \"&BM59, 'Data Input'!$A116,BJ59+1)","v":{"$error":"#VALUE!"}},{"$f":"IFERROR(MID('Data Input'!$A116,BN59+2,2),\"\")","v":""},"","5",{"$f":"FIND(\" \"&BQ59, 'Data Input'!$A116,BN59+1)","v":{"$error":"#VALUE!"}},{"$f":"IFERROR(MID('Data Input'!$A116,BR59+2,2),\"\")","v":""},"","5",{"$f":"FIND(\" \"&BU59, 'Data Input'!$A116,BR59+1)","v":{"$error":"#VALUE!"}},{"$f":"IFERROR(MID('Data Input'!$A116,BV59+2,2),\"\")","v":""},"","5",{"$f":"FIND(\" \"&BY59, 'Data Input'!$A116,BV59+1)","v":{"$error":"#VALUE!"}},{"$f":"IFERROR(MID('Data Input'!$A116,BZ59+2,2),\"\")","v":""},"","6",{"$f":"FIND(\" \"&CC59, 'Data Input'!$A116,BZ59+1)","v":{"$error":"#VALUE!"}},{"$f":"IFERROR(MID('Data Input'!$A116,CD59+2,2),\"\")","v":""},"","6",{"$f":"FIND(\" \"&CG59, 'Data Input'!$A116,CD59+1)","v":{"$error":"#VALUE!"}},{"$f":"IFERROR(MID('Data Input'!$A116,CH59+2,2),\"\")","v":""},"","6",{"$f":"FIND(\" \"&CK59, 'Data Input'!$A116,CH59+1)","v":{"$error":"#VALUE!"}},{"$f":"IFERROR(MID('Data Input'!$A116,CL59+2,2),\"\")","v":""},"","6",{"$f":"FIND(\" \"&CO59, 'Data Input'!$A116,CL59+1)","v":{"$error":"#VALUE!"}},{"$f":"IFERROR(MID('Data Input'!$A116,CP59+2,2),\"\")","v":""},""]
["1",{"$f":"FIND(\" \"&A60, 'Data Input'!$A118)","v":{"$error":"#VALUE!"}},{"$f":"IFERROR(MID('Data Input'!$A118,B60+2,2),\"\")","v":""},"","1",{"$f":"FIND(\" \"&E60, 'Data Input'!$A118,B60+1)","v":{"$error":"#VALUE!"}},{"$f":"IFERROR(MID('Data Input'!$A118,F60+2,2),\"\")","v":""},"","1",{"$f":"FIND(\" \"&I60, 'Data Input'!$A118,F60+1)","v":{"$error":"#VALUE!"}},{"$f":"IFERROR(MID('Data Input'!$A118,J60+2,2),\"\")","v":""},"","1",{"$f":"FIND(\" \"&M60, 'Data Input'!$A118,J60+1)","v":{"$error":"#VALUE!"}},{"$f":"IFERROR(MID('Data Input'!$A118,N60+2,2),\"\")","v":""},"","2",{"$f":"FIND(\" \"&Q60, 'Data Input'!$A118,N60+1)","v":{"$error":"#VALUE!"}},{"$f":"IFERROR(MID('Data Input'!$A118,R60+2,2),\"\")","v":""},"","2",{"$f":"FIND(\" \"&U60, 'Data Input'!$A118,R60+1)","v":{"$error":"#VALUE!"}},{"$f":"IFERROR(MID('Data Input'!$A118,V60+2,2),\"\")","v":""},"","2",{"$f":"FIND(\" \"&Y60, 'Data Input'!$A118,V60+1)","v":{"$error":"#VALUE!"}},{"$f":"IFERROR(MID('Data Input'!$A118,Z60+2,2),\"\")","v":""},"","2",{"$f":"FIND(\" \"&AC60, 'Data Input'!$A118,Z60+1)","v":{"$error":"#VALUE!"}},{"$f":"IFERROR(MID('Data Input'!$A118,AD60+2,2),\"\")","v":""},"","3",{"$f":"FIND(\" \"&AG60, 'Data Input'!$A118,AD60+1)","v":{"$error":"#VALUE!"}},{"$f":"IFERROR(MID('Data Input'!$A118,AH60+2,2),\"\")","v":""},"","3",{"$f":"FIND(\" \"&AK60, 'Data Input'!$A118,AH60+1)","v":{"$error":"#VALUE!"}},{"$f":"IFERROR(MID('Data Input'!$A118,AL60+2,2),\"\")","v":""},"","3",{"$f":"FIND(\" \"&AO60, 'Data Input'!$A118,AL60+1)","v":{"$error":"#VALUE!"}},{"$f":"IFERROR(MID('Data Input'!$A118,AP60+2,2),\"\")","v":""},"","3",{"$f":"FIND(\" \"&AS60, 'Data Input'!$A118,AP60+1)","v":{"$error":"#VALUE!"}},{"$f":"IFERROR(MID('Data Input'!$A118,AT60+2,2),\"\")","v":""},"","4",{"$f":"FIND(\" \"&AW60, 'Data Input'!$A118,AT60+1)","v":{"$error":"#VALUE!"}},{"$f":"IFERROR(MID('Data Input'!$A118,AX60+2,2),\"\")","v":""},"","4",{"$f":"FIND(\" \"&BA60, 'Data Input'!$A118,AX60+1)","v":{"$error":"#VALUE!"}},{"$f":"IFERROR(MID('Data Input'!$A118,BB60+2,2),\"\")","v":""},"","4",{"$f":"FIND(\" \"&BE60, 'Data Input'!$A118,BB60+1)","v":{"$error":"#VALUE!"}},{"$f":"IFERROR(MID('Data Input'!$A118,BF60+2,2),\"\")","v":""},"","4",{"$f":"FIND(\" \"&BI60, 'Data Input'!$A118,BF60+1)","v":{"$error":"#VALUE!"}},{"$f":"IFERROR(MID('Data Input'!$A118,BJ60+2,2),\"\")","v":""},"","5",{"$f":"FIND(\" \"&BM60, 'Data Input'!$A118,BJ60+1)","v":{"$error":"#VALUE!"}},{"$f":"IFERROR(MID('Data Input'!$A118,BN60+2,2),\"\")","v":""},"","5",{"$f":"FIND(\" \"&BQ60, 'Data Input'!$A118,BN60+1)","v":{"$error":"#VALUE!"}},{"$f":"IFERROR(MID('Data Input'!$A118,BR60+2,2),\"\")","v":""},"","5",{"$f":"FIND(\" \"&BU60, 'Data Input'!$A118,BR60+1)","v":{"$error":"#VALUE!"}},{"$f":"IFERROR(MID('Data Input'!$A118,BV60+2,2),\"\")","v":""},"","5",{"$f":"FIND(\" \"&BY60, 'Data Input'!$A118,BV60+1)","v":{"$error":"#VALUE!"}},{"$f":"IFERROR(MID('Data Input'!$A118,BZ60+2,2),\"\")","v":""},"","6",{"$f":"FIND(\" \"&CC60, 'Data Input'!$A118,BZ60+1)","v":{"$error":"#VALUE!"}},{"$f":"IFERROR(MID('Data Input'!$A118,CD60+2,2),\"\")","v":""},"","6",{"$f":"FIND(\" \"&CG60, 'Data Input'!$A118,CD60+1)","v":{"$error":"#VALUE!"}},{"$f":"IFERROR(MID('Data Input'!$A118,CH60+2,2),\"\")","v":""},"","6",{"$f":"FIND(\" \"&CK60, 'Data Input'!$A118,CH60+1)","v":{"$error":"#VALUE!"}},{"$f":"IFERROR(MID('Data Input'!$A118,CL60+2,2),\"\")","v":""},"","6",{"$f":"FIND(\" \"&CO60, 'Data Input'!$A118,CL60+1)","v":{"$error":"#VALUE!"}},{"$f":"IFERROR(MID('Data Input'!$A118,CP60+2,2),\"\")","v":""},""]
["1",{"$f":"FIND(\" \"&A61, 'Data Input'!$A120)","v":{"$error":"#VALUE!"}},{"$f":"IFERROR(MID('Data Input'!$A120,B61+2,2),\"\")","v":""},"","1",{"$f":"FIND(\" \"&E61, 'Data Input'!$A120,B61+1)","v":{"$error":"#VALUE!"}},{"$f":"IFERROR(MID('Data Input'!$A120,F61+2,2),\"\")","v":""},"","1",{"$f":"FIND(\" \"&I61, 'Data Input'!$A120,F61+1)","v":{"$error":"#VALUE!"}},{"$f":"IFERROR(MID('Data Input'!$A120,J61+2,2),\"\")","v":""},"","1",{"$f":"FIND(\" \"&M61, 'Data Input'!$A120,J61+1)","v":{"$error":"#VALUE!"}},{"$f":"IFERROR(MID('Data Input'!$A120,N61+2,2),\"\")","v":""},"","2",{"$f":"FIND(\" \"&Q61, 'Data Input'!$A120,N61+1)","v":{"$error":"#VALUE!"}},{"$f":"IFERROR(MID('Data Input'!$A120,R61+2,2),\"\")","v":""},"","2",{"$f":"FIND(\" \"&U61, 'Data Input'!$A120,R61+1)","v":{"$error":"#VALUE!"}},{"$f":"IFERROR(MID('Data Input'!$A120,V61+2,2),\"\")","v":""},"","2",{"$f":"FIND(\" \"&Y61, 'Data Input'!$A120,V61+1)","v":{"$error":"#VALUE!"}},{"$f":"IFERROR(MID('Data Input'!$A120,Z61+2,2),\"\")","v":""},"","2",{"$f":"FIND(\" \"&AC61, 'Data Input'!$A120,Z61+1)","v":{"$error":"#VALUE!"}},{"$f":"IFERROR(MID('Data Input'!$A120,AD61+2,2),\"\")","v":""},"","3",{"$f":"FIND(\" \"&AG61, 'Data Input'!$A120,AD61+1)","v":{"$error":"#VALUE!"}},{"$f":"IFERROR(MID('Data Input'!$A120,AH61+2,2),\"\")","v":""},"","3",{"$f":"FIND(\" \"&AK61, 'Data Input'!$A120,AH61+1)","v":{"$error":"#VALUE!"}},{"$f":"IFERROR(MID('Data Input'!$A120,AL61+2,2),\"\")","v":""},"","3",{"$f":"FIND(\" \"&AO61, 'Data Input'!$A120,AL61+1)","v":{"$error":"#VALUE!"}},{"$f":"IFERROR(MID('Data Input'!$A120,AP61+2,2),\"\")","v":""},"","3",{"$f":"FIND(\" \"&AS61, 'Data Input'!$A120,AP61+1)","v":{"$error":"#VALUE!"}},{"$f":"IFERROR(MID('Data Input'!$A120,AT61+2,2),\"\")","v":""},"","4",{"$f":"FIND(\" \"&AW61, 'Data Input'!$A120,AT61+1)","v":{"$error":"#VALUE!"}},{"$f":"IFERROR(MID('Data Input'!$A120,AX61+2,2),\"\")","v":""},"","4",{"$f":"FIND(\" \"&BA61, 'Data Input'!$A120,AX61+1)","v":{"$error":"#VALUE!"}},{"$f":"IFERROR(MID('Data Input'!$A120,BB61+2,2),\"\")","v":""},"","4",{"$f":"FIND(\" \"&BE61, 'Data Input'!$A120,BB61+1)","v":{"$error":"#VALUE!"}},{"$f":"IFERROR(MID('Data Input'!$A120,BF61+2,2),\"\")","v":""},"","4",{"$f":"FIND(\" \"&BI61, 'Data Input'!$A120,BF61+1)","v":{"$error":"#VALUE!"}},{"$f":"IFERROR(MID('Data Input'!$A120,BJ61+2,2),\"\")","v":""},"","5",{"$f":"FIND(\" \"&BM61, 'Data Input'!$A120,BJ61+1)","v":{"$error":"#VALUE!"}},{"$f":"IFERROR(MID('Data Input'!$A120,BN61+2,2),\"\")","v":""},"","5",{"$f":"FIND(\" \"&BQ61, 'Data Input'!$A120,BN61+1)","v":{"$error":"#VALUE!"}},{"$f":"IFERROR(MID('Data Input'!$A120,BR61+2,2),\"\")","v":""},"","5",{"$f":"FIND(\" \"&BU61, 'Data Input'!$A120,BR61+1)","v":{"$error":"#VALUE!"}},{"$f":"IFERROR(MID('Data Input'!$A120,BV61+2,2),\"\")","v":""},"","5",{"$f":"FIND(\" \"&BY61, 'Data Input'!$A120,BV61+1)","v":{"$error":"#VALUE!"}},{"$f":"IFERROR(MID('Data Input'!$A120,BZ61+2,2),\"\")","v":""},"","6",{"$f":"FIND(\" \"&CC61, 'Data Input'!$A120,BZ61+1)","v":{"$error":"#VALUE!"}},{"$f":"IFERROR(MID('Data Input'!$A120,CD61+2,2),\"\")","v":""},"","6",{"$f":"FIND(\" \"&CG61, 'Data Input'!$A120,CD61+1)","v":{"$error":"#VALUE!"}},{"$f":"IFERROR(MID('Data Input'!$A120,CH61+2,2),\"\")","v":""},"","6",{"$f":"FIND(\" \"&CK61, 'Data Input'!$A120,CH61+1)","v":{"$error":"#VALUE!"}},{"$f":"IFERROR(MID('Data Input'!$A120,CL61+2,2),\"\")","v":""},"","6",{"$f":"FIND(\" \"&CO61, 'Data Input'!$A120,CL61+1)","v":{"$error":"#VALUE!"}},{"$f":"IFERROR(MID('Data Input'!$A120,CP61+2,2),\"\")","v":""},""]
["1",{"$f":"FIND(\" \"&A62, 'Data Input'!$A122)","v":{"$error":"#VALUE!"}},{"$f":"IFERROR(MID('Data Input'!$A122,B62+2,2),\"\")","v":""},"","1",{"$f":"FIND(\" \"&E62, 'Data Input'!$A122,B62+1)","v":{"$error":"#VALUE!"}},{"$f":"IFERROR(MID('Data Input'!$A122,F62+2,2),\"\")","v":""},"","1",{"$f":"FIND(\" \"&I62, 'Data Input'!$A122,F62+1)","v":{"$error":"#VALUE!"}},{"$f":"IFERROR(MID('Data Input'!$A122,J62+2,2),\"\")","v":""},"","1",{"$f":"FIND(\" \"&M62, 'Data Input'!$A122,J62+1)","v":{"$error":"#VALUE!"}},{"$f":"IFERROR(MID('Data Input'!$A122,N62+2,2),\"\")","v":""},"","2",{"$f":"FIND(\" \"&Q62, 'Data Input'!$A122,N62+1)","v":{"$error":"#VALUE!"}},{"$f":"IFERROR(MID('Data Input'!$A122,R62+2,2),\"\")","v":""},"","2",{"$f":"FIND(\" \"&U62, 'Data Input'!$A122,R62+1)","v":{"$error":"#VALUE!"}},{"$f":"IFERROR(MID('Data Input'!$A122,V62+2,2),\"\")","v":""},"","2",{"$f":"FIND(\" \"&Y62, 'Data Input'!$A122,V62+1)","v":{"$error":"#VALUE!"}},{"$f":"IFERROR(MID('Data Input'!$A122,Z62+2,2),\"\")","v":""},"","2",{"$f":"FIND(\" \"&AC62, 'Data Input'!$A122,Z62+1)","v":{"$error":"#VALUE!"}},{"$f":"IFERROR(MID('Data Input'!$A122,AD62+2,2),\"\")","v":""},"","3",{"$f":"FIND(\" \"&AG62, 'Data Input'!$A122,AD62+1)","v":{"$error":"#VALUE!"}},{"$f":"IFERROR(MID('Data Input'!$A122,AH62+2,2),\"\")","v":""},"","3",{"$f":"FIND(\" \"&AK62, 'Data Input'!$A122,AH62+1)","v":{"$error":"#VALUE!"}},{"$f":"IFERROR(MID('Data Input'!$A122,AL62+2,2),\"\")","v":""},"","3",{"$f":"FIND(\" \"&AO62, 'Data Input'!$A122,AL62+1)","v":{"$error":"#VALUE!"}},{"$f":"IFERROR(MID('Data Input'!$A122,AP62+2,2),\"\")","v":""},"","3",{"$f":"FIND(\" \"&AS62, 'Data Input'!$A122,AP62+1)","v":{"$error":"#VALUE!"}},{"$f":"IFERROR(MID('Data Input'!$A122,AT62+2,2),\"\")","v":""},"","4",{"$f":"FIND(\" \"&AW62, 'Data Input'!$A122,AT62+1)","v":{"$error":"#VALUE!"}},{"$f":"IFERROR(MID('Data Input'!$A122,AX62+2,2),\"\")","v":""},"","4",{"$f":"FIND(\" \"&BA62, 'Data Input'!$A122,AX62+1)","v":{"$error":"#VALUE!"}},{"$f":"IFERROR(MID('Data Input'!$A122,BB62+2,2),\"\")","v":""},"","4",{"$f":"FIND(\" \"&BE62, 'Data Input'!$A122,BB62+1)","v":{"$error":"#VALUE!"}},{"$f":"IFERROR(MID('Data Input'!$A122,BF62+2,2),\"\")","v":""},"","4",{"$f":"FIND(\" \"&BI62, 'Data Input'!$A122,BF62+1)","v":{"$error":"#VALUE!"}},{"$f":"IFERROR(MID('Data Input'!$A122,BJ62+2,2),\"\")","v":""},"","5",{"$f":"FIND(\" \"&BM62, 'Data Input'!$A122,BJ62+1)","v":{"$error":"#VALUE!"}},{"$f":"IFERROR(MID('Data Input'!$A122,BN62+2,2),\"\")","v":""},"","5",{"$f":"FIND(\" \"&BQ62, 'Data Input'!$A122,BN62+1)","v":{"$error":"#VALUE!"}},{"$f":"IFERROR(MID('Data Input'!$A122,BR62+2,2),\"\")","v":""},"","5",{"$f":"FIND(\" \"&BU62, 'Data Input'!$A122,BR62+1)","v":{"$error":"#VALUE!"}},{"$f":"IFERROR(MID('Data Input'!$A122,BV62+2,2),\"\")","v":""},"","5",{"$f":"FIND(\" \"&BY62, 'Data Input'!$A122,BV62+1)","v":{"$error":"#VALUE!"}},{"$f":"IFERROR(MID('Data Input'!$A122,BZ62+2,2),\"\")","v":""},"","6",{"$f":"FIND(\" \"&CC62, 'Data Input'!$A122,BZ62+1)","v":{"$error":"#VALUE!"}},{"$f":"IFERROR(MID('Data Input'!$A122,CD62+2,2),\"\")","v":""},"","6",{"$f":"FIND(\" \"&CG62, 'Data Input'!$A122,CD62+1)","v":{"$error":"#VALUE!"}},{"$f":"IFERROR(MID('Data Input'!$A122,CH62+2,2),\"\")","v":""},"","6",{"$f":"FIND(\" \"&CK62, 'Data Input'!$A122,CH62+1)","v":{"$error":"#VALUE!"}},{"$f":"IFERROR(MID('Data Input'!$A122,CL62+2,2),\"\")","v":""},"","6",{"$f":"FIND(\" \"&CO62, 'Data Input'!$A122,CL62+1)","v":{"$error":"#VALUE!"}},{"$f":"IFERROR(MID('Data Input'!$A122,CP62+2,2),\"\")","v":""},""]
["1",{"$f":"FIND(\" \"&A63, 'Data Input'!$A124)","v":{"$error":"#VALUE!"}},{"$f":"IFERROR(MID('Data Input'!$A124,B63+2,2),\"\")","v":""},"","1",{"$f":"FIND(\" \"&E63, 'Data Input'!$A124,B63+1)","v":{"$error":"#VALUE!"}},{"$f":"IFERROR(MID('Data Input'!$A124,F63+2,2),\"\")","v":""},"","1",{"$f":"FIND(\" \"&I63, 'Data Input'!$A124,F63+1)","v":{"$error":"#VALUE!"}},{"$f":"IFERROR(MID('Data Input'!$A124,J63+2,2),\"\")","v":""},"","1",{"$f":"FIND(\" \"&M63, 'Data Input'!$A124,J63+1)","v":{"$error":"#VALUE!"}},{"$f":"IFERROR(MID('Data Input'!$A124,N63+2,2),\"\")","v":""},"","2",{"$f":"FIND(\" \"&Q63, 'Data Input'!$A124,N63+1)","v":{"$error":"#VALUE!"}},{"$f":"IFERROR(MID('Data Input'!$A124,R63+2,2),\"\")","v":""},"","2",{"$f":"FIND(\" \"&U63, 'Data Input'!$A124,R63+1)","v":{"$error":"#VALUE!"}},{"$f":"IFERROR(MID('Data Input'!$A124,V63+2,2),\"\")","v":""},"","2",{"$f":"FIND(\" \"&Y63, 'Data Input'!$A124,V63+1)","v":{"$error":"#VALUE!"}},{"$f":"IFERROR(MID('Data Input'!$A124,Z63+2,2),\"\")","v":""},"","2",{"$f":"FIND(\" \"&AC63, 'Data Input'!$A124,Z63+1)","v":{"$error":"#VALUE!"}},{"$f":"IFERROR(MID('Data Input'!$A124,AD63+2,2),\"\")","v":""},"","3",{"$f":"FIND(\" \"&AG63, 'Data Input'!$A124,AD63+1)","v":{"$error":"#VALUE!"}},{"$f":"IFERROR(MID('Data Input'!$A124,AH63+2,2),\"\")","v":""},"","3",{"$f":"FIND(\" \"&AK63, 'Data Input'!$A124,AH63+1)","v":{"$error":"#VALUE!"}},{"$f":"IFERROR(MID('Data Input'!$A124,AL63+2,2),\"\")","v":""},"","3",{"$f":"FIND(\" \"&AO63, 'Data Input'!$A124,AL63+1)","v":{"$error":"#VALUE!"}},{"$f":"IFERROR(MID('Data Input'!$A124,AP63+2,2),\"\")","v":""},"","3",{"$f":"FIND(\" \"&AS63, 'Data Input'!$A124,AP63+1)","v":{"$error":"#VALUE!"}},{"$f":"IFERROR(MID('Data Input'!$A124,AT63+2,2),\"\")","v":""},"","4",{"$f":"FIND(\" \"&AW63, 'Data Input'!$A124,AT63+1)","v":{"$error":"#VALUE!"}},{"$f":"IFERROR(MID('Data Input'!$A124,AX63+2,2),\"\")","v":""},"","4",{"$f":"FIND(\" \"&BA63, 'Data Input'!$A124,AX63+1)","v":{"$error":"#VALUE!"}},{"$f":"IFERROR(MID('Data Input'!$A124,BB63+2,2),\"\")","v":""},"","4",{"$f":"FIND(\" \"&BE63, 'Data Input'!$A124,BB63+1)","v":{"$error":"#VALUE!"}},{"$f":"IFERROR(MID('Data Input'!$A124,BF63+2,2),\"\")","v":""},"","4",{"$f":"FIND(\" \"&BI63, 'Data Input'!$A124,BF63+1)","v":{"$error":"#VALUE!"}},{"$f":"IFERROR(MID('Data Input'!$A124,BJ63+2,2),\"\")","v":""},"","5",{"$f":"FIND(\" \"&BM63, 'Data Input'!$A124,BJ63+1)","v":{"$error":"#VALUE!"}},{"$f":"IFERROR(MID('Data Input'!$A124,BN63+2,2),\"\")","v":""},"","5",{"$f":"FIND(\" \"&BQ63, 'Data Input'!$A124,BN63+1)","v":{"$error":"#VALUE!"}},{"$f":"IFERROR(MID('Data Input'!$A124,BR63+2,2),\"\")","v":""},"","5",{"$f":"FIND(\" \"&BU63, 'Data Input'!$A124,BR63+1)","v":{"$error":"#VALUE!"}},{"$f":"IFERROR(MID('Data Input'!$A124,BV63+2,2),\"\")","v":""},"","5",{"$f":"FIND(\" \"&BY63, 'Data Input'!$A124,BV63+1)","v":{"$error":"#VALUE!"}},{"$f":"IFERROR(MID('Data Input'!$A124,BZ63+2,2),\"\")","v":""},"","6",{"$f":"FIND(\" \"&CC63, 'Data Input'!$A124,BZ63+1)","v":{"$error":"#VALUE!"}},{"$f":"IFERROR(MID('Data Input'!$A124,CD63+2,2),\"\")","v":""},"","6",{"$f":"FIND(\" \"&CG63, 'Data Input'!$A124,CD63+1)","v":{"$error":"#VALUE!"}},{"$f":"IFERROR(MID('Data Input'!$A124,CH63+2,2),\"\")","v":""},"","6",{"$f":"FIND(\" \"&CK63, 'Data Input'!$A124,CH63+1)","v":{"$error":"#VALUE!"}},{"$f":"IFERROR(MID('Data Input'!$A124,CL63+2,2),\"\")","v":""},"","6",{"$f":"FIND(\" \"&CO63, 'Data Input'!$A124,CL63+1)","v":{"$error":"#VALUE!"}},{"$f":"IFERROR(MID('Data Input'!$A124,CP63+2,2),\"\")","v":""},""]
["1",{"$f":"FIND(\" \"&A64, 'Data Input'!$A126)","v":{"$error":"#VALUE!"}},{"$f":"IFERROR(MID('Data Input'!$A126,B64+2,2),\"\")","v":""},"","1",{"$f":"FIND(\" \"&E64, 'Data Input'!$A126,B64+1)","v":{"$error":"#VALUE!"}},{"$f":"IFERROR(MID('Data Input'!$A126,F64+2,2),\"\")","v":""},"","1",{"$f":"FIND(\" \"&I64, 'Data Input'!$A126,F64+1)","v":{"$error":"#VALUE!"}},{"$f":"IFERROR(MID('Data Input'!$A126,J64+2,2),\"\")","v":""},"","1",{"$f":"FIND(\" \"&M64, 'Data Input'!$A126,J64+1)","v":{"$error":"#VALUE!"}},{"$f":"IFERROR(MID('Data Input'!$A126,N64+2,2),\"\")","v":""},"","2",{"$f":"FIND(\" \"&Q64, 'Data Input'!$A126,N64+1)","v":{"$error":"#VALUE!"}},{"$f":"IFERROR(MID('Data Input'!$A126,R64+2,2),\"\")","v":""},"","2",{"$f":"FIND(\" \"&U64, 'Data Input'!$A126,R64+1)","v":{"$error":"#VALUE!"}},{"$f":"IFERROR(MID('Data Input'!$A126,V64+2,2),\"\")","v":""},"","2",{"$f":"FIND(\" \"&Y64, 'Data Input'!$A126,V64+1)","v":{"$error":"#VALUE!"}},{"$f":"IFERROR(MID('Data Input'!$A126,Z64+2,2),\"\")","v":""},"","2",{"$f":"FIND(\" \"&AC64, 'Data Input'!$A126,Z64+1)","v":{"$error":"#VALUE!"}},{"$f":"IFERROR(MID('Data Input'!$A126,AD64+2,2),\"\")","v":""},"","3",{"$f":"FIND(\" \"&AG64, 'Data Input'!$A126,AD64+1)","v":{"$error":"#VALUE!"}},{"$f":"IFERROR(MID('Data Input'!$A126,AH64+2,2),\"\")","v":""},"","3",{"$f":"FIND(\" \"&AK64, 'Data Input'!$A126,AH64+1)","v":{"$error":"#VALUE!"}},{"$f":"IFERROR(MID('Data Input'!$A126,AL64+2,2),\"\")","v":""},"","3",{"$f":"FIND(\" \"&AO64, 'Data Input'!$A126,AL64+1)","v":{"$error":"#VALUE!"}},{"$f":"IFERROR(MID('Data Input'!$A126,AP64+2,2),\"\")","v":""},"","3",{"$f":"FIND(\" \"&AS64, 'Data Input'!$A126,AP64+1)","v":{"$error":"#VALUE!"}},{"$f":"IFERROR(MID('Data Input'!$A126,AT64+2,2),\"\")","v":""},"","4",{"$f":"FIND(\" \"&AW64, 'Data Input'!$A126,AT64+1)","v":{"$error":"#VALUE!"}},{"$f":"IFERROR(MID('Data Input'!$A126,AX64+2,2),\"\")","v":""},"","4",{"$f":"FIND(\" \"&BA64, 'Data Input'!$A126,AX64+1)","v":{"$error":"#VALUE!"}},{"$f":"IFERROR(MID('Data Input'!$A126,BB64+2,2),\"\")","v":""},"","4",{"$f":"FIND(\" \"&BE64, 'Data Input'!$A126,BB64+1)","v":{"$error":"#VALUE!"}},{"$f":"IFERROR(MID('Data Input'!$A126,BF64+2,2),\"\")","v":""},"","4",{"$f":"FIND(\" \"&BI64, 'Data Input'!$A126,BF64+1)","v":{"$error":"#VALUE!"}},{"$f":"IFERROR(MID('Data Input'!$A126,BJ64+2,2),\"\")","v":""},"","5",{"$f":"FIND(\" \"&BM64, 'Data Input'!$A126,BJ64+1)","v":{"$error":"#VALUE!"}},{"$f":"IFERROR(MID('Data Input'!$A126,BN64+2,2),\"\")","v":""},"","5",{"$f":"FIND(\" \"&BQ64, 'Data Input'!$A126,BN64+1)","v":{"$error":"#VALUE!"}},{"$f":"IFERROR(MID('Data Input'!$A126,BR64+2,2),\"\")","v":""},"","5",{"$f":"FIND(\" \"&BU64, 'Data Input'!$A126,BR64+1)","v":{"$error":"#VALUE!"}},{"$f":"IFERROR(MID('Data Input'!$A126,BV64+2,2),\"\")","v":""},"","5",{"$f":"FIND(\" \"&BY64, 'Data Input'!$A126,BV64+1)","v":{"$error":"#VALUE!"}},{"$f":"IFERROR(MID('Data Input'!$A126,BZ64+2,2),\"\")","v":""},"","6",{"$f":"FIND(\" \"&CC64, 'Data Input'!$A126,BZ64+1)","v":{"$error":"#VALUE!"}},{"$f":"IFERROR(MID('Data Input'!$A126,CD64+2,2),\"\")","v":""},"","6",{"$f":"FIND(\" \"&CG64, 'Data Input'!$A126,CD64+1)","v":{"$error":"#VALUE!"}},{"$f":"IFERROR(MID('Data Input'!$A126,CH64+2,2),\"\")","v":""},"","6",{"$f":"FIND(\" \"&CK64, 'Data Input'!$A126,CH64+1)","v":{"$error":"#VALUE!"}},{"$f":"IFERROR(MID('Data Input'!$A126,CL64+2,2),\"\")","v":""},"","6",{"$f":"FIND(\" \"&CO64, 'Data Input'!$A126,CL64+1)","v":{"$error":"#VALUE!"}},{"$f":"IFERROR(MID('Data Input'!$A126,CP64+2,2),\"\")","v":""},""]
["1",{"$f":"FIND(\" \"&A65, 'Data Input'!$A128)","v":{"$error":"#VALUE!"}},{"$f":"IFERROR(MID('Data Input'!$A128,B65+2,2),\"\")","v":""},"","1",{"$f":"FIND(\" \"&E65, 'Data Input'!$A128,B65+1)","v":{"$error":"#VALUE!"}},{"$f":"IFERROR(MID('Data Input'!$A128,F65+2,2),\"\")","v":""},"","1",{"$f":"FIND(\" \"&I65, 'Data Input'!$A128,F65+1)","v":{"$error":"#VALUE!"}},{"$f":"IFERROR(MID('Data Input'!$A128,J65+2,2),\"\")","v":""},"","1",{"$f":"FIND(\" \"&M65, 'Data Input'!$A128,J65+1)","v":{"$error":"#VALUE!"}},{"$f":"IFERROR(MID('Data Input'!$A128,N65+2,2),\"\")","v":""},"","2",{"$f":"FIND(\" \"&Q65, 'Data Input'!$A128,N65+1)","v":{"$error":"#VALUE!"}},{"$f":"IFERROR(MID('Data Input'!$A128,R65+2,2),\"\")","v":""},"","2",{"$f":"FIND(\" \"&U65, 'Data Input'!$A128,R65+1)","v":{"$error":"#VALUE!"}},{"$f":"IFERROR(MID('Data Input'!$A128,V65+2,2),\"\")","v":""},"","2",{"$f":"FIND(\" \"&Y65, 'Data Input'!$A128,V65+1)","v":{"$error":"#VALUE!"}},{"$f":"IFERROR(MID('Data Input'!$A128,Z65+2,2),\"\")","v":""},"","2",{"$f":"FIND(\" \"&AC65, 'Data Input'!$A128,Z65+1)","v":{"$error":"#VALUE!"}},{"$f":"IFERROR(MID('Data Input'!$A128,AD65+2,2),\"\")","v":""},"","3",{"$f":"FIND(\" \"&AG65, 'Data Input'!$A128,AD65+1)","v":{"$error":"#VALUE!"}},{"$f":"IFERROR(MID('Data Input'!$A128,AH65+2,2),\"\")","v":""},"","3",{"$f":"FIND(\" \"&AK65, 'Data Input'!$A128,AH65+1)","v":{"$error":"#VALUE!"}},{"$f":"IFERROR(MID('Data Input'!$A128,AL65+2,2),\"\")","v":""},"","3",{"$f":"FIND(\" \"&AO65, 'Data Input'!$A128,AL65+1)","v":{"$error":"#VALUE!"}},{"$f":"IFERROR(MID('Data Input'!$A128,AP65+2,2),\"\")","v":""},"","3",{"$f":"FIND(\" \"&AS65, 'Data Input'!$A128,AP65+1)","v":{"$error":"#VALUE!"}},{"$f":"IFERROR(MID('Data Input'!$A128,AT65+2,2),\"\")","v":""},"","4",{"$f":"FIND(\" \"&AW65, 'Data Input'!$A128,AT65+1)","v":{"$error":"#VALUE!"}},{"$f":"IFERROR(MID('Data Input'!$A128,AX65+2,2),\"\")","v":""},"","4",{"$f":"FIND(\" \"&BA65, 'Data Input'!$A128,AX65+1)","v":{"$error":"#VALUE!"}},{"$f":"IFERROR(MID('Data Input'!$A128,BB65+2,2),\"\")","v":""},"","4",{"$f":"FIND(\" \"&BE65, 'Data Input'!$A128,BB65+1)","v":{"$error":"#VALUE!"}},{"$f":"IFERROR(MID('Data Input'!$A128,BF65+2,2),\"\")","v":""},"","4",{"$f":"FIND(\" \"&BI65, 'Data Input'!$A128,BF65+1)","v":{"$error":"#VALUE!"}},{"$f":"IFERROR(MID('Data Input'!$A128,BJ65+2,2),\"\")","v":""},"","5",{"$f":"FIND(\" \"&BM65, 'Data Input'!$A128,BJ65+1)","v":{"$error":"#VALUE!"}},{"$f":"IFERROR(MID('Data Input'!$A128,BN65+2,2),\"\")","v":""},"","5",{"$f":"FIND(\" \"&BQ65, 'Data Input'!$A128,BN65+1)","v":{"$error":"#VALUE!"}},{"$f":"IFERROR(MID('Data Input'!$A128,BR65+2,2),\"\")","v":""},"","5",{"$f":"FIND(\" \"&BU65, 'Data Input'!$A128,BR65+1)","v":{"$error":"#VALUE!"}},{"$f":"IFERROR(MID('Data Input'!$A128,BV65+2,2),\"\")","v":""},"","5",{"$f":"FIND(\" \"&BY65, 'Data Input'!$A128,BV65+1)","v":{"$error":"#VALUE!"}},{"$f":"IFERROR(MID('Data Input'!$A128,BZ65+2,2),\"\")","v":""},"","6",{"$f":"FIND(\" \"&CC65, 'Data Input'!$A128,BZ65+1)","v":{"$error":"#VALUE!"}},{"$f":"IFERROR(MID('Data Input'!$A128,CD65+2,2),\"\")","v":""},"","6",{"$f":"FIND(\" \"&CG65, 'Data Input'!$A128,CD65+1)","v":{"$error":"#VALUE!"}},{"$f":"IFERROR(MID('Data Input'!$A128,CH65+2,2),\"\")","v":""},"","6",{"$f":"FIND(\" \"&CK65, 'Data Input'!$A128,CH65+1)","v":{"$error":"#VALUE!"}},{"$f":"IFERROR(MID('Data Input'!$A128,CL65+2,2),\"\")","v":""},"","6",{"$f":"FIND(\" \"&CO65, 'Data Input'!$A128,CL65+1)","v":{"$error":"#VALUE!"}},{"$f":"IFERROR(MID('Data Input'!$A128,CP65+2,2),\"\")","v":""},""]
["1",{"$f":"FIND(\" \"&A66, 'Data Input'!$A130)","v":{"$error":"#VALUE!"}},{"$f":"IFERROR(MID('Data Input'!$A130,B66+2,2),\"\")","v":""},{"$f":"IFERROR(C66*15,\"\")","v":""},"1",{"$f":"FIND(\" \"&E66, 'Data Input'!$A130,B66+1)","v":{"$error":"#VALUE!"}},{"$f":"IFERROR(MID('Data Input'!$A130,F66+2,2),\"\")","v":""},{"$f":"IFERROR(10*(99-G66),\"\")","v":""},"1",{"$f":"FIND(\" \"&I66, 'Data Input'!$A130,F66+1)","v":{"$error":"#VALUE!"}},{"$f":"IFERROR(MID('Data Input'!$A130,J66+2,2),\"\")","v":""},{"$f":"IFERROR(10*(99-K66),\"\")","v":""},"1",{"$f":"FIND(\" \"&M66, 'Data Input'!$A130,J66+1)","v":{"$error":"#VALUE!"}},{"$f":"IFERROR(MID('Data Input'!$A130,N66+2,2),\"\")","v":""},{"$f":"IFERROR(10*(99-O66),\"\")","v":""},"2",{"$f":"FIND(\" \"&Q66, 'Data Input'!$A130,N66+1)","v":{"$error":"#VALUE!"}},{"$f":"IFERROR(MID('Data Input'!$A130,R66+2,2),\"\")","v":""},"","2",{"$f":"FIND(\" \"&U66, 'Data Input'!$A130,R66+1)","v":{"$error":"#VALUE!"}},{"$f":"IFERROR(MID('Data Input'!$A130,V66+2,2),\"\")","v":""},"","2",{"$f":"FIND(\" \"&Y66, 'Data Input'!$A130,V66+1)","v":{"$error":"#VALUE!"}},{"$f":"IFERROR(MID('Data Input'!$A130,Z66+2,2),\"\")","v":""},"","2",{"$f":"FIND(\" \"&AC66, 'Data Input'!$A130,Z66+1)","v":{"$error":"#VALUE!"}},{"$f":"IFERROR(MID('Data Input'!$A130,AD66+2,2),\"\")","v":""},{"$f":"IFERROR(10*(AE66-50),\"\")","v":""},"3",{"$f":"FIND(\" \"&AG66, 'Data Input'!$A130,AD66+1)","v":{"$error":"#VALUE!"}},{"$f":"IFERROR(MID('Data Input'!$A130,AH66+2,2),\"\")","v":""},"","3",{"$f":"FIND(\" \"&AK66, 'Data Input'!$A130,AH66+1)","v":{"$error":"#VALUE!"}},{"$f":"IFERROR(MID('Data Input'!$A130,AL66+2,2),\"\")","v":""},{"$f":"IFERROR(0.1*AM66,\"\")","v":""},"3",{"$f":"FIND(\" \"&AO66, 'Data Input'!$A130,AL66+1)","v":{"$error":"#VALUE!"}},{"$f":"IFERROR(MID('Data Input'!$A130,AP66+2,2),\"\")","v":""},{"$f":"IFERROR(0.15*AQ66,\"\")","v":""},"3",{"$f":"FIND(\" \"&AS66, 'Data Input'!$A130,AP66+1)","v":{"$error":"#VALUE!"}},{"$f":"IFERROR(MID('Data Input'!$A130,AT66+2,2),\"\")","v":""},{"$f":"IFERROR(95.8-1.48*AU66,\"\")","v":""},"4",{"$f":"FIND(\" \"&AW66, 'Data Input'!$A130,AT66+1)","v":{"$error":"#VALUE!"}},{"$f":"IFERROR(MID('Data Input'!$A130,AX66+2,2),\"\")","v":""},{"$f":"IFERROR(95.8-1.48*AY66,\"\")","v":""},"4",{"$f":"FIND(\" \"&BA66, 'Data Input'!$A130,AX66+1)","v":{"$error":"#VALUE!"}},{"$f":"IFERROR(MID('Data Input'!$A130,BB66+2,2),\"\")","v":""},{"$f":"IFERROR(95.8-1.48*BC66,\"\")","v":""},"4",{"$f":"FIND(\" \"&BE66, 'Data Input'!$A130,BB66+1)","v":{"$error":"#VALUE!"}},{"$f":"IFERROR(MID('Data Input'!$A130,BF66+2,2),\"\")","v":""},{"$f":"IFERROR(95.8-1.48*BG66,\"\")","v":""},"4",{"$f":"FIND(\" \"&BI66, 'Data Input'!$A130,BF66+1)","v":{"$error":"#VALUE!"}},{"$f":"IFERROR(MID('Data Input'!$A130,BJ66+2,2),\"\")","v":""},{"$f":"IFERROR(95.8-1.48*BK66,\"\")","v":""},"5",{"$f":"FIND(\" \"&BM66, 'Data Input'!$A130,BJ66+1)","v":{"$error":"#VALUE!"}},{"$f":"IFERROR(MID('Data Input'!$A130,BN66+2,2),\"\")","v":""},{"$f":"IFERROR(95.8-1.48*BO66,\"\")","v":""},"5",{"$f":"FIND(\" \"&BQ66, 'Data Input'!$A130,BN66+1)","v":{"$error":"#VALUE!"}},{"$f":"IFERROR(MID('Data Input'!$A130,BR66+2,2),\"\")","v":""},{"$f":"IFERROR(11.67*BS66,\"\")","v":""},"5",{"$f":"FIND(\" \"&BU66, 'Data Input'!$A130,BR66+1)","v":{"$error":"#VALUE!"}},{"$f":"IFERROR(MID('Data Input'!$A130,BV66+2,2),\"\")","v":""},{"$f":"IFERROR(95.8-1.48*BW66,\"\")","v":""},"5",{"$f":"FIND(\" \"&BY66, 'Data Input'!$A130,BV66+1)","v":{"$error":"#VALUE!"}},{"$f":"IFERROR(MID('Data Input'!$A130,BZ66+2,2),\"\")","v":""},{"$f":"IFERROR(11+0.82*CA66,\"\")","v":""},"6",{"$f":"FIND(\" \"&CC66, 'Data Input'!$A130,BZ66+1)","v":{"$error":"#VALUE!"}},{"$f":"IFERROR(MID('Data Input'!$A130,CD66+2,2),\"\")","v":""},{"$f":"IFERROR(CE66^2/1.56,\"\")","v":""},"6",{"$f":"FIND(\" \"&CG66, 'Data Input'!$A130,CD66+1)","v":{"$error":"#VALUE!"}},{"$f":"IFERROR(MID('Data Input'!$A130,CH66+2,2),\"\")","v":""},{"$f":"IFERROR(0.1*CI66^2+35,\"\")","v":""},"6",{"$f":"FIND(\" \"&CK66, 'Data Input'!$A130,CH66+1)","v":{"$error":"#VALUE!"}},{"$f":"IFERROR(MID('Data Input'!$A130,CL66+2,2),\"\")","v":""},{"$f":"IFERROR(0.041*CM66^2,\"\")","v":""},"6",{"$f":"FIND(\" \"&CO66, 'Data Input'!$A130,CL66+1)","v":{"$error":"#VALUE!"}},{"$f":"IFERROR(MID('Data Input'!$A130,CP66+2,2),\"\")","v":""},{"$f":"IFERROR(0.01*CQ66,\"\")","v":""}]
["1",{"$f":"FIND(\" \"&A67, 'Data Input'!$A132)","v":{"$error":"#VALUE!"}},{"$f":"IFERROR(MID('Data Input'!$A132,B67+2,2),\"\")","v":""},"","1",{"$f":"FIND(\" \"&E67, 'Data Input'!$A132,B67+1)","v":{"$error":"#VALUE!"}},{"$f":"IFERROR(MID('Data Input'!$A132,F67+2,2),\"\")","v":""},"","1",{"$f":"FIND(\" \"&I67, 'Data Input'!$A132,F67+1)","v":{"$error":"#VALUE!"}},{"$f":"IFERROR(MID('Data Input'!$A132,J67+2,2),\"\")","v":""},"","1",{"$f":"FIND(\" \"&M67, 'Data Input'!$A132,J67+1)","v":{"$error":"#VALUE!"}},{"$f":"IFERROR(MID('Data Input'!$A132,N67+2,2),\"\")","v":""},"","2",{"$f":"FIND(\" \"&Q67, 'Data Input'!$A132,N67+1)","v":{"$error":"#VALUE!"}},{"$f":"IFERROR(MID('Data Input'!$A132,R67+2,2),\"\")","v":""},{"$f":"IFERROR(10*(99-S67),\"\")","v":""},"2",{"$f":"FIND(\" \"&U67, 'Data Input'!$A132,R67+1)","v":{"$error":"#VALUE!"}},{"$f":"IFERROR(MID('Data Input'!$A132,V67+2,2),\"\")","v":""},{"$f":"IFERROR(10*(99-W67),\"\")","v":""},"2",{"$f":"FIND(\" \"&Y67, 'Data Input'!$A132,V67+1)","v":{"$error":"#VALUE!"}},{"$f":"IFERROR(MID('Data Input'!$A132,Z67+2,2),\"\")","v":""},{"$f":"IFERROR(10*(99-AA67),\"\")","v":""},"2",{"$f":"FIND(\" \"&AC67, 'Data Input'!$A132,Z67+1)","v":{"$error":"#VALUE!"}},{"$f":"IFERROR(MID('Data Input'!$A132,AD67+2,2),\"\")","v":""},"","3",{"$f":"FIND(\" \"&AG67, 'Data Input'!$A132,AD67+1)","v":{"$error":"#VALUE!"}},{"$f":"IFERROR(MID('Data Input'!$A132,AH67+2,2),\"\")","v":""},"","3",{"$f":"FIND(\" \"&AK67, 'Data Input'!$A132,AH67+1)","v":{"$error":"#VALUE!"}},{"$f":"IFERROR(MID('Data Input'!$A132,AL67+2,2),\"\")","v":""},"","3",{"$f":"FIND(\" \"&AO67, 'Data Input'!$A132,AL67+1)","v":{"$error":"#VALUE!"}},{"$f":"IFERROR(MID('Data Input'!$A132,AP67+2,2),\"\")","v":""},"","3",{"$f":"FIND(\" \"&AS67, 'Data Input'!$A132,AP67+1)","v":{"$error":"#VALUE!"}},{"$f":"IFERROR(MID('Data Input'!$A132,AT67+2,2),\"\")","v":""},"","4",{"$f":"FIND(\" \"&AW67, 'Data Input'!$A132,AT67+1)","v":{"$error":"#VALUE!"}},{"$f":"IFERROR(MID('Data Input'!$A132,AX67+2,2),\"\")","v":""},"","4",{"$f":"FIND(\" \"&BA67, 'Data Input'!$A132,AX67+1)","v":{"$error":"#VALUE!"}},{"$f":"IFERROR(MID('Data Input'!$A132,BB67+2,2),\"\")","v":""},"","4",{"$f":"FIND(\" \"&BE67, 'Data Input'!$A132,BB67+1)","v":{"$error":"#VALUE!"}},{"$f":"IFERROR(MID('Data Input'!$A132,BF67+2,2),\"\")","v":""},"","4",{"$f":"FIND(\" \"&BI67, 'Data Input'!$A132,BF67+1)","v":{"$error":"#VALUE!"}},{"$f":"IFERROR(MID('Data Input'!$A132,BJ67+2,2),\"\")","v":""},"","5",{"$f":"FIND(\" \"&BM67, 'Data Input'!$A132,BJ67+1)","v":{"$error":"#VALUE!"}},{"$f":"IFERROR(MID('Data Input'!$A132,BN67+2,2),\"\")","v":""},"","5",{"$f":"FIND(\" \"&BQ67, 'Data Input'!$A132,BN67+1)","v":{"$error":"#VALUE!"}},{"$f":"IFERROR(MID('Data Input'!$A132,BR67+2,2),\"\")","v":""},"","5",{"$f":"FIND(\" \"&BU67, 'Data Input'!$A132,BR67+1)","v":{"$error":"#VALUE!"}},{"$f":"IFERROR(MID('Data Input'!$A132,BV67+2,2),\"\")","v":""},"","5",{"$f":"FIND(\" \"&BY67, 'Data Input'!$A132,BV67+1)","v":{"$error":"#VALUE!"}},{"$f":"IFERROR(MID('Data Input'!$A132,BZ67+2,2),\"\")","v":""},"","6",{"$f":"FIND(\" \"&CC67, 'Data Input'!$A132,BZ67+1)","v":{"$error":"#VALUE!"}},{"$f":"IFERROR(MID('Data Input'!$A132,CD67+2,2),\"\")","v":""},"","6",{"$f":"FIND(\" \"&CG67, 'Data Input'!$A132,CD67+1)","v":{"$error":"#VALUE!"}},{"$f":"IFERROR(MID('Data Input'!$A132,CH67+2,2),\"\")","v":""},"","6",{"$f":"FIND(\" \"&CK67, 'Data Input'!$A132,CH67+1)","v":{"$error":"#VALUE!"}},{"$f":"IFERROR(MID('Data Input'!$A132,CL67+2,2),\"\")","v":""},"","6",{"$f":"FIND(\" \"&CO67, 'Data Input'!$A132,CL67+1)","v":{"$error":"#VALUE!"}},{"$f":"IFERROR(MID('Data Input'!$A132,CP67+2,2),\"\")","v":""},""]
["1",{"$f":"FIND(\" \"&A68, 'Data Input'!$A134)","v":{"$error":"#VALUE!"}},{"$f":"IFERROR(MID('Data Input'!$A134,B68+2,2),\"\")","v":""},"","1",{"$f":"FIND(\" \"&E68, 'Data Input'!$A134,B68+1)","v":{"$error":"#VALUE!"}},{"$f":"IFERROR(MID('Data Input'!$A134,F68+2,2),\"\")","v":""},"","1",{"$f":"FIND(\" \"&I68, 'Data Input'!$A134,F68+1)","v":{"$error":"#VALUE!"}},{"$f":"IFERROR(MID('Data Input'!$A134,J68+2,2),\"\")","v":""},"","1",{"$f":"FIND(\" \"&M68, 'Data Input'!$A134,J68+1)","v":{"$error":"#VALUE!"}},{"$f":"IFERROR(MID('Data Input'!$A134,N68+2,2),\"\")","v":""},"","2",{"$f":"FIND(\" \"&Q68, 'Data Input'!$A134,N68+1)","v":{"$error":"#VALUE!"}},{"$f":"IFERROR(MID('Data Input'!$A134,R68+2,2),\"\")","v":""},"","2",{"$f":"FIND(\" \"&U68, 'Data Input'!$A134,R68+1)","v":{"$error":"#VALUE!"}},{"$f":"IFERROR(MID('Data Input'!$A134,V68+2,2),\"\")","v":""},"","2",{"$f":"FIND(\" \"&Y68, 'Data Input'!$A134,V68+1)","v":{"$error":"#VALUE!"}},{"$f":"IFERROR(MID('Data Input'!$A134,Z68+2,2),\"\")","v":""},"","2",{"$f":"FIND(\" \"&AC68, 'Data Input'!$A134,Z68+1)","v":{"$error":"#VALUE!"}},{"$f":"IFERROR(MID('Data Input'!$A134,AD68+2,2),\"\")","v":""},"","3",{"$f":"FIND(\" \"&AG68, 'Data Input'!$A134,AD68+1)","v":{"$error":"#VALUE!"}},{"$f":"IFERROR(MID('Data Input'!$A134,AH68+2,2),\"\")","v":""},{"$f":"IFERROR(IF(VALUE(AI68) > 45, 0.1*AI68-4.4, 0.1*AI68+6.4),\"\")","v":""},"3",{"$f":"FIND(\" \"&AK68, 'Data Input'!$A134,AH68+1)","v":{"$error":"#VALUE!"}},{"$f":"IFERROR(MID('Data Input'!$A134,AL68+2,2),\"\")","v":""},"","3",{"$f":"FIND(\" \"&AO68, 'Data Input'!$A134,AL68+1)","v":{"$error":"#VALUE!"}},{"$f":"IFERROR(MID('Data Input'!$A134,AP68+2,2),\"\")","v":""},"","3",{"$f":"FIND(\" \"&AS68, 'Data Input'!$A134,AP68+1)","v":{"$error":"#VALUE!"}},{"$f":"IFERROR(MID('Data Input'!$A134,AT68+2,2),\"\")","v":""},"","4",{"$f":"FIND(\" \"&AW68, 'Data Input'!$A134,AT68+1)","v":{"$error":"#VALUE!"}},{"$f":"IFERROR(MID('Data Input'!$A134,AX68+2,2),\"\")","v":""},"","4",{"$f":"FIND(\" \"&BA68, 'Data Input'!$A134,AX68+1)","v":{"$error":"#VALUE!"}},{"$f":"IFERROR(MID('Data Input'!$A134,BB68+2,2),\"\")","v":""},"","4",{"$f":"FIND(\" \"&BE68, 'Data Input'!$A134,BB68+1)","v":{"$error":"#VALUE!"}},{"$f":"IFERROR(MID('Data Input'!$A134,BF68+2,2),\"\")","v":""},"","4",{"$f":"FIND(\" \"&BI68, 'Data Input'!$A134,BF68+1)","v":{"$error":"#VALUE!"}},{"$f":"IFERROR(MID('Data Input'!$A134,BJ68+2,2),\"\")","v":""},"","5",{"$f":"FIND(\" \"&BM68, 'Data Input'!$A134,BJ68+1)","v":{"$error":"#VALUE!"}},{"$f":"IFERROR(MID('Data Input'!$A134,BN68+2,2),\"\")","v":""},"","5",{"$f":"FIND(\" \"&BQ68, 'Data Input'!$A134,BN68+1)","v":{"$error":"#VALUE!"}},{"$f":"IFERROR(MID('Data Input'!$A134,BR68+2,2),\"\")","v":""},"","5",{"$f":"FIND(\" \"&BU68, 'Data Input'!$A134,BR68+1)","v":{"$error":"#VALUE!"}},{"$f":"IFERROR(MID('Data Input'!$A134,BV68+2,2),\"\")","v":""},"","5",{"$f":"FIND(\" \"&BY68, 'Data Input'!$A134,BV68+1)","v":{"$error":"#VALUE!"}},{"$f":"IFERROR(MID('Data Input'!$A134,BZ68+2,2),\"\")","v":""},"","6",{"$f":"FIND(\" \"&CC68, 'Data Input'!$A134,BZ68+1)","v":{"$error":"#VALUE!"}},{"$f":"IFERROR(MID('Data Input'!$A134,CD68+2,2),\"\")","v":""},"","6",{"$f":"FIND(\" \"&CG68, 'Data Input'!$A134,CD68+1)","v":{"$error":"#VALUE!"}},{"$f":"IFERROR(MID('Data Input'!$A134,CH68+2,2),\"\")","v":""},"","6",{"$f":"FIND(\" \"&CK68, 'Data Input'!$A134,CH68+1)","v":{"$error":"#VALUE!"}},{"$f":"IFERROR(MID('Data Input'!$A134,CL68+2,2),\"\")","v":""},"","6",{"$f":"FIND(\" \"&CO68, 'Data Input'!$A134,CL68+1)","v":{"$error":"#VALUE!"}},{"$f":"IFERROR(MID('Data Input'!$A134,CP68+2,2),\"\")","v":""},""]
["1",{"$f":"FIND(\" \"&A69, 'Data Input'!$A136)","v":{"$error":"#VALUE!"}},{"$f":"IFERROR(MID('Data Input'!$A136,B69+2,2),\"\")","v":""},"","1",{"$f":"FIND(\" \"&E69, 'Data Input'!$A136,B69+1)","v":{"$error":"#VALUE!"}},{"$f":"IFERROR(MID('Data Input'!$A136,F69+2,2),\"\")","v":""},"","1",{"$f":"FIND(\" \"&I69, 'Data Input'!$A136,F69+1)","v":{"$error":"#VALUE!"}},{"$f":"IFERROR(MID('Data Input'!$A136,J69+2,2),\"\")","v":""},"","1",{"$f":"FIND(\" \"&M69, 'Data Input'!$A136,J69+1)","v":{"$error":"#VALUE!"}},{"$f":"IFERROR(MID('Data Input'!$A136,N69+2,2),\"\")","v":""},"","2",{"$f":"FIND(\" \"&Q69, 'Data Input'!$A136,N69+1)","v":{"$error":"#VALUE!"}},{"$f":"IFERROR(MID('Data Input'!$A136,R69+2,2),\"\")","v":""},"","2",{"$f":"FIND(\" \"&U69, 'Data Input'!$A136,R69+1)","v":{"$error":"#VALUE!"}},{"$f":"IFERROR(MID('Data Input'!$A136,V69+2,2),\"\")","v":""},"","2",{"$f":"FIND(\" \"&Y69, 'Data Input'!$A136,V69+1)","v":{"$error":"#VALUE!"}},{"$f":"IFERROR(MID('Data Input'!$A136,Z69+2,2),\"\")","v":""},"","2",{"$f":"FIND(\" \"&AC69, 'Data Input'!$A136,Z69+1)","v":{"$error":"#VALUE!"}},{"$f":"IFERROR(MID('Data Input'!$A136,AD69+2,2),\"\")","v":""},"","3",{"$f":"FIND(\" \"&AG69, 'Data Input'!$A136,AD69+1)","v":{"$error":"#VALUE!"}},{"$f":"IFERROR(MID('Data Input'!$A136,AH69+2,2),\"\")","v":""},"","3",{"$f":"FIND(\" \"&AK69, 'Data Input'!$A136,AH69+1)","v":{"$error":"#VALUE!"}},{"$f":"IFERROR(MID('Data Input'!$A136,AL69+2,2),\"\")","v":""},"","3",{"$f":"FIND(\" \"&AO69, 'Data Input'!$A136,AL69+1)","v":{"$error":"#VALUE!"}},{"$f":"IFERROR(MID('Data Input'!$A136,AP69+2,2),\"\")","v":""},"","3",{"$f":"FIND(\" \"&AS69, 'Data Input'!$A136,AP69+1)","v":{"$error":"#VALUE!"}},{"$f":"IFERROR(MID('Data Input'!$A136,AT69+2,2),\"\")","v":""},"","4",{"$f":"FIND(\" \"&AW69, 'Data Input'!$A136,AT69+1)","v":{"$error":"#VALUE!"}},{"$f":"IFERROR(MID('Data Input'!$A136,AX69+2,2),\"\")","v":""},"","4",{"$f":"FIND(\" \"&BA69, 'Data Input'!$A136,AX69+1)","v":{"$error":"#VALUE!"}},{"$f":"IFERROR(MID('Data Input'!$A136,BB69+2,2),\"\")","v":""},"","4",{"$f":"FIND(\" \"&BE69, 'Data Input'!$A136,BB69+1)","v":{"$error":"#VALUE!"}},{"$f":"IFERROR(MID('Data Input'!$A136,BF69+2,2),\"\")","v":""},"","4",{"$f":"FIND(\" \"&BI69, 'Data Input'!$A136,BF69+1)","v":{"$error":"#VALUE!"}},{"$f":"IFERROR(MID('Data Input'!$A136,BJ69+2,2),\"\")","v":""},"","5",{"$f":"FIND(\" \"&BM69, 'Data Input'!$A136,BJ69+1)","v":{"$error":"#VALUE!"}},{"$f":"IFERROR(MID('Data Input'!$A136,BN69+2,2),\"\")","v":""},"","5",{"$f":"FIND(\" \"&BQ69, 'Data Input'!$A136,BN69+1)","v":{"$error":"#VALUE!"}},{"$f":"IFERROR(MID('Data Input'!$A136,BR69+2,2),\"\")","v":""},"","5",{"$f":"FIND(\" \"&BU69, 'Data Input'!$A136,BR69+1)","v":{"$error":"#VALUE!"}},{"$f":"IFERROR(MID('Data Input'!$A136,BV69+2,2),\"\")","v":""},"","5",{"$f":"FIND(\" \"&BY69, 'Data Input'!$A136,BV69+1)","v":{"$error":"#VALUE!"}},{"$f":"IFERROR(MID('Data Input'!$A136,BZ69+2,2),\"\")","v":""},"","6",{"$f":"FIND(\" \"&CC69, 'Data Input'!$A136,BZ69+1)","v":{"$error":"#VALUE!"}},{"$f":"IFERROR(MID('Data Input'!$A136,CD69+2,2),\"\")","v":""},"","6",{"$f":"FIND(\" \"&CG69, 'Data Input'!$A136,CD69+1)","v":{"$error":"#VALUE!"}},{"$f":"IFERROR(MID('Data Input'!$A136,CH69+2,2),\"\")","v":""},"","6",{"$f":"FIND(\" \"&CK69, 'Data Input'!$A136,CH69+1)","v":{"$error":"#VALUE!"}},{"$f":"IFERROR(MID('Data Input'!$A136,CL69+2,2),\"\")","v":""},"","6",{"$f":"FIND(\" \"&CO69, 'Data Input'!$A136,CL69+1)","v":{"$error":"#VALUE!"}},{"$f":"IFERROR(MID('Data Input'!$A136,CP69+2,2),\"\")","v":""},""]
["1",{"$f":"FIND(\" \"&A70, 'Data Input'!$A138)","v":{"$error":"#VALUE!"}},{"$f":"IFERROR(MID('Data Input'!$A138,B70+2,2),\"\")","v":""},"","1",{"$f":"FIND(\" \"&E70, 'Data Input'!$A138,B70+1)","v":{"$error":"#VALUE!"}},{"$f":"IFERROR(MID('Data Input'!$A138,F70+2,2),\"\")","v":""},"","1",{"$f":"FIND(\" \"&I70, 'Data Input'!$A138,F70+1)","v":{"$error":"#VALUE!"}},{"$f":"IFERROR(MID('Data Input'!$A138,J70+2,2),\"\")","v":""},"","1",{"$f":"FIND(\" \"&M70, 'Data Input'!$A138,J70+1)","v":{"$error":"#VALUE!"}},{"$f":"IFERROR(MID('Data Input'!$A138,N70+2,2),\"\")","v":""},"","2",{"$f":"FIND(\" \"&Q70, 'Data Input'!$A138,N70+1)","v":{"$error":"#VALUE!"}},{"$f":"IFERROR(MID('Data Input'!$A138,R70+2,2),\"\")","v":""},"","2",{"$f":"FIND(\" \"&U70, 'Data Input'!$A138,R70+1)","v":{"$error":"#VALUE!"}},{"$f":"IFERROR(MID('Data Input'!$A138,V70+2,2),\"\")","v":""},"","2",{"$f":"FIND(\" \"&Y70, 'Data Input'!$A138,V70+1)","v":{"$error":"#VALUE!"}},{"$f":"IFERROR(MID('Data Input'!$A138,Z70+2,2),\"\")","v":""},"","2",{"$f":"FIND(\" \"&AC70, 'Data Input'!$A138,Z70+1)","v":{"$error":"#VALUE!"}},{"$f":"IFERROR(MID('Data Input'!$A138,AD70+2,2),\"\")","v":""},"","3",{"$f":"FIND(\" \"&AG70, 'Data Input'!$A138,AD70+1)","v":{"$error":"#VALUE!"}},{"$f":"IFERROR(MID('Data Input'!$A138,AH70+2,2),\"\")","v":""},"","3",{"$f":"FIND(\" \"&AK70, 'Data Input'!$A138,AH70+1)","v":{"$error":"#VALUE!"}},{"$f":"IFERROR(MID('Data Input'!$A138,AL70+2,2),\"\")","v":""},"","3",{"$f":"FIND(\" \"&AO70, 'Data Input'!$A138,AL70+1)","v":{"$error":"#VALUE!"}},{"$f":"IFERROR(MID('Data Input'!$A138,AP70+2,2),\"\")","v":""},"","3",{"$f":"FIND(\" \"&AS70, 'Data Input'!$A138,AP70+1)","v":{"$error":"#VALUE!"}},{"$f":"IFERROR(MID('Data Input'!$A138,AT70+2,2),\"\")","v":""},"","4",{"$f":"FIND(\" \"&AW70, 'Data Input'!$A138,AT70+1)","v":{"$error":"#VALUE!"}},{"$f":"IFERROR(MID('Data Input'!$A138,AX70+2,2),\"\")","v":""},"","4",{"$f":"FIND(\" \"&BA70, 'Data Input'!$A138,AX70+1)","v":{"$error":"#VALUE!"}},{"$f":"IFERROR(MID('Data Input'!$A138,BB70+2,2),\"\")","v":""},"","4",{"$f":"FIND(\" \"&BE70, 'Data Input'!$A138,BB70+1)","v":{"$error":"#VALUE!"}},{"$f":"IFERROR(MID('Data Input'!$A138,BF70+2,2),\"\")","v":""},"","4",{"$f":"FIND(\" \"&BI70, 'Data Input'!$A138,BF70+1)","v":{"$error":"#VALUE!"}},{"$f":"IFERROR(MID('Data Input'!$A138,BJ70+2,2),\"\")","v":""},"","5",{"$f":"FIND(\" \"&BM70, 'Data Input'!$A138,BJ70+1)","v":{"$error":"#VALUE!"}},{"$f":"IFERROR(MID('Data Input'!$A138,BN70+2,2),\"\")","v":""},"","5",{"$f":"FIND(\" \"&BQ70, 'Data Input'!$A138,BN70+1)","v":{"$error":"#VALUE!"}},{"$f":"IFERROR(MID('Data Input'!$A138,BR70+2,2),\"\")","v":""},"","5",{"$f":"FIND(\" \"&BU70, 'Data Input'!$A138,BR70+1)","v":{"$error":"#VALUE!"}},{"$f":"IFERROR(MID('Data Input'!$A138,BV70+2,2),\"\")","v":""},"","5",{"$f":"FIND(\" \"&BY70, 'Data Input'!$A138,BV70+1)","v":{"$error":"#VALUE!"}},{"$f":"IFERROR(MID('Data Input'!$A138,BZ70+2,2),\"\")","v":""},"","6",{"$f":"FIND(\" \"&CC70, 'Data Input'!$A138,BZ70+1)","v":{"$error":"#VALUE!"}},{"$f":"IFERROR(MID('Data Input'!$A138,CD70+2,2),\"\")","v":""},"","6",{"$f":"FIND(\" \"&CG70, 'Data Input'!$A138,CD70+1)","v":{"$error":"#VALUE!"}},{"$f":"IFERROR(MID('Data Input'!$A138,CH70+2,2),\"\")","v":""},"","6",{"$f":"FIND(\" \"&CK70, 'Data Input'!$A138,CH70+1)","v":{"$error":"#VALUE!"}},{"$f":"IFERROR(MID('Data Input'!$A138,CL70+2,2),\"\")","v":""},"","6",{"$f":"FIND(\" \"&CO70, 'Data Input'!$A138,CL70+1)","v":{"$error":"#VALUE!"}},{"$f":"IFERROR(MID('Data Input'!$A138,CP70+2,2),\"\")","v":""},""]
["1",{"$f":"FIND(\" \"&A71, 'Data Input'!$A140)","v":{"$error":"#VALUE!"}},{"$f":"IFERROR(MID('Data Input'!$A140,B71+2,2),\"\")","v":""},"","1",{"$f":"FIND(\" \"&E71, 'Data Input'!$A140,B71+1)","v":{"$error":"#VALUE!"}},{"$f":"IFERROR(MID('Data Input'!$A140,F71+2,2),\"\")","v":""},"","1",{"$f":"FIND(\" \"&I71, 'Data Input'!$A140,F71+1)","v":{"$error":"#VALUE!"}},{"$f":"IFERROR(MID('Data Input'!$A140,J71+2,2),\"\")","v":""},"","1",{"$f":"FIND(\" \"&M71, 'Data Input'!$A140,J71+1)","v":{"$error":"#VALUE!"}},{"$f":"IFERROR(MID('Data Input'!$A140,N71+2,2),\"\")","v":""},"","2",{"$f":"FIND(\" \"&Q71, 'Data Input'!$A140,N71+1)","v":{"$error":"#VALUE!"}},{"$f":"IFERROR(MID('Data Input'!$A140,R71+2,2),\"\")","v":""},"","2",{"$f":"FIND(\" \"&U71, 'Data Input'!$A140,R71+1)","v":{"$error":"#VALUE!"}},{"$f":"IFERROR(MID('Data Input'!$A140,V71+2,2),\"\")","v":""},"","2",{"$f":"FIND(\" \"&Y71, 'Data Input'!$A140,V71+1)","v":{"$error":"#VALUE!"}},{"$f":"IFERROR(MID('Data Input'!$A140,Z71+2,2),\"\")","v":""},"","2",{"$f":"FIND(\" \"&AC71, 'Data Input'!$A140,Z71+1)","v":{"$error":"#VALUE!"}},{"$f":"IFERROR(MID('Data Input'!$A140,AD71+2,2),\"\")","v":""},"","3",{"$f":"FIND(\" \"&AG71, 'Data Input'!$A140,AD71+1)","v":{"$error":"#VALUE!"}},{"$f":"IFERROR(MID('Data Input'!$A140,AH71+2,2),\"\")","v":""},"","3",{"$f":"FIND(\" \"&AK71, 'Data Input'!$A140,AH71+1)","v":{"$error":"#VALUE!"}},{"$f":"IFERROR(MID('Data Input'!$A140,AL71+2,2),\"\")","v":""},"","3",{"$f":"FIND(\" \"&AO71, 'Data Input'!$A140,AL71+1)","v":{"$error":"#VALUE!"}},{"$f":"IFERROR(MID('Data Input'!$A140,AP71+2,2),\"\")","v":""},"","3",{"$f":"FIND(\" \"&AS71, 'Data Input'!$A140,AP71+1)","v":{"$error":"#VALUE!"}},{"$f":"IFERROR(MID('Data Input'!$A140,AT71+2,2),\"\")","v":""},"","4",{"$f":"FIND(\" \"&AW71, 'Data Input'!$A140,AT71+1)","v":{"$error":"#VALUE!"}},{"$f":"IFERROR(MID('Data Input'!$A140,AX71+2,2),\"\")","v":""},"","4",{"$f":"FIND(\" \"&BA71, 'Data Input'!$A140,AX71+1)","v":{"$error":"#VALUE!"}},{"$f":"IFERROR(MID('Data Input'!$A140,BB71+2,2),\"\")","v":""},"","4",{"$f":"FIND(\" \"&BE71, 'Data Input'!$A140,BB71+1)","v":{"$error":"#VALUE!"}},{"$f":"IFERROR(MID('Data Input'!$A140,BF71+2,2),\"\")","v":""},"","4",{"$f":"FIND(\" \"&BI71, 'Data Input'!$A140,BF71+1)","v":{"$error":"#VALUE!"}},{"$f":"IFERROR(MID('Data Input'!$A140,BJ71+2,2),\"\")","v":""},"","5",{"$f":"FIND(\" \"&BM71, 'Data Input'!$A140,BJ71+1)","v":{"$error":"#VALUE!"}},{"$f":"IFERROR(MID('Data Input'!$A140,BN71+2,2),\"\")","v":""},"","5",{"$f":"FIND(\" \"&BQ71, 'Data Input'!$A140,BN71+1)","v":{"$error":"#VALUE!"}},{"$f":"IFERROR(MID('Data Input'!$A140,BR71+2,2),\"\")","v":""},"","5",{"$f":"FIND(\" \"&BU71, 'Data Input'!$A140,BR71+1)","v":{"$error":"#VALUE!"}},{"$f":"IFERROR(MID('Data Input'!$A140,BV71+2,2),\"\")","v":""},"","5",{"$f":"FIND(\" \"&BY71, 'Data Input'!$A140,BV71+1)","v":{"$error":"#VALUE!"}},{"$f":"IFERROR(MID('Data Input'!$A140,BZ71+2,2),\"\")","v":""},"","6",{"$f":"FIND(\" \"&CC71, 'Data Input'!$A140,BZ71+1)","v":{"$error":"#VALUE!"}},{"$f":"IFERROR(MID('Data Input'!$A140,CD71+2,2),\"\")","v":""},"","6",{"$f":"FIND(\" \"&CG71, 'Data Input'!$A140,CD71+1)","v":{"$error":"#VALUE!"}},{"$f":"IFERROR(MID('Data Input'!$A140,CH71+2,2),\"\")","v":""},"","6",{"$f":"FIND(\" \"&CK71, 'Data Input'!$A140,CH71+1)","v":{"$error":"#VALUE!"}},{"$f":"IFERROR(MID('Data Input'!$A140,CL71+2,2),\"\")","v":""},"","6",{"$f":"FIND(\" \"&CO71, 'Data Input'!$A140,CL71+1)","v":{"$error":"#VALUE!"}},{"$f":"IFERROR(MID('Data Input'!$A140,CP71+2,2),\"\")","v":""},""]
["1",{"$f":"FIND(\" \"&A72, 'Data Input'!$A142)","v":{"$error":"#VALUE!"}},{"$f":"IFERROR(MID('Data Input'!$A142,B72+2,2),\"\")","v":""},"","1",{"$f":"FIND(\" \"&E72, 'Data Input'!$A142,B72+1)","v":{"$error":"#VALUE!"}},{"$f":"IFERROR(MID('Data Input'!$A142,F72+2,2),\"\")","v":""},"","1",{"$f":"FIND(\" \"&I72, 'Data Input'!$A142,F72+1)","v":{"$error":"#VALUE!"}},{"$f":"IFERROR(MID('Data Input'!$A142,J72+2,2),\"\")","v":""},"","1",{"$f":"FIND(\" \"&M72, 'Data Input'!$A142,J72+1)","v":{"$error":"#VALUE!"}},{"$f":"IFERROR(MID('Data Input'!$A142,N72+2,2),\"\")","v":""},"","2",{"$f":"FIND(\" \"&Q72, 'Data Input'!$A142,N72+1)","v":{"$error":"#VALUE!"}},{"$f":"IFERROR(MID('Data Input'!$A142,R72+2,2),\"\")","v":""},"","2",{"$f":"FIND(\" \"&U72, 'Data Input'!$A142,R72+1)","v":{"$error":"#VALUE!"}},{"$f":"IFERROR(MID('Data Input'!$A142,V72+2,2),\"\")","v":""},"","2",{"$f":"FIND(\" \"&Y72, 'Data Input'!$A142,V72+1)","v":{"$error":"#VALUE!"}},{"$f":"IFERROR(MID('Data Input'!$A142,Z72+2,2),\"\")","v":""},"","2",{"$f":"FIND(\" \"&AC72, 'Data Input'!$A142,Z72+1)","v":{"$error":"#VALUE!"}},{"$f":"IFERROR(MID('Data Input'!$A142,AD72+2,2),\"\")","v":""},"","3",{"$f":"FIND(\" \"&AG72, 'Data Input'!$A142,AD72+1)","v":{"$error":"#VALUE!"}},{"$f":"IFERROR(MID('Data Input'!$A142,AH72+2,2),\"\")","v":""},"","3",{"$f":"FIND(\" \"&AK72, 'Data Input'!$A142,AH72+1)","v":{"$error":"#VALUE!"}},{"$f":"IFERROR(MID('Data Input'!$A142,AL72+2,2),\"\")","v":""},"","3",{"$f":"FIND(\" \"&AO72, 'Data Input'!$A142,AL72+1)","v":{"$error":"#VALUE!"}},{"$f":"IFERROR(MID('Data Input'!$A142,AP72+2,2),\"\")","v":""},"","3",{"$f":"FIND(\" \"&AS72, 'Data Input'!$A142,AP72+1)","v":{"$error":"#VALUE!"}},{"$f":"IFERROR(MID('Data Input'!$A142,AT72+2,2),\"\")","v":""},"","4",{"$f":"FIND(\" \"&AW72, 'Data Input'!$A142,AT72+1)","v":{"$error":"#VALUE!"}},{"$f":"IFERROR(MID('Data Input'!$A142,AX72+2,2),\"\")","v":""},"","4",{"$f":"FIND(\" \"&BA72, 'Data Input'!$A142,AX72+1)","v":{"$error":"#VALUE!"}},{"$f":"IFERROR(MID('Data Input'!$A142,BB72+2,2),\"\")","v":""},"","4",{"$f":"FIND(\" \"&BE72, 'Data Input'!$A142,BB72+1)","v":{"$error":"#VALUE!"}},{"$f":"IFERROR(MID('Data Input'!$A142,BF72+2,2),\"\")","v":""},"","4",{"$f":"FIND(\" \"&BI72, 'Data Input'!$A142,BF72+1)","v":{"$error":"#VALUE!"}},{"$f":"IFERROR(MID('Data Input'!$A142,BJ72+2,2),\"\")","v":""},"","5",{"$f":"FIND(\" \"&BM72, 'Data Input'!$A142,BJ72+1)","v":{"$error":"#VALUE!"}},{"$f":"IFERROR(MID('Data Input'!$A142,BN72+2,2),\"\")","v":""},"","5",{"$f":"FIND(\" \"&BQ72, 'Data Input'!$A142,BN72+1)","v":{"$error":"#VALUE!"}},{"$f":"IFERROR(MID('Data Input'!$A142,BR72+2,2),\"\")","v":""},"","5",{"$f":"FIND(\" \"&BU72, 'Data Input'!$A142,BR72+1)","v":{"$error":"#VALUE!"}},{"$f":"IFERROR(MID('Data Input'!$A142,BV72+2,2),\"\")","v":""},"","5",{"$f":"FIND(\" \"&BY72, 'Data Input'!$A142,BV72+1)","v":{"$error":"#VALUE!"}},{"$f":"IFERROR(MID('Data Input'!$A142,BZ72+2,2),\"\")","v":""},"","6",{"$f":"FIND(\" \"&CC72, 'Data Input'!$A142,BZ72+1)","v":{"$error":"#VALUE!"}},{"$f":"IFERROR(MID('Data Input'!$A142,CD72+2,2),\"\")","v":""},"","6",{"$f":"FIND(\" \"&CG72, 'Data Input'!$A142,CD72+1)","v":{"$error":"#VALUE!"}},{"$f":"IFERROR(MID('Data Input'!$A142,CH72+2,2),\"\")","v":""},"","6",{"$f":"FIND(\" \"&CK72, 'Data Input'!$A142,CH72+1)","v":{"$error":"#VALUE!"}},{"$f":"IFERROR(MID('Data Input'!$A142,CL72+2,2),\"\")","v":""},"","6",{"$f":"FIND(\" \"&CO72, 'Data Input'!$A142,CL72+1)","v":{"$error":"#VALUE!"}},{"$f":"IFERROR(MID('Data Input'!$A142,CP72+2,2),\"\")","v":""},""]
["1",{"$f":"FIND(\" \"&A73, 'Data Input'!$A144)","v":{"$error":"#VALUE!"}},{"$f":"IFERROR(MID('Data Input'!$A144,B73+2,2),\"\")","v":""},"","1",{"$f":"FIND(\" \"&E73, 'Data Input'!$A144,B73+1)","v":{"$error":"#VALUE!"}},{"$f":"IFERROR(MID('Data Input'!$A144,F73+2,2),\"\")","v":""},"","1",{"$f":"FIND(\" \"&I73, 'Data Input'!$A144,F73+1)","v":{"$error":"#VALUE!"}},{"$f":"IFERROR(MID('Data Input'!$A144,J73+2,2),\"\")","v":""},"","1",{"$f":"FIND(\" \"&M73, 'Data Input'!$A144,J73+1)","v":{"$error":"#VALUE!"}},{"$f":"IFERROR(MID('Data Input'!$A144,N73+2,2),\"\")","v":""},"","2",{"$f":"FIND(\" \"&Q73, 'Data Input'!$A144,N73+1)","v":{"$error":"#VALUE!"}},{"$f":"IFERROR(MID('Data Input'!$A144,R73+2,2),\"\")","v":""},"","2",{"$f":"FIND(\" \"&U73, 'Data Input'!$A144,R73+1)","v":{"$error":"#VALUE!"}},{"$f":"IFERROR(MID('Data Input'!$A144,V73+2,2),\"\")","v":""},"","2",{"$f":"FIND(\" \"&Y73, 'Data Input'!$A144,V73+1)","v":{"$error":"#VALUE!"}},{"$f":"IFERROR(MID('Data Input'!$A144,Z73+2,2),\"\")","v":""},"","2",{"$f":"FIND(\" \"&AC73, 'Data Input'!$A144,Z73+1)","v":{"$error":"#VALUE!"}},{"$f":"IFERROR(MID('Data Input'!$A144,AD73+2,2),\"\")","v":""},"","3",{"$f":"FIND(\" \"&AG73, 'Data Input'!$A144,AD73+1)","v":{"$error":"#VALUE!"}},{"$f":"IFERROR(MID('Data Input'!$A144,AH73+2,2),\"\")","v":""},"","3",{"$f":"FIND(\" \"&AK73, 'Data Input'!$A144,AH73+1)","v":{"$error":"#VALUE!"}},{"$f":"IFERROR(MID('Data Input'!$A144,AL73+2,2),\"\")","v":""},"","3",{"$f":"FIND(\" \"&AO73, 'Data Input'!$A144,AL73+1)","v":{"$error":"#VALUE!"}},{"$f":"IFERROR(MID('Data Input'!$A144,AP73+2,2),\"\")","v":""},"","3",{"$f":"FIND(\" \"&AS73, 'Data Input'!$A144,AP73+1)","v":{"$error":"#VALUE!"}},{"$f":"IFERROR(MID('Data Input'!$A144,AT73+2,2),\"\")","v":""},"","4",{"$f":"FIND(\" \"&AW73, 'Data Input'!$A144,AT73+1)","v":{"$error":"#VALUE!"}},{"$f":"IFERROR(MID('Data Input'!$A144,AX73+2,2),\"\")","v":""},"","4",{"$f":"FIND(\" \"&BA73, 'Data Input'!$A144,AX73+1)","v":{"$error":"#VALUE!"}},{"$f":"IFERROR(MID('Data Input'!$A144,BB73+2,2),\"\")","v":""},"","4",{"$f":"FIND(\" \"&BE73, 'Data Input'!$A144,BB73+1)","v":{"$error":"#VALUE!"}},{"$f":"IFERROR(MID('Data Input'!$A144,BF73+2,2),\"\")","v":""},"","4",{"$f":"FIND(\" \"&BI73, 'Data Input'!$A144,BF73+1)","v":{"$error":"#VALUE!"}},{"$f":"IFERROR(MID('Data Input'!$A144,BJ73+2,2),\"\")","v":""},"","5",{"$f":"FIND(\" \"&BM73, 'Data Input'!$A144,BJ73+1)","v":{"$error":"#VALUE!"}},{"$f":"IFERROR(MID('Data Input'!$A144,BN73+2,2),\"\")","v":""},"","5",{"$f":"FIND(\" \"&BQ73, 'Data Input'!$A144,BN73+1)","v":{"$error":"#VALUE!"}},{"$f":"IFERROR(MID('Data Input'!$A144,BR73+2,2),\"\")","v":""},"","5",{"$f":"FIND(\" \"&BU73, 'Data Input'!$A144,BR73+1)","v":{"$error":"#VALUE!"}},{"$f":"IFERROR(MID('Data Input'!$A144,BV73+2,2),\"\")","v":""},"","5",{"$f":"FIND(\" \"&BY73, 'Data Input'!$A144,BV73+1)","v":{"$error":"#VALUE!"}},{"$f":"IFERROR(MID('Data Input'!$A144,BZ73+2,2),\"\")","v":""},"","6",{"$f":"FIND(\" \"&CC73, 'Data Input'!$A144,BZ73+1)","v":{"$error":"#VALUE!"}},{"$f":"IFERROR(MID('Data Input'!$A144,CD73+2,2),\"\")","v":""},"","6",{"$f":"FIND(\" \"&CG73, 'Data Input'!$A144,CD73+1)","v":{"$error":"#VALUE!"}},{"$f":"IFERROR(MID('Data Input'!$A144,CH73+2,2),\"\")","v":""},"","6",{"$f":"FIND(\" \"&CK73, 'Data Input'!$A144,CH73+1)","v":{"$error":"#VALUE!"}},{"$f":"IFERROR(MID('Data Input'!$A144,CL73+2,2),\"\")","v":""},"","6",{"$f":"FIND(\" \"&CO73, 'Data Input'!$A144,CL73+1)","v":{"$error":"#VALUE!"}},{"$f":"IFERROR(MID('Data Input'!$A144,CP73+2,2),\"\")","v":""},""]
["1",{"$f":"FIND(\" \"&A74, 'Data Input'!$A146)","v":{"$error":"#VALUE!"}},{"$f":"IFERROR(MID('Data Input'!$A146,B74+2,2),\"\")","v":""},"","1",{"$f":"FIND(\" \"&E74, 'Data Input'!$A146,B74+1)","v":{"$error":"#VALUE!"}},{"$f":"IFERROR(MID('Data Input'!$A146,F74+2,2),\"\")","v":""},"","1",{"$f":"FIND(\" \"&I74, 'Data Input'!$A146,F74+1)","v":{"$error":"#VALUE!"}},{"$f":"IFERROR(MID('Data Input'!$A146,J74+2,2),\"\")","v":""},"","1",{"$f":"FIND(\" \"&M74, 'Data Input'!$A146,J74+1)","v":{"$error":"#VALUE!"}},{"$f":"IFERROR(MID('Data Input'!$A146,N74+2,2),\"\")","v":""},"","2",{"$f":"FIND(\" \"&Q74, 'Data Input'!$A146,N74+1)","v":{"$error":"#VALUE!"}},{"$f":"IFERROR(MID('Data Input'!$A146,R74+2,2),\"\")","v":""},"","2",{"$f":"FIND(\" \"&U74, 'Data Input'!$A146,R74+1)","v":{"$error":"#VALUE!"}},{"$f":"IFERROR(MID('Data Input'!$A146,V74+2,2),\"\")","v":""},"","2",{"$f":"FIND(\" \"&Y74, 'Data Input'!$A146,V74+1)","v":{"$error":"#VALUE!"}},{"$f":"IFERROR(MID('Data Input'!$A146,Z74+2,2),\"\")","v":""},"","2",{"$f":"FIND(\" \"&AC74, 'Data Input'!$A146,Z74+1)","v":{"$error":"#VALUE!"}},{"$f":"IFERROR(MID('Data Input'!$A146,AD74+2,2),\"\")","v":""},"","3",{"$f":"FIND(\" \"&AG74, 'Data Input'!$A146,AD74+1)","v":{"$error":"#VALUE!"}},{"$f":"IFERROR(MID('Data Input'!$A146,AH74+2,2),\"\")","v":""},"","3",{"$f":"FIND(\" \"&AK74, 'Data Input'!$A146,AH74+1)","v":{"$error":"#VALUE!"}},{"$f":"IFERROR(MID('Data Input'!$A146,AL74+2,2),\"\")","v":""},"","3",{"$f":"FIND(\" \"&AO74, 'Data Input'!$A146,AL74+1)","v":{"$error":"#VALUE!"}},{"$f":"IFERROR(MID('Data Input'!$A146,AP74+2,2),\"\")","v":""},"","3",{"$f":"FIND(\" \"&AS74, 'Data Input'!$A146,AP74+1)","v":{"$error":"#VALUE!"}},{"$f":"IFERROR(MID('Data Input'!$A146,AT74+2,2),\"\")","v":""},"","4",{"$f":"FIND(\" \"&AW74, 'Data Input'!$A146,AT74+1)","v":{"$error":"#VALUE!"}},{"$f":"IFERROR(MID('Data Input'!$A146,AX74+2,2),\"\")","v":""},"","4",{"$f":"FIND(\" \"&BA74, 'Data Input'!$A146,AX74+1)","v":{"$error":"#VALUE!"}},{"$f":"IFERROR(MID('Data Input'!$A146,BB74+2,2),\"\")","v":""},"","4",{"$f":"FIND(\" \"&BE74, 'Data Input'!$A146,BB74+1)","v":{"$error":"#VALUE!"}},{"$f":"IFERROR(MID('Data Input'!$A146,BF74+2,2),\"\")","v":""},"","4",{"$f":"FIND(\" \"&BI74, 'Data Input'!$A146,BF74+1)","v":{"$error":"#VALUE!"}},{"$f":"IFERROR(MID('Data Input'!$A146,BJ74+2,2),\"\")","v":""},"","5",{"$f":"FIND(\" \"&BM74, 'Data Input'!$A146,BJ74+1)","v":{"$error":"#VALUE!"}},{"$f":"IFERROR(MID('Data Input'!$A146,BN74+2,2),\"\")","v":""},"","5",{"$f":"FIND(\" \"&BQ74, 'Data Input'!$A146,BN74+1)","v":{"$error":"#VALUE!"}},{"$f":"IFERROR(MID('Data Input'!$A146,BR74+2,2),\"\")","v":""},"","5",{"$f":"FIND(\" \"&BU74, 'Data Input'!$A146,BR74+1)","v":{"$error":"#VALUE!"}},{"$f":"IFERROR(MID('Data Input'!$A146,BV74+2,2),\"\")","v":""},"","5",{"$f":"FIND(\" \"&BY74, 'Data Input'!$A146,BV74+1)","v":{"$error":"#VALUE!"}},{"$f":"IFERROR(MID('Data Input'!$A146,BZ74+2,2),\"\")","v":""},"","6",{"$f":"FIND(\" \"&CC74, 'Data Input'!$A146,BZ74+1)","v":{"$error":"#VALUE!"}},{"$f":"IFERROR(MID('Data Input'!$A146,CD74+2,2),\"\")","v":""},"","6",{"$f":"FIND(\" \"&CG74, 'Data Input'!$A146,CD74+1)","v":{"$error":"#VALUE!"}},{"$f":"IFERROR(MID('Data Input'!$A146,CH74+2,2),\"\")","v":""},"","6",{"$f":"FIND(\" \"&CK74, 'Data Input'!$A146,CH74+1)","v":{"$error":"#VALUE!"}},{"$f":"IFERROR(MID('Data Input'!$A146,CL74+2,2),\"\")","v":""},"","6",{"$f":"FIND(\" \"&CO74, 'Data Input'!$A146,CL74+1)","v":{"$error":"#VALUE!"}},{"$f":"IFERROR(MID('Data Input'!$A146,CP74+2,2),\"\")","v":""},""]
["1",{"$f":"FIND(\" \"&A75, 'Data Input'!$A148)","v":{"$error":"#VALUE!"}},{"$f":"IFERROR(MID('Data Input'!$A148,B75+2,2),\"\")","v":""},"","1",{"$f":"FIND(\" \"&E75, 'Data Input'!$A148,B75+1)","v":{"$error":"#VALUE!"}},{"$f":"IFERROR(MID('Data Input'!$A148,F75+2,2),\"\")","v":""},"","1",{"$f":"FIND(\" \"&I75, 'Data Input'!$A148,F75+1)","v":{"$error":"#VALUE!"}},{"$f":"IFERROR(MID('Data Input'!$A148,J75+2,2),\"\")","v":""},"","1",{"$f":"FIND(\" \"&M75, 'Data Input'!$A148,J75+1)","v":{"$error":"#VALUE!"}},{"$f":"IFERROR(MID('Data Input'!$A148,N75+2,2),\"\")","v":""},"","2",{"$f":"FIND(\" \"&Q75, 'Data Input'!$A148,N75+1)","v":{"$error":"#VALUE!"}},{"$f":"IFERROR(MID('Data Input'!$A148,R75+2,2),\"\")","v":""},"","2",{"$f":"FIND(\" \"&U75, 'Data Input'!$A148,R75+1)","v":{"$error":"#VALUE!"}},{"$f":"IFERROR(MID('Data Input'!$A148,V75+2,2),\"\")","v":""},"","2",{"$f":"FIND(\" \"&Y75, 'Data Input'!$A148,V75+1)","v":{"$error":"#VALUE!"}},{"$f":"IFERROR(MID('Data Input'!$A148,Z75+2,2),\"\")","v":""},"","2",{"$f":"FIND(\" \"&AC75, 'Data Input'!$A148,Z75+1)","v":{"$error":"#VALUE!"}},{"$f":"IFERROR(MID('Data Input'!$A148,AD75+2,2),\"\")","v":""},"","3",{"$f":"FIND(\" \"&AG75, 'Data Input'!$A148,AD75+1)","v":{"$error":"#VALUE!"}},{"$f":"IFERROR(MID('Data Input'!$A148,AH75+2,2),\"\")","v":""},"","3",{"$f":"FIND(\" \"&AK75, 'Data Input'!$A148,AH75+1)","v":{"$error":"#VALUE!"}},{"$f":"IFERROR(MID('Data Input'!$A148,AL75+2,2),\"\")","v":""},"","3",{"$f":"FIND(\" \"&AO75, 'Data Input'!$A148,AL75+1)","v":{"$error":"#VALUE!"}},{"$f":"IFERROR(MID('Data Input'!$A148,AP75+2,2),\"\")","v":""},"","3",{"$f":"FIND(\" \"&AS75, 'Data Input'!$A148,AP75+1)","v":{"$error":"#VALUE!"}},{"$f":"IFERROR(MID('Data Input'!$A148,AT75+2,2),\"\")","v":""},"","4",{"$f":"FIND(\" \"&AW75, 'Data Input'!$A148,AT75+1)","v":{"$error":"#VALUE!"}},{"$f":"IFERROR(MID('Data Input'!$A148,AX75+2,2),\"\")","v":""},"","4",{"$f":"FIND(\" \"&BA75, 'Data Input'!$A148,AX75+1)","v":{"$error":"#VALUE!"}},{"$f":"IFERROR(MID('Data Input'!$A148,BB75+2,2),\"\")","v":""},"","4",{"$f":"FIND(\" \"&BE75, 'Data Input'!$A148,BB75+1)","v":{"$error":"#VALUE!"}},{"$f":"IFERROR(MID('Data Input'!$A148,BF75+2,2),\"\")","v":""},"","4",{"$f":"FIND(\" \"&BI75, 'Data Input'!$A148,BF75+1)","v":{"$error":"#VALUE!"}},{"$f":"IFERROR(MID('Data Input'!$A148,BJ75+2,2),\"\")","v":""},"","5",{"$f":"FIND(\" \"&BM75, 'Data Input'!$A148,BJ75+1)","v":{"$error":"#VALUE!"}},{"$f":"IFERROR(MID('Data Input'!$A148,BN75+2,2),\"\")","v":""},"","5",{"$f":"FIND(\" \"&BQ75, 'Data Input'!$A148,BN75+1)","v":{"$error":"#VALUE!"}},{"$f":"IFERROR(MID('Data Input'!$A148,BR75+2,2),\"\")","v":""},"","5",{"$f":"FIND(\" \"&BU75, 'Data Input'!$A148,BR75+1)","v":{"$error":"#VALUE!"}},{"$f":"IFERROR(MID('Data Input'!$A148,BV75+2,2),\"\")","v":""},"","5",{"$f":"FIND(\" \"&BY75, 'Data Input'!$A148,BV75+1)","v":{"$error":"#VALUE!"}},{"$f":"IFERROR(MID('Data Input'!$A148,BZ75+2,2),\"\")","v":""},"","6",{"$f":"FIND(\" \"&CC75, 'Data Input'!$A148,BZ75+1)","v":{"$error":"#VALUE!"}},{"$f":"IFERROR(MID('Data Input'!$A148,CD75+2,2),\"\")","v":""},"","6",{"$f":"FIND(\" \"&CG75, 'Data Input'!$A148,CD75+1)","v":{"$error":"#VALUE!"}},{"$f":"IFERROR(MID('Data Input'!$A148,CH75+2,2),\"\")","v":""},"","6",{"$f":"FIND(\" \"&CK75, 'Data Input'!$A148,CH75+1)","v":{"$error":"#VALUE!"}},{"$f":"IFERROR(MID('Data Input'!$A148,CL75+2,2),\"\")","v":""},"","6",{"$f":"FIND(\" \"&CO75, 'Data Input'!$A148,CL75+1)","v":{"$error":"#VALUE!"}},{"$f":"IFERROR(MID('Data Input'!$A148,CP75+2,2),\"\")","v":""},""]
["1",{"$f":"FIND(\" \"&A76, 'Data Input'!$A150)","v":{"$error":"#VALUE!"}},{"$f":"IFERROR(MID('Data Input'!$A150,B76+2,2),\"\")","v":""},"","1",{"$f":"FIND(\" \"&E76, 'Data Input'!$A150,B76+1)","v":{"$error":"#VALUE!"}},{"$f":"IFERROR(MID('Data Input'!$A150,F76+2,2),\"\")","v":""},"","1",{"$f":"FIND(\" \"&I76, 'Data Input'!$A150,F76+1)","v":{"$error":"#VALUE!"}},{"$f":"IFERROR(MID('Data Input'!$A150,J76+2,2),\"\")","v":""},"","1",{"$f":"FIND(\" \"&M76, 'Data Input'!$A150,J76+1)","v":{"$error":"#VALUE!"}},{"$f":"IFERROR(MID('Data Input'!$A150,N76+2,2),\"\")","v":""},"","2",{"$f":"FIND(\" \"&Q76, 'Data Input'!$A150,N76+1)","v":{"$error":"#VALUE!"}},{"$f":"IFERROR(MID('Data Input'!$A150,R76+2,2),\"\")","v":""},"","2",{"$f":"FIND(\" \"&U76, 'Data Input'!$A150,R76+1)","v":{"$error":"#VALUE!"}},{"$f":"IFERROR(MID('Data Input'!$A150,V76+2,2),\"\")","v":""},"","2",{"$f":"FIND(\" \"&Y76, 'Data Input'!$A150,V76+1)","v":{"$error":"#VALUE!"}},{"$f":"IFERROR(MID('Data Input'!$A150,Z76+2,2),\"\")","v":""},"","2",{"$f":"FIND(\" \"&AC76, 'Data Input'!$A150,Z76+1)","v":{"$error":"#VALUE!"}},{"$f":"IFERROR(MID('Data Input'!$A150,AD76+2,2),\"\")","v":""},"","3",{"$f":"FIND(\" \"&AG76, 'Data Input'!$A150,AD76+1)","v":{"$error":"#VALUE!"}},{"$f":"IFERROR(MID('Data Input'!$A150,AH76+2,2),\"\")","v":""},"","3",{"$f":"FIND(\" \"&AK76, 'Data Input'!$A150,AH76+1)","v":{"$error":"#VALUE!"}},{"$f":"IFERROR(MID('Data Input'!$A150,AL76+2,2),\"\")","v":""},"","3",{"$f":"FIND(\" \"&AO76, 'Data Input'!$A150,AL76+1)","v":{"$error":"#VALUE!"}},{"$f":"IFERROR(MID('Data Input'!$A150,AP76+2,2),\"\")","v":""},"","3",{"$f":"FIND(\" \"&AS76, 'Data Input'!$A150,AP76+1)","v":{"$error":"#VALUE!"}},{"$f":"IFERROR(MID('Data Input'!$A150,AT76+2,2),\"\")","v":""},"","4",{"$f":"FIND(\" \"&AW76, 'Data Input'!$A150,AT76+1)","v":{"$error":"#VALUE!"}},{"$f":"IFERROR(MID('Data Input'!$A150,AX76+2,2),\"\")","v":""},"","4",{"$f":"FIND(\" \"&BA76, 'Data Input'!$A150,AX76+1)","v":{"$error":"#VALUE!"}},{"$f":"IFERROR(MID('Data Input'!$A150,BB76+2,2),\"\")","v":""},"","4",{"$f":"FIND(\" \"&BE76, 'Data Input'!$A150,BB76+1)","v":{"$error":"#VALUE!"}},{"$f":"IFERROR(MID('Data Input'!$A150,BF76+2,2),\"\")","v":""},"","4",{"$f":"FIND(\" \"&BI76, 'Data Input'!$A150,BF76+1)","v":{"$error":"#VALUE!"}},{"$f":"IFERROR(MID('Data Input'!$A150,BJ76+2,2),\"\")","v":""},"","5",{"$f":"FIND(\" \"&BM76, 'Data Input'!$A150,BJ76+1)","v":{"$error":"#VALUE!"}},{"$f":"IFERROR(MID('Data Input'!$A150,BN76+2,2),\"\")","v":""},"","5",{"$f":"FIND(\" \"&BQ76, 'Data Input'!$A150,BN76+1)","v":{"$error":"#VALUE!"}},{"$f":"IFERROR(MID('Data Input'!$A150,BR76+2,2),\"\")","v":""},"","5",{"$f":"FIND(\" \"&BU76, 'Data Input'!$A150,BR76+1)","v":{"$error":"#VALUE!"}},{"$f":"IFERROR(MID('Data Input'!$A150,BV76+2,2),\"\")","v":""},"","5",{"$f":"FIND(\" \"&BY76, 'Data Input'!$A150,BV76+1)","v":{"$error":"#VALUE!"}},{"$f":"IFERROR(MID('Data Input'!$A150,BZ76+2,2),\"\")","v":""},"","6",{"$f":"FIND(\" \"&CC76, 'Data Input'!$A150,BZ76+1)","v":{"$error":"#VALUE!"}},{"$f":"IFERROR(MID('Data Input'!$A150,CD76+2,2),\"\")","v":""},"","6",{"$f":"FIND(\" \"&CG76, 'Data Input'!$A150,CD76+1)","v":{"$error":"#VALUE!"}},{"$f":"IFERROR(MID('Data Input'!$A150,CH76+2,2),\"\")","v":""},"","6",{"$f":"FIND(\" \"&CK76, 'Data Input'!$A150,CH76+1)","v":{"$error":"#VALUE!"}},{"$f":"IFERROR(MID('Data Input'!$A150,CL76+2,2),\"\")","v":""},"","6",{"$f":"FIND(\" \"&CO76, 'Data Input'!$A150,CL76+1)","v":{"$error":"#VALUE!"}},{"$f":"IFERROR(MID('Data Input'!$A150,CP76+2,2),\"\")","v":""},""]
["1",{"$f":"FIND(\" \"&A77, 'Data Input'!$A152)","v":{"$error":"#VALUE!"}},{"$f":"IFERROR(MID('Data Input'!$A152,B77+2,2),\"\")","v":""},"","1",{"$f":"FIND(\" \"&E77, 'Data Input'!$A152,B77+1)","v":{"$error":"#VALUE!"}},{"$f":"IFERROR(MID('Data Input'!$A152,F77+2,2),\"\")","v":""},"","1",{"$f":"FIND(\" \"&I77, 'Data Input'!$A152,F77+1)","v":{"$error":"#VALUE!"}},{"$f":"IFERROR(MID('Data Input'!$A152,J77+2,2),\"\")","v":""},"","1",{"$f":"FIND(\" \"&M77, 'Data Input'!$A152,J77+1)","v":{"$error":"#VALUE!"}},{"$f":"IFERROR(MID('Data Input'!$A152,N77+2,2),\"\")","v":""},"","2",{"$f":"FIND(\" \"&Q77, 'Data Input'!$A152,N77+1)","v":{"$error":"#VALUE!"}},{"$f":"IFERROR(MID('Data Input'!$A152,R77+2,2),\"\")","v":""},"","2",{"$f":"FIND(\" \"&U77, 'Data Input'!$A152,R77+1)","v":{"$error":"#VALUE!"}},{"$f":"IFERROR(MID('Data Input'!$A152,V77+2,2),\"\")","v":""},"","2",{"$f":"FIND(\" \"&Y77, 'Data Input'!$A152,V77+1)","v":{"$error":"#VALUE!"}},{"$f":"IFERROR(MID('Data Input'!$A152,Z77+2,2),\"\")","v":""},"","2",{"$f":"FIND(\" \"&AC77, 'Data Input'!$A152,Z77+1)","v":{"$error":"#VALUE!"}},{"$f":"IFERROR(MID('Data Input'!$A152,AD77+2,2),\"\")","v":""},"","3",{"$f":"FIND(\" \"&AG77, 'Data Input'!$A152,AD77+1)","v":{"$error":"#VALUE!"}},{"$f":"IFERROR(MID('Data Input'!$A152,AH77+2,2),\"\")","v":""},"","3",{"$f":"FIND(\" \"&AK77, 'Data Input'!$A152,AH77+1)","v":{"$error":"#VALUE!"}},{"$f":"IFERROR(MID('Data Input'!$A152,AL77+2,2),\"\")","v":""},"","3",{"$f":"FIND(\" \"&AO77, 'Data Input'!$A152,AL77+1)","v":{"$error":"#VALUE!"}},{"$f":"IFERROR(MID('Data Input'!$A152,AP77+2,2),\"\")","v":""},"","3",{"$f":"FIND(\" \"&AS77, 'Data Input'!$A152,AP77+1)","v":{"$error":"#VALUE!"}},{"$f":"IFERROR(MID('Data Input'!$A152,AT77+2,2),\"\")","v":""},"","4",{"$f":"FIND(\" \"&AW77, 'Data Input'!$A152,AT77+1)","v":{"$error":"#VALUE!"}},{"$f":"IFERROR(MID('Data Input'!$A152,AX77+2,2),\"\")","v":""},"","4",{"$f":"FIND(\" \"&BA77, 'Data Input'!$A152,AX77+1)","v":{"$error":"#VALUE!"}},{"$f":"IFERROR(MID('Data Input'!$A152,BB77+2,2),\"\")","v":""},"","4",{"$f":"FIND(\" \"&BE77, 'Data Input'!$A152,BB77+1)","v":{"$error":"#VALUE!"}},{"$f":"IFERROR(MID('Data Input'!$A152,BF77+2,2),\"\")","v":""},"","4",{"$f":"FIND(\" \"&BI77, 'Data Input'!$A152,BF77+1)","v":{"$error":"#VALUE!"}},{"$f":"IFERROR(MID('Data Input'!$A152,BJ77+2,2),\"\")","v":""},"","5",{"$f":"FIND(\" \"&BM77, 'Data Input'!$A152,BJ77+1)","v":{"$error":"#VALUE!"}},{"$f":"IFERROR(MID('Data Input'!$A152,BN77+2,2),\"\")","v":""},"","5",{"$f":"FIND(\" \"&BQ77, 'Data Input'!$A152,BN77+1)","v":{"$error":"#VALUE!"}},{"$f":"IFERROR(MID('Data Input'!$A152,BR77+2,2),\"\")","v":""},"","5",{"$f":"FIND(\" \"&BU77, 'Data Input'!$A152,BR77+1)","v":{"$error":"#VALUE!"}},{"$f":"IFERROR(MID('Data Input'!$A152,BV77+2,2),\"\")","v":""},"","5",{"$f":"FIND(\" \"&BY77, 'Data Input'!$A152,BV77+1)","v":{"$error":"#VALUE!"}},{"$f":"IFERROR(MID('Data Input'!$A152,BZ77+2,2),\"\")","v":""},"","6",{"$f":"FIND(\" \"&CC77, 'Data Input'!$A152,BZ77+1)","v":{"$error":"#VALUE!"}},{"$f":"IFERROR(MID('Data Input'!$A152,CD77+2,2),\"\")","v":""},"","6",{"$f":"FIND(\" \"&CG77, 'Data Input'!$A152,CD77+1)","v":{"$error":"#VALUE!"}},{"$f":"IFERROR(MID('Data Input'!$A152,CH77+2,2),\"\")","v":""},"","6",{"$f":"FIND(\" \"&CK77, 'Data Input'!$A152,CH77+1)","v":{"$error":"#VALUE!"}},{"$f":"IFERROR(MID('Data Input'!$A152,CL77+2,2),\"\")","v":""},"","6",{"$f":"FIND(\" \"&CO77, 'Data Input'!$A152,CL77+1)","v":{"$error":"#VALUE!"}},{"$f":"IFERROR(MID('Data Input'!$A152,CP77+2,2),\"\")","v":""},""]
["1",{"$f":"FIND(\" \"&A78, 'Data Input'!$A154)","v":{"$error":"#VALUE!"}},{"$f":"IFERROR(MID('Data Input'!$A154,B78+2,2),\"\")","v":""},"","1",{"$f":"FIND(\" \"&E78, 'Data Input'!$A154,B78+1)","v":{"$error":"#VALUE!"}},{"$f":"IFERROR(MID('Data Input'!$A154,F78+2,2),\"\")","v":""},"","1",{"$f":"FIND(\" \"&I78, 'Data Input'!$A154,F78+1)","v":{"$error":"#VALUE!"}},{"$f":"IFERROR(MID('Data Input'!$A154,J78+2,2),\"\")","v":""},"","1",{"$f":"FIND(\" \"&M78, 'Data Input'!$A154,J78+1)","v":{"$error":"#VALUE!"}},{"$f":"IFERROR(MID('Data Input'!$A154,N78+2,2),\"\")","v":""},"","2",{"$f":"FIND(\" \"&Q78, 'Data Input'!$A154,N78+1)","v":{"$error":"#VALUE!"}},{"$f":"IFERROR(MID('Data Input'!$A154,R78+2,2),\"\")","v":""},"","2",{"$f":"FIND(\" \"&U78, 'Data Input'!$A154,R78+1)","v":{"$error":"#VALUE!"}},{"$f":"IFERROR(MID('Data Input'!$A154,V78+2,2),\"\")","v":""},"","2",{"$f":"FIND(\" \"&Y78, 'Data Input'!$A154,V78+1)","v":{"$error":"#VALUE!"}},{"$f":"IFERROR(MID('Data Input'!$A154,Z78+2,2),\"\")","v":""},"","2",{"$f":"FIND(\" \"&AC78, 'Data Input'!$A154,Z78+1)","v":{"$error":"#VALUE!"}},{"$f":"IFERROR(MID('Data Input'!$A154,AD78+2,2),\"\")","v":""},"","3",{"$f":"FIND(\" \"&AG78, 'Data Input'!$A154,AD78+1)","v":{"$error":"#VALUE!"}},{"$f":"IFERROR(MID('Data Input'!$A154,AH78+2,2),\"\")","v":""},"","3",{"$f":"FIND(\" \"&AK78, 'Data Input'!$A154,AH78+1)","v":{"$error":"#VALUE!"}},{"$f":"IFERROR(MID('Data Input'!$A154,AL78+2,2),\"\")","v":""},"","3",{"$f":"FIND(\" \"&AO78, 'Data Input'!$A154,AL78+1)","v":{"$error":"#VALUE!"}},{"$f":"IFERROR(MID('Data Input'!$A154,AP78+2,2),\"\")","v":""},"","3",{"$f":"FIND(\" \"&AS78, 'Data Input'!$A154,AP78+1)","v":{"$error":"#VALUE!"}},{"$f":"IFERROR(MID('Data Input'!$A154,AT78+2,2),\"\")","v":""},"","4",{"$f":"FIND(\" \"&AW78, 'Data Input'!$A154,AT78+1)","v":{"$error":"#VALUE!"}},{"$f":"IFERROR(MID('Data Input'!$A154,AX78+2,2),\"\")","v":""},"","4",{"$f":"FIND(\" \"&BA78, 'Data Input'!$A154,AX78+1)","v":{"$error":"#VALUE!"}},{"$f":"IFERROR(MID('Data Input'!$A154,BB78+2,2),\"\")","v":""},"","4",{"$f":"FIND(\" \"&BE78, 'Data Input'!$A154,BB78+1)","v":{"$error":"#VALUE!"}},{"$f":"IFERROR(MID('Data Input'!$A154,BF78+2,2),\"\")","v":""},"","4",{"$f":"FIND(\" \"&BI78, 'Data Input'!$A154,BF78+1)","v":{"$error":"#VALUE!"}},{"$f":"IFERROR(MID('Data Input'!$A154,BJ78+2,2),\"\")","v":""},"","5",{"$f":"FIND(\" \"&BM78, 'Data Input'!$A154,BJ78+1)","v":{"$error":"#VALUE!"}},{"$f":"IFERROR(MID('Data Input'!$A154,BN78+2,2),\"\")","v":""},"","5",{"$f":"FIND(\" \"&BQ78, 'Data Input'!$A154,BN78+1)","v":{"$error":"#VALUE!"}},{"$f":"IFERROR(MID('Data Input'!$A154,BR78+2,2),\"\")","v":""},"","5",{"$f":"FIND(\" \"&BU78, 'Data Input'!$A154,BR78+1)","v":{"$error":"#VALUE!"}},{"$f":"IFERROR(MID('Data Input'!$A154,BV78+2,2),\"\")","v":""},"","5",{"$f":"FIND(\" \"&BY78, 'Data Input'!$A154,BV78+1)","v":{"$error":"#VALUE!"}},{"$f":"IFERROR(MID('Data Input'!$A154,BZ78+2,2),\"\")","v":""},"","6",{"$f":"FIND(\" \"&CC78, 'Data Input'!$A154,BZ78+1)","v":{"$error":"#VALUE!"}},{"$f":"IFERROR(MID('Data Input'!$A154,CD78+2,2),\"\")","v":""},"","6",{"$f":"FIND(\" \"&CG78, 'Data Input'!$A154,CD78+1)","v":{"$error":"#VALUE!"}},{"$f":"IFERROR(MID('Data Input'!$A154,CH78+2,2),\"\")","v":""},"","6",{"$f":"FIND(\" \"&CK78, 'Data Input'!$A154,CH78+1)","v":{"$error":"#VALUE!"}},{"$f":"IFERROR(MID('Data Input'!$A154,CL78+2,2),\"\")","v":""},"","6",{"$f":"FIND(\" \"&CO78, 'Data Input'!$A154,CL78+1)","v":{"$error":"#VALUE!"}},{"$f":"IFERROR(MID('Data Input'!$A154,CP78+2,2),\"\")","v":""},""]
["1",{"$f":"FIND(\" \"&A79, 'Data Input'!$A156)","v":{"$error":"#VALUE!"}},{"$f":"IFERROR(MID('Data Input'!$A156,B79+2,2),\"\")","v":""},"","1",{"$f":"FIND(\" \"&E79, 'Data Input'!$A156,B79+1)","v":{"$error":"#VALUE!"}},{"$f":"IFERROR(MID('Data Input'!$A156,F79+2,2),\"\")","v":""},"","1",{"$f":"FIND(\" \"&I79, 'Data Input'!$A156,F79+1)","v":{"$error":"#VALUE!"}},{"$f":"IFERROR(MID('Data Input'!$A156,J79+2,2),\"\")","v":""},"","1",{"$f":"FIND(\" \"&M79, 'Data Input'!$A156,J79+1)","v":{"$error":"#VALUE!"}},{"$f":"IFERROR(MID('Data Input'!$A156,N79+2,2),\"\")","v":""},"","2",{"$f":"FIND(\" \"&Q79, 'Data Input'!$A156,N79+1)","v":{"$error":"#VALUE!"}},{"$f":"IFERROR(MID('Data Input'!$A156,R79+2,2),\"\")","v":""},"","2",{"$f":"FIND(\" \"&U79, 'Data Input'!$A156,R79+1)","v":{"$error":"#VALUE!"}},{"$f":"IFERROR(MID('Data Input'!$A156,V79+2,2),\"\")","v":""},"","2",{"$f":"FIND(\" \"&Y79, 'Data Input'!$A156,V79+1)","v":{"$error":"#VALUE!"}},{"$f":"IFERROR(MID('Data Input'!$A156,Z79+2,2),\"\")","v":""},"","2",{"$f":"FIND(\" \"&AC79, 'Data Input'!$A156,Z79+1)","v":{"$error":"#VALUE!"}},{"$f":"IFERROR(MID('Data Input'!$A156,AD79+2,2),\"\")","v":""},"","3",{"$f":"FIND(\" \"&AG79, 'Data Input'!$A156,AD79+1)","v":{"$error":"#VALUE!"}},{"$f":"IFERROR(MID('Data Input'!$A156,AH79+2,2),\"\")","v":""},"","3",{"$f":"FIND(\" \"&AK79, 'Data Input'!$A156,AH79+1)","v":{"$error":"#VALUE!"}},{"$f":"IFERROR(MID('Data Input'!$A156,AL79+2,2),\"\")","v":""},"","3",{"$f":"FIND(\" \"&AO79, 'Data Input'!$A156,AL79+1)","v":{"$error":"#VALUE!"}},{"$f":"IFERROR(MID('Data Input'!$A156,AP79+2,2),\"\")","v":""},"","3",{"$f":"FIND(\" \"&AS79, 'Data Input'!$A156,AP79+1)","v":{"$error":"#VALUE!"}},{"$f":"IFERROR(MID('Data Input'!$A156,AT79+2,2),\"\")","v":""},"","4",{"$f":"FIND(\" \"&AW79, 'Data Input'!$A156,AT79+1)","v":{"$error":"#VALUE!"}},{"$f":"IFERROR(MID('Data Input'!$A156,AX79+2,2),\"\")","v":""},"","4",{"$f":"FIND(\" \"&BA79, 'Data Input'!$A156,AX79+1)","v":{"$error":"#VALUE!"}},{"$f":"IFERROR(MID('Data Input'!$A156,BB79+2,2),\"\")","v":""},"","4",{"$f":"FIND(\" \"&BE79, 'Data Input'!$A156,BB79+1)","v":{"$error":"#VALUE!"}},{"$f":"IFERROR(MID('Data Input'!$A156,BF79+2,2),\"\")","v":""},"","4",{"$f":"FIND(\" \"&BI79, 'Data Input'!$A156,BF79+1)","v":{"$error":"#VALUE!"}},{"$f":"IFERROR(MID('Data Input'!$A156,BJ79+2,2),\"\")","v":""},"","5",{"$f":"FIND(\" \"&BM79, 'Data Input'!$A156,BJ79+1)","v":{"$error":"#VALUE!"}},{"$f":"IFERROR(MID('Data Input'!$A156,BN79+2,2),\"\")","v":""},"","5",{"$f":"FIND(\" \"&BQ79, 'Data Input'!$A156,BN79+1)","v":{"$error":"#VALUE!"}},{"$f":"IFERROR(MID('Data Input'!$A156,BR79+2,2),\"\")","v":""},"","5",{"$f":"FIND(\" \"&BU79, 'Data Input'!$A156,BR79+1)","v":{"$error":"#VALUE!"}},{"$f":"IFERROR(MID('Data Input'!$A156,BV79+2,2),\"\")","v":""},"","5",{"$f":"FIND(\" \"&BY79, 'Data Input'!$A156,BV79+1)","v":{"$error":"#VALUE!"}},{"$f":"IFERROR(MID('Data Input'!$A156,BZ79+2,2),\"\")","v":""},"","6",{"$f":"FIND(\" \"&CC79, 'Data Input'!$A156,BZ79+1)","v":{"$error":"#VALUE!"}},{"$f":"IFERROR(MID('Data Input'!$A156,CD79+2,2),\"\")","v":""},"","6",{"$f":"FIND(\" \"&CG79, 'Data Input'!$A156,CD79+1)","v":{"$error":"#VALUE!"}},{"$f":"IFERROR(MID('Data Input'!$A156,CH79+2,2),\"\")","v":""},"","6",{"$f":"FIND(\" \"&CK79, 'Data Input'!$A156,CH79+1)","v":{"$error":"#VALUE!"}},{"$f":"IFERROR(MID('Data Input'!$A156,CL79+2,2),\"\")","v":""},"","6",{"$f":"FIND(\" \"&CO79, 'Data Input'!$A156,CL79+1)","v":{"$error":"#VALUE!"}},{"$f":"IFERROR(MID('Data Input'!$A156,CP79+2,2),\"\")","v":""},""]
["1",{"$f":"FIND(\" \"&A80, 'Data Input'!$A158)","v":{"$error":"#VALUE!"}},{"$f":"IFERROR(MID('Data Input'!$A158,B80+2,2),\"\")","v":""},"","1",{"$f":"FIND(\" \"&E80, 'Data Input'!$A158,B80+1)","v":{"$error":"#VALUE!"}},{"$f":"IFERROR(MID('Data Input'!$A158,F80+2,2),\"\")","v":""},"","1",{"$f":"FIND(\" \"&I80, 'Data Input'!$A158,F80+1)","v":{"$error":"#VALUE!"}},{"$f":"IFERROR(MID('Data Input'!$A158,J80+2,2),\"\")","v":""},"","1",{"$f":"FIND(\" \"&M80, 'Data Input'!$A158,J80+1)","v":{"$error":"#VALUE!"}},{"$f":"IFERROR(MID('Data Input'!$A158,N80+2,2),\"\")","v":""},"","2",{"$f":"FIND(\" \"&Q80, 'Data Input'!$A158,N80+1)","v":{"$error":"#VALUE!"}},{"$f":"IFERROR(MID('Data Input'!$A158,R80+2,2),\"\")","v":""},"","2",{"$f":"FIND(\" \"&U80, 'Data Input'!$A158,R80+1)","v":{"$error":"#VALUE!"}},{"$f":"IFERROR(MID('Data Input'!$A158,V80+2,2),\"\")","v":""},"","2",{"$f":"FIND(\" \"&Y80, 'Data Input'!$A158,V80+1)","v":{"$error":"#VALUE!"}},{"$f":"IFERROR(MID('Data Input'!$A158,Z80+2,2),\"\")","v":""},{"$f":"IFERROR(10*(99-AA80),\"\")","v":""},"2",{"$f":"FIND(\" \"&AC80, 'Data Input'!$A158,Z80+1)","v":{"$error":"#VALUE!"}},{"$f":"IFERROR(MID('Data Input'!$A158,AD80+2,2),\"\")","v":""},"","3",{"$f":"FIND(\" \"&AG80, 'Data Input'!$A158,AD80+1)","v":{"$error":"#VALUE!"}},{"$f":"IFERROR(MID('Data Input'!$A158,AH80+2,2),\"\")","v":""},"","3",{"$f":"FIND(\" \"&AK80, 'Data Input'!$A158,AH80+1)","v":{"$error":"#VALUE!"}},{"$f":"IFERROR(MID('Data Input'!$A158,AL80+2,2),\"\")","v":""},"","3",{"$f":"FIND(\" \"&AO80, 'Data Input'!$A158,AL80+1)","v":{"$error":"#VALUE!"}},{"$f":"IFERROR(MID('Data Input'!$A158,AP80+2,2),\"\")","v":""},"","3",{"$f":"FIND(\" \"&AS80, 'Data Input'!$A158,AP80+1)","v":{"$error":"#VALUE!"}},{"$f":"IFERROR(MID('Data Input'!$A158,AT80+2,2),\"\")","v":""},"","4",{"$f":"FIND(\" \"&AW80, 'Data Input'!$A158,AT80+1)","v":{"$error":"#VALUE!"}},{"$f":"IFERROR(MID('Data Input'!$A158,AX80+2,2),\"\")","v":""},"","4",{"$f":"FIND(\" \"&BA80, 'Data Input'!$A158,AX80+1)","v":{"$error":"#VALUE!"}},{"$f":"IFERROR(MID('Data Input'!$A158,BB80+2,2),\"\")","v":""},"","4",{"$f":"FIND(\" \"&BE80, 'Data Input'!$A158,BB80+1)","v":{"$error":"#VALUE!"}},{"$f":"IFERROR(MID('Data Input'!$A158,BF80+2,2),\"\")","v":""},"","4",{"$f":"FIND(\" \"&BI80, 'Data Input'!$A158,BF80+1)","v":{"$error":"#VALUE!"}},{"$f":"IFERROR(MID('Data Input'!$A158,BJ80+2,2),\"\")","v":""},"","5",{"$f":"FIND(\" \"&BM80, 'Data Input'!$A158,BJ80+1)","v":{"$error":"#VALUE!"}},{"$f":"IFERROR(MID('Data Input'!$A158,BN80+2,2),\"\")","v":""},"","5",{"$f":"FIND(\" \"&BQ80, 'Data Input'!$A158,BN80+1)","v":{"$error":"#VALUE!"}},{"$f":"IFERROR(MID('Data Input'!$A158,BR80+2,2),\"\")","v":""},"","5",{"$f":"FIND(\" \"&BU80, 'Data Input'!$A158,BR80+1)","v":{"$error":"#VALUE!"}},{"$f":"IFERROR(MID('Data Input'!$A158,BV80+2,2),\"\")","v":""},"","5",{"$f":"FIND(\" \"&BY80, 'Data Input'!$A158,BV80+1)","v":{"$error":"#VALUE!"}},{"$f":"IFERROR(MID('Data Input'!$A158,BZ80+2,2),\"\")","v":""},"","6",{"$f":"FIND(\" \"&CC80, 'Data Input'!$A158,BZ80+1)","v":{"$error":"#VALUE!"}},{"$f":"IFERROR(MID('Data Input'!$A158,CD80+2,2),\"\")","v":""},"","6",{"$f":"FIND(\" \"&CG80, 'Data Input'!$A158,CD80+1)","v":{"$error":"#VALUE!"}},{"$f":"IFERROR(MID('Data Input'!$A158,CH80+2,2),\"\")","v":""},"","6",{"$f":"FIND(\" \"&CK80, 'Data Input'!$A158,CH80+1)","v":{"$error":"#VALUE!"}},{"$f":"IFERROR(MID('Data Input'!$A158,CL80+2,2),\"\")","v":""},"","6",{"$f":"FIND(\" \"&CO80, 'Data Input'!$A158,CL80+1)","v":{"$error":"#VALUE!"}},{"$f":"IFERROR(MID('Data Input'!$A158,CP80+2,2),\"\")","v":""},""]

{"sheet":"Explanation","index":6,"n_rows":39,"n_cols":12,"rows_kept":39}
["Morse Code Telemetry Frame Decoder for AMSAT-OSCAR-7"]
["2002-06-23"]
["W3GEY/WD0E"]
[{"$nulls":4},"Original G3IOR"]
["MC TLM Channel:","Function:","TLM Count:","Analog Value:","Analog Value:","Units:","                   Comments:"]
["1A","Total Array Current",{"$f":"IFERROR(INDIRECT(\"TLM!C\"&$L$33),\"\")","v":"1A"},{"$f":"IFERROR(C6*29.5,\"\")","v":""},0,"ma","May have always been broken.  Not sure."]
["1B","+X Quad. Array I",{"$f":"IFERROR(INDIRECT(\"TLM!G\"&$L$33),\"\")","v":"1B"},{"$f":"IFERROR(1970-(20*C7),\"\")","v":""},450,"ma","Some biases in this data "]
["1C","-X Quad. Array I",{"$f":"IFERROR(INDIRECT(\"TLM!K\"&$L$33),\"\")","v":"1C"},{"$f":"IFERROR(B21970-(20*C8),\"\")","v":""},690,"ma","Some biases in this data "]
["1D","+Y Quad. Array I",{"$f":"IFERROR(INDIRECT(\"TLM!O\"&$L$33),\"\")","v":"1D"},{"$f":"IFERROR(B21970-(20*C9),\"\")","v":""},410,"ma","Some biases in this data "]
["2A","-Y Quad. Array I",{"$f":"IFERROR(INDIRECT(\"TLM!S\"&$L$33),\"\")","v":"2A"},{"$f":"IFERROR(1970-(20*C10),\"\")","v":""},370,"ma","Some biases in this data "]
["2B","70/2 Rptr RF Power Output ",{"$f":"IFERROR(INDIRECT(\"TLM!W\"&$L$33),\"\")","v":"2B"},{"$f":"IFERROR(8*(1-0.01*C11)^2,\"\")","v":""},1.16,"watts","Looks on low side of normal.  Not very active on 432 MHz!"]
["2C","24 Timer Value",{"$f":"IFERROR(INDIRECT(\"TLM!AA\"&$L$33),\"\")","v":"2C"},{"$f":"IFERROR(15.16*C12,\"\")","v":""},0,"hours","just reset or channel is broken"]
["2D","Battery Charge/Discharge I",{"$f":"IFERROR(INDIRECT(\"TLM!AE\"&$L$33),\"\")","v":"2D"},{"$f":"IFERROR(40*(C13-50),\"\")","v":""},160,"ma"]
["3A","Battery Voltage",{"$f":"IFERROR(INDIRECT(\"TLM!AI\"&$L$33),\"\")","v":"3A"},{"$f":"IFERROR(0.1*C14+6.4,\"\")","v":""},13.9,"V","May be measuring BCR output voltage with no battery load but, with spacecraft load"]
["3B","1/2 Battery Voltage",{"$f":"IFERROR(INDIRECT(\"TLM!AM\"&$L$33),\"\")","v":"3B"},{"$f":"IFERROR(0.1*C15,\"\")","v":""},5.8,"V"]
["3C","Battery Ch. Regulator #1 Voltage",{"$f":"IFERROR(INDIRECT(\"TLM!AQ\"&$L$33),\"\")","v":"3C"},{"$f":"IFERROR(0.15*C16,\"\")","v":""},4.65,"V","Normal for In-sun with Regulator #2 Selected"]
["3D","Battery Temperature",{"$f":"IFERROR(INDIRECT(\"TLM!AU\"&$L$33),\"\")","v":"3D"},{"$f":"IFERROR(95.8-1.48*C17,\"\")","v":""},15.9,"C"]
["4A","Baseplate Temp.",{"$f":"IFERROR(INDIRECT(\"TLM!AY\"&$L$33),\"\")","v":"4A"},"",14.4,"C"]
["4B","2/10 Rptr PA Temp. ",{"$f":"IFERROR(INDIRECT(\"TLM!BC\"&$L$33),\"\")","v":"4B"},"",15.9,"C"]
["4C","+X Quad. Array Temp.",{"$f":"IFERROR(INDIRECT(\"TLM!BG\"&$L$33),\"\")","v":"4C"},"",5.5,"C"]
["4D","+Z (S/C Top Plate) Temp.",{"$f":"IFERROR(INDIRECT(\"TLM!BK\"&$L$33),\"\")","v":"4D"},"",8.5,"C"]
["5A","70/2 Rptr PA Temp.",{"$f":"IFERROR(INDIRECT(\"TLM!BO\"&$L$33),\"\")","v":"5A"},"",35.1,"C","PA is working, this looks right, given other S/C temps."]
["5B","2/10 PA Emitter Current",{"$f":"IFERROR(INDIRECT(\"TLM!BS\"&$L$33),\"\")","v":"5B"},{"$f":"IFERROR(11.67*C23,\"\")","v":""},11.6,"ma","Probably means \"zero\" with a 1 count bias error"]
["5C","70/2 Modulator Temp.",{"$f":"IFERROR(INDIRECT(\"TLM!BW\"&$L$33),\"\")","v":"5C"},{"$f":"IFERROR(95.8-1.48*C24,\"\")","v":""},18.8,"C","This looks right."]
["5D","Inst. Swithing Regulator Input I",{"$f":"IFERROR(INDIRECT(\"TLM!CA\"&$L$33),\"\")","v":"5D"},{"$f":"IFERROR(11+0.82*C25,\"\")","v":""},35,"ma","This looks right."]
["6A","2/10 Rptr RF Power Output ",{"$f":"IFERROR(INDIRECT(\"TLM!CE\"&$L$33),\"\")","v":"6A"},{"$f":"IFERROR(C26^2/1.56,\"\")","v":""},0,"ma","Repeater is OFF, Normal"]
["6B","435MHz Beacon RF Power Out.",{"$f":"IFERROR(INDIRECT(\"TLM!CI\"&$L$33),\"\")","v":"6B"},{"$f":"IFERROR(0.1*C27^2+35,\"\")","v":""},0,"ma","Beacon is OFF, Normal"]
["6C","2304 MHz Beacon RF Pwr. Out.",{"$f":"IFERROR(INDIRECT(\"TLM!CM\"&$L$33),\"\")","v":"6C"},{"$f":"IFERROR(0.041*C28^2,\"\")","v":""},0,"ma","Beacon is OFF, Normal - Glad for this as it would be illegal"]
["6D","Midrange TLM Calibration Value",{"$f":"IFERROR(INDIRECT(\"TLM!CQ\"&$L$33),\"\")","v":"6D"},{"$f":"IFERROR(0.01*C29,\"\")","v":""},0.51,"V","Spec. = 0.50V +/- 0.1 V"]
[]
[]
[]
[{"$nulls":10},"ROW:",1]
[null,null,"1A - 1xx","1B - 1xx","1C - 1xx","1D - 1xx"]
[null,null,"2A - 1xx","2B - 2xx","2C - 2xx","2D - 2xx"]
[null,null,"3A - 3xx","3B - 3xx","3C - 3xx","3D - 3xx"]
[null,null,"4A - 4xx","4B - 4xx","4C - 4xx","4D - 4xx"]
[null,null,"5A - 5xx","5B - 5xx","5C - 5xx","5D - 5xx"]
[null,null,"6A - 6xx","6B - 6xx","6C - 6xx","6D - 6xx"]

{"sheet":"Sample Data","index":7,"n_rows":190,"n_cols":1,"rows_kept":190}
["17:32:44$ fm KU2Y-1 to CQ-1 UI PID=F0"]
["hi hi 114 199 199 199 299 299 299 264 320 350 300 300 446 400 400 400 500 500 500 500 600 600 600 650"]
["17:32:46$ fm KU2Y-1 to CQ-1 UI PID=F0"]
["hi hi 113 199 199 199 299 299 299 264 320 350 300 300 446 400 400 400 500 500 500 500 600 600 600 650"]
["17:32:49$ fm KU2Y-1 to CQ-1 UI PID=F0"]
["hi hi 114 199 199 199 299 299 299 264 320 350 300 300 446 400 400 400 500 500 500 500 600 600 600 649"]
["17:32:52$ fm KU2Y-1 to CQ-1 UI PID=F0"]
["hi hi 114 199 199 199 299 299 299 264 320 350 300 300 446 400 400 400 500 500 500 500 600 600 600 649"]
["17:32:55$ fm KU2Y-1 to CQ-1 UI PID=F0"]
["hi hi 114 199 199 199 299 299 299 264 319 350 300 300 446 400 400 400 500 500 500 500 600 600 600 651"]
["17:32:58$ fm KU2Y-1 to CQ-1 UI PID=F0"]
["hi hi 114 199 199 199 299 299 299 264 319 350 300 300 446 400 400 400 500 500 500 500 600 600 600 649"]
["17:33:01$ fm KU2Y-1 to CQ-1 UI PID=F0"]
["hi hi 114 199 199 199 299 299 299 264 319 350 300 300 446 400 400 400 500 500 500 500 600 600 600 651"]
["17:33:03$ fm KU2Y-1 to CQ-1 UI PID=F0"]
["hi hi 114 197 199 199 293 295 299 260 320 350 300 300 446 400 400 400 500 500 500 500 600 600 600 651"]
["17:33:06$ fm KU2Y-1 to CQ-1 UI PID=F0"]
["hi hi 114 199 199 199 291 293 299 259 320 350 300 300 446 400 400 400 500 500 500 500 600 600 600 650"]
["17:33:09$ fm KU2Y-1 to CQ-1 UI PID=F0"]
["hi hi 113 199 195 199 293 295 299 260 320 350 300 300 446 400 400 400 500 500 500 500 600 600 600 649"]
["17:33:12$ fm KU2Y-1 to CQ-1 UI PID=F0"]
["hi hi 113 199 189 199 298 298 299 260 320 350 300 300 446 400 400 400 500 500 500 500 600 600 600 650"]
["17:33:15$ fm KU2Y-1 to CQ-1 UI PID=F0"]
["hi hi 114 199 185 199 299 299 298 259 320 350 300 300 446 400 400 400 500 500 500 500 600 600 600 651"]
["17:33:18$ fm KU2Y-1 to CQ-1 UI PID=F0"]
["hi hi 114 199 184 199 299 299 297 258 320 350 300 300 446 400 400 400 500 500 500 500 600 600 600 649"]
["17:33:20$ fm KU2Y-1 to CQ-1 UI PID=F0"]
["hi hi 114 199 190 196 299 299 297 259 320 350 300 300 446 400 400 400 500 500 500 500 600 600 600 649"]
["17:33:23$ fm KU2Y-1 to CQ-1 UI PID=F0"]
["hi hi 114 199 195 193 299 299 297 260 320 350 300 300 446 400 400 400 500 500 500 500 600 600 600 649"]
["17:33:26$ fm KU2Y-1 to CQ-1 UI PID=F0"]
["hi hi 114 199 199 192 299 299 293 260 320 350 300 300 446 400 400 400 500 500 500 500 600 600 600 649"]
["17:33:29$ fm KU2Y-1 to CQ-1 UI PID=F0"]
["hi hi 114 199 199 192 299 299 294 260 320 350 300 300 446 400 400 400 500 500 500 500 600 600 600 651"]
["17:33:32$ fm KU2Y-1 to CQ-1 UI PID=F0"]
["hi hi 113 196 199 193 299 299 295 260 320 350 300 300 446 400 400 400 500 500 500 500 600 600 600 649"]
["17:33:34$ fm KU2Y-1 to CQ-1 UI PID=F0"]
["hi hi 114 191 199 196 299 299 297 260 320 350 300 300 446 400 400 400 500 500 500 500 600 600 600 651"]
["17:33:37$ fm KU2Y-1 to CQ-1 UI PID=F0"]
["hi hi 113 183 199 199 299 299 298 259 320 350 300 300 446 400 400 400 500 500 500 500 600 600 600 651"]
["17:33:40$ fm KU2Y-1 to CQ-1 UI PID=F0"]
["hi hi 114 182 199 199 299 299 299 258 320 350 300 300 446 400 400 400 500 500 500 500 600 600 600 649"]
["17:33:43$ fm KU2Y-1 to CQ-1 UI PID=F0"]
["hi hi 113 187 199 199 297 298 299 259 320 350 300 300 446 400 400 400 500 500 500 500 600 600 600 651"]
["17:33:46$ fm KU2Y-1 to CQ-1 UI PID=F0"]
["hi hi 114 196 199 199 293 295 299 260 319 350 300 300 446 400 400 400 500 500 500 500 600 600 600 650"]
["17:33:49$ fm KU2Y-1 to CQ-1 UI PID=F0"]
["hi hi 114 199 199 199 290 292 299 260 319 350 300 300 446 400 400 400 500 500 500 500 600 600 600 649"]
["17:33:51$ fm KU2Y-1 to CQ-1 UI PID=F0"]
["hi hi 114 199 198 199 291 294 299 259 319 350 300 300 446 400 400 400 500 500 500 500 600 600 600 649"]
["17:33:54$ fm KU2Y-1 to CQ-1 UI PID=F0"]
["hi hi 112 199 191 199 295 297 299 260 319 350 300 300 446 400 400 400 500 500 500 500 600 600 600 651"]
["17:33:57$ fm KU2Y-1 to CQ-1 UI PID=F0"]
["hi hi 114 199 186 199 299 299 299 260 319 350 300 300 446 400 400 400 500 500 500 500 600 600 600 651"]
["17:34:00$ fm KU2Y-1 to CQ-1 UI PID=F0"]
["hi hi 114 199 184 199 299 299 298 259 319 350 300 300 446 400 400 400 500 500 500 500 600 600 600 649"]
["17:34:03$ fm KU2Y-1 to CQ-1 UI PID=F0"]
["hi hi 114 199 188 198 299 299 297 259 319 350 300 300 446 400 400 400 500 500 500 500 600 600 600 649"]
["17:34:06$ fm KU2Y-1 to CQ-1 UI PID=F0"]
["hi hi 114 199 194 194 299 299 297 260 319 350 300 300 446 400 400 400 500 500 500 500 600 600 600 651"]
["17:34:09$ fm KU2Y-1 to CQ-1 UI PID=F0"]
["hi hi 113 199 198 192 299 299 293 260 319 350 300 300 446 400 400 400 500 500 500 500 600 600 600 651"]
["17:34:11$ fm KU2Y-1 to CQ-1 UI PID=F0"]
["hi hi 114 199 199 192 299 299 293 259 319 350 300 300 446 400 400 400 500 500 500 500 600 600 600 650"]
["17:34:14$ fm KU2Y-1 to CQ-1 UI PID=F0"]
["hi hi 114 197 199 193 299 299 299 260 319 350 300 300 446 400 400 400 500 500 500 500 600 600 600 649"]
["17:34:17$ fm KU2Y-1 to CQ-1 UI PID=F0"]
["hi hi 114 193 199 195 299 299 297 260 319 350 300 300 446 400 400 400 500 500 500 500 600 600 600 649"]
["17:34:20$ fm KU2Y-1 to CQ-1 UI PID=F0"]
["hi hi 114 186 199 198 299 299 297 259 319 350 300 300 446 400 400 400 500 500 500 500 600 600 600 651"]
["17:34:23$ fm KU2Y-1 to CQ-1 UI PID=F0"]
["hi hi 114 181 199 199 299 299 298 258 319 350 300 300 446 400 400 400 500 500 500 500 600 600 600 649"]
["17:34:25$ fm KU2Y-1 to CQ-1 UI PID=F0"]
["hi hi 114 184 199 199 298 298 299 259 319 350 300 300 446 400 400 400 500 500 500 500 600 600 600 650"]
["17:34:28$ fm KU2Y-1 to CQ-1 UI PID=F0"]
["hi hi 113 198 199 199 294 296 299 261 318 350 300 300 446 400 400 400 500 500 500 500 600 600 600 650"]
["17:34:31$ fm KU2Y-1 to CQ-1 UI PID=F0"]
["hi hi 114 199 199 199 289 297 299 260 318 350 300 300 446 400 400 400 500 500 500 500 600 600 600 650"]
["17:34:34$ fm KU2Y-1 to CQ-1 UI PID=F0"]
["hi hi 114 199 199 199 290 292 299 259 318 350 300 300 446 400 400 400 500 500 500 500 600 600 600 649"]
["17:34:37$ fm KU2Y-1 to CQ-1 UI PID=F0"]
["hi hi 113 199 197 199 293 295 299 260 318 350 300 300 445 400 400 400 500 500 500 500 600 600 600 649"]
["17:34:40$ fm KU2Y-1 to CQ-1 UI PID=F0"]
["hi hi 114 199 190 199 297 298 299 260 318 350 300 300 445 400 400 400 500 500 500 500 600 600 600 651"]
["17:34:42$ fm KU2Y-1 to CQ-1 UI PID=F0"]
["hi hi 113 199 185 199 299 299 298 259 318 350 300 300 445 400 400 400 500 500 500 500 600 600 600 649"]
["17:34:45$ fm KU2Y-1 to CQ-1 UI PID=F0"]
["hi hi 114 199 182 199 299 299 298 258 319 350 300 300 445 400 400 400 500 500 500 500 600 600 600 650"]
["17:34:48$ fm KU2Y-1 to CQ-1 UI PID=F0"]
["hi hi 114 199 189 197 299 299 297 259 318 350 300 300 445 400 400 400 500 500 500 500 600 600 600 651"]
["17:34:51$ fm KU2Y-1 to CQ-1 UI PID=F0"]
["hi hi 114 199 195 193 299 299 297 260 318 350 300 300 445 400 400 400 500 500 500 500 600 600 600 650"]
["17:34:54$ fm KU2Y-1 to CQ-1 UI PID=F0"]
["hi hi 114 199 199 191 299 299 291 259 318 350 300 300 445 400 400 400 500 500 500 500 600 600 600 651"]
["17:34:56$ fm KU2Y-1 to CQ-1 UI PID=F0"]
["hi hi 114 199 199 191 299 299 294 260 318 350 300 300 445 400 400 400 500 500 500 500 600 600 600 649"]
["17:34:59$ fm KU2Y-1 to CQ-1 UI PID=F0"]
["hi hi 113 196 199 193 299 299 295 260 318 350 300 300 445 400 400 400 500 500 500 500 600 600 600 651"]
["17:35:02$ fm KU2Y-1 to CQ-1 UI PID=F0"]
["hi hi 114 191 199 196 299 299 297 259 318 350 300 300 445 400 400 400 500 500 500 500 600 600 600 651"]
["17:35:05$ fm KU2Y-1 to CQ-1 UI PID=F0"]
["hi hi 114 185 199 199 299 299 298 259 318 350 300 300 445 400 400 400 500 500 500 500 600 600 600 649"]
["17:35:08$ fm KU2Y-1 to CQ-1 UI PID=F0"]
["hi hi 113 183 199 199 299 299 298 259 318 350 300 300 445 400 400 400 500 500 500 500 600 600 600 649"]
["17:35:10$ fm KU2Y-1 to CQ-1 UI PID=F0"]
["hi hi 114 187 199 199 297 298 299 259 318 350 300 300 445 400 400 400 500 500 500 500 600 600 600 650"]
["17:35:13$ fm KU2Y-1 to CQ-1 UI PID=F0"]
["hi hi 114 193 199 199 293 296 299 259 318 350 300 300 445 400 400 400 500 500 500 500 600 600 600 651"]
["17:35:16$ fm KU2Y-1 to CQ-1 UI PID=F0"]
["hi hi 114 199 199 199 290 293 299 259 318 350 300 300 445 400 400 400 500 500 500 500 600 600 600 650"]
["17:35:19$ fm KU2Y-1 to CQ-1 UI PID=F0"]
["hi hi 114 199 199 199 290 292 299 259 318 350 300 300 445 400 400 400 500 500 500 500 600 600 600 651"]
["17:35:22$ fm KU2Y-1 to CQ-1 UI PID=F0"]
["hi hi 113 199 194 199 294 296 299 260 317 350 300 300 445 400 400 400 500 500 500 500 600 600 600 651"]
["17:35:25$ fm KU2Y-1 to CQ-1 UI PID=F0"]
["hi hi 113 199 186 199 299 298 299 260 317 350 300 300 445 400 400 400 500 500 500 500 600 600 600 650"]
["17:35:27$ fm KU2Y-1 to CQ-1 UI PID=F0"]
["hi hi 114 199 182 199 299 299 298 259 318 350 300 300 445 400 400 400 500 500 500 500 600 600 600 649"]
["17:35:30$ fm KU2Y-1 to CQ-1 UI PID=F0"]
["hi hi 114 199 182 198 299 299 297 258 318 350 300 300 445 400 400 400 500 500 500 500 600 600 600 651"]
["17:35:33$ fm KU2Y-1 to CQ-1 UI PID=F0"]
["hi hi 115 199 190 195 299 299 297 259 317 350 300 300 445 400 400 400 500 500 500 500 600 600 600 650"]
["17:35:36$ fm KU2Y-1 to CQ-1 UI PID=F0"]
["hi hi 114 199 197 192 299 299 295 260 317 350 300 300 445 400 400 400 500 500 500 500 600 600 600 651"]
["17:35:39$ fm KU2Y-1 to CQ-1 UI PID=F0"]
["hi hi 114 199 199 191 299 299 293 260 317 350 300 300 445 400 400 400 500 500 500 500 600 600 600 650"]
["17:35:41$ fm KU2Y-1 to CQ-1 UI PID=F0"]
["hi hi 114 198 199 191 299 299 293 260 317 350 300 300 445 400 400 400 500 500 500 500 600 600 600 649"]
["17:35:44$ fm KU2Y-1 to CQ-1 UI PID=F0"]
["hi hi 114 195 199 193 299 299 295 260 317 350 300 300 445 400 400 400 500 500 500 500 600 600 600 649"]
["17:35:47$ fm KU2Y-1 to CQ-1 UI PID=F0"]
["hi hi 114 189 199 197 299 299 297 259 317 350 300 300 445 400 400 400 500 500 500 500 600 600 600 650"]
["17:35:50$ fm KU2Y-1 to CQ-1 UI PID=F0"]
["hi hi 114 180 199 199 299 299 298 258 318 350 300 300 445 400 400 400 500 500 500 500 600 600 600 649"]
["17:35:53$ fm KU2Y-1 to CQ-1 UI PID=F0"]
["hi hi 114 182 199 199 299 299 299 258 318 350 300 300 445 400 400 400 500 500 500 500 600 600 600 651"]
["17:35:55$ fm KU2Y-1 to CQ-1 UI PID=F0"]
["hi hi 114 188 199 199 295 297 299 259 317 350 300 300 445 400 400 400 500 500 500 500 600 600 600 649"]
["17:35:58$ fm KU2Y-1 to CQ-1 UI PID=F0"]
["hi hi 114 196 199 199 291 295 299 259 317 350 300 300 445 400 400 400 500 500 500 500 600 600 600 651"]
["17:36:01$ fm KU2Y-1 to CQ-1 UI PID=F0"]
["hi hi 114 199 199 199 290 291 299 259 317 350 300 300 445 400 400 400 500 500 500 500 600 600 600 649"]
["17:36:04$ fm KU2Y-1 to CQ-1 UI PID=F0"]
["hi hi 114 199 198 199 291 294 299 259 317 350 300 300 445 400 400 400 500 500 500 500 600 600 600 650"]
["17:36:07$ fm KU2Y-1 to CQ-1 UI PID=F0"]
["hi hi 114 199 191 199 295 297 299 260 317 350 300 300 445 400 400 400 500 500 500 500 600 600 600 649"]
["17:36:09$ fm KU2Y-1 to CQ-1 UI PID=F0"]
["hi hi 114 199 185 199 299 299 299 259 317 350 300 300 445 400 400 400 500 500 500 500 600 600 600 650"]
["17:36:12$ fm KU2Y-1 to CQ-1 UI PID=F0"]
["hi hi 113 199 182 199 299 299 298 258 317 350 300 300 445 400 400 400 500 500 500 500 600 600 600 651"]
["17:36:15$ fm KU2Y-1 to CQ-1 UI PID=F0"]
["hi hi 114 199 185 197 299 299 297 258 317 350 300 300 444 400 400 400 500 500 500 500 600 600 600 649"]
["17:36:18$ fm KU2Y-1 to CQ-1 UI PID=F0"]
["hi hi 113 199 193 194 299 299 297 260 317 350 300 300 444 400 400 400 500 500 500 500 600 600 600 649"]
["17:36:21$ fm KU2Y-1 to CQ-1 UI PID=F0"]
["hi hi 114 199 198 192 299 299 294 260 316 350 300 300 444 400 400 400 500 500 500 500 600 600 600 651"]
["17:36:23$ fm KU2Y-1 to CQ-1 UI PID=F0"]
["hi hi 113 199 199 191 299 299 293 260 316 350 300 300 444 400 400 400 500 500 500 500 600 600 600 650"]
["17:36:26$ fm KU2Y-1 to CQ-1 UI PID=F0"]
["hi hi 114 197 199 192 299 299 294 260 316 350 300 300 444 400 400 400 500 500 500 500 600 600 600 651"]
["17:36:29$ fm KU2Y-1 to CQ-1 UI PID=F0"]
["hi hi 114 192 199 195 299 299 295 260 316 350 300 300 444 400 400 400 500 500 500 500 600 600 600 651"]
["17:36:32$ fm KU2Y-1 to CQ-1 UI PID=F0"]
["hi hi 114 186 199 198 299 299 297 259 317 350 300 300 444 400 400 400 500 500 500 500 600 600 600 651"]
["17:36:35$ fm KU2Y-1 to CQ-1 UI PID=F0"]
["hi hi 114 181 199 199 299 299 298 258 317 350 300 300 444 400 400 400 500 500 500 500 600 600 600 650"]
["17:36:38$ fm KU2Y-1 to CQ-1 UI PID=F0"]
["hi hi 114 183 199 199 298 298 299 259 317 350 300 300 444 400 400 400 500 500 500 500 600 600 600 649"]
["17:36:40$ fm KU2Y-1 to CQ-1 UI PID=F0"]
["hi hi 113 191 199 199 294 296 299 259 316 350 300 300 444 400 400 400 500 500 500 500 600 600 600 651"]
["17:36:43$ fm KU2Y-1 to CQ-1 UI PID=F0"]
["hi hi 113 198 199 199 290 293 299 260 316 350 300 300 444 400 400 400 500 500 500 500 600 600 600 651"]
["17:36:46$ fm KU2Y-1 to CQ-1 UI PID=F0"]
["hi hi 113 199 199 199 290 291 299 259 316 350 300 300 444 400 400 400 500 500 500 500 600 600 600 649"]
["17:36:49$ fm KU2Y-1 to CQ-1 UI PID=F0"]
["hi hi 113 199 195 199 293 295 299 260 316 350 300 300 444 400 400 400 500 500 500 500 600 600 600 651"]
["17:36:51$ fm KU2Y-1 to CQ-1 UI PID=F0"]
["hi hi 114 199 189 199 299 298 299 260 316 350 300 300 444 400 400 400 500 500 500 500 600 600 600 649"]
["17:36:54$ fm KU2Y-1 to CQ-1 UI PID=F0"]
["hi hi 113 199 182 199 299 299 298 259 316 350 300 300 444 400 400 400 500 500 500 500 600 600 600 649"]
["17:36:57$ fm KU2Y-1 to CQ-1 UI PID=F0"]
["hi hi 113 199 182 199 299 299 297 258 316 350 300 300 444 400 400 400 500 500 500 500 600 600 600 650"]
["17:37:00$ fm KU2Y-1 to CQ-1 UI PID=F0"]
["hi hi 114 199 189 196 299 299 297 259 316 350 300 300 444 400 400 400 500 500 500 500 600 600 600 651"]
["17:37:03$ fm KU2Y-1 to CQ-1 UI PID=F0"]
["hi hi 114 199 195 193 299 299 297 260 316 350 300 300 444 400 400 400 500 500 500 500 600 600 600 650"]
["17:37:06$ fm KU2Y-1 to CQ-1 UI PID=F0"]
["hi hi 114 199 199 191 299 299 293 260 316 350 300 300 444 400 400 400 500 500 500 500 600 600 600 649"]
["17:37:08$ fm KU2Y-1 to CQ-1 UI PID=F0"]
["hi hi 113 199 199 191 299 299 299 260 316 350 300 300 444 400 400 400 500 500 500 500 600 600 600 649"]